BEGIN:VCALENDAR
VERSION:2.0
PRODID:-//Poulsbo Sportsman Club - ECPv6.15.20//NONSGML v1.0//EN
CALSCALE:GREGORIAN
METHOD:PUBLISH
X-ORIGINAL-URL:https://poulsbosportsmanclub.org
X-WR-CALDESC:Events for Poulsbo Sportsman Club
REFRESH-INTERVAL;VALUE=DURATION:PT1H
X-Robots-Tag:noindex
X-PUBLISHED-TTL:PT1H
BEGIN:VTIMEZONE
TZID:America/Los_Angeles
BEGIN:DAYLIGHT
TZOFFSETFROM:-0800
TZOFFSETTO:-0700
TZNAME:PDT
DTSTART:20270314T100000
END:DAYLIGHT
BEGIN:STANDARD
TZOFFSETFROM:-0700
TZOFFSETTO:-0800
TZNAME:PST
DTSTART:20271107T090000
END:STANDARD
BEGIN:DAYLIGHT
TZOFFSETFROM:-0800
TZOFFSETTO:-0700
TZNAME:PDT
DTSTART:20280312T100000
END:DAYLIGHT
BEGIN:STANDARD
TZOFFSETFROM:-0700
TZOFFSETTO:-0800
TZNAME:PST
DTSTART:20281105T090000
END:STANDARD
BEGIN:DAYLIGHT
TZOFFSETFROM:-0800
TZOFFSETTO:-0700
TZNAME:PDT
DTSTART:20290311T100000
END:DAYLIGHT
BEGIN:STANDARD
TZOFFSETFROM:-0700
TZOFFSETTO:-0800
TZNAME:PST
DTSTART:20291104T090000
END:STANDARD
END:VTIMEZONE
BEGIN:VEVENT
DTSTART;TZID=America/Los_Angeles:20280630T090000
DTEND;TZID=America/Los_Angeles:20280630T130000
DTSTAMP:20260422T030712
CREATED:20240925T031616Z
LAST-MODIFIED:20240925T031616Z
UID:10005658-1845968400-1845982800@poulsbosportsmanclub.org
SUMMARY:Shotgun/Trap Range
DESCRIPTION:
URL:https://poulsbosportsmanclub.org/event/shotgun-trap-range/2028-06-30/
CATEGORIES:Shotgun Range
END:VEVENT
BEGIN:VEVENT
DTSTART;TZID=America/Los_Angeles:20280701T090000
DTEND;TZID=America/Los_Angeles:20280701T140000
DTSTAMP:20260422T030712
CREATED:20210512T044813Z
LAST-MODIFIED:20210512T044813Z
UID:10003679-1846054800-1846072800@poulsbosportsmanclub.org
SUMMARY:Shotgun / 5 Stand
DESCRIPTION:Saturdays from 9am to 2pm
URL:https://poulsbosportsmanclub.org/event/shotgun-5-stand/2028-07-01/
LOCATION:Poulsbo Sportsman Club\, 16990 Clear Creek Road\, Poulsbo\, WA\, 98370\, United States
CATEGORIES:Range Activities
END:VEVENT
BEGIN:VEVENT
DTSTART;TZID=America/Los_Angeles:20280702T090000
DTEND;TZID=America/Los_Angeles:20280702T120000
DTSTAMP:20260422T030712
CREATED:20231016T154129Z
LAST-MODIFIED:20241125T172545Z
UID:10003826-1846141200-1846152000@poulsbosportsmanclub.org
SUMMARY:Bremerton Brigade Monthly Shoot
DESCRIPTION:Shooters meet at Black Powder range gazebo at 0900 for safety brief followed by the event. Winners determined after event which usually ends by noon unless a working party is called.
URL:https://poulsbosportsmanclub.org/event/black-powder-shoot-2-2021-10-03/2028-07-02/
LOCATION:Primitive Range\, 16990 Clear Creek Road\, Poulsbo\, 98370\, United States
CATEGORIES:Range Activities
END:VEVENT
BEGIN:VEVENT
DTSTART;TZID=America/Los_Angeles:20280704T183000
DTEND;TZID=America/Los_Angeles:20280704T193000
DTSTAMP:20260422T030712
CREATED:20240729T135302Z
LAST-MODIFIED:20240729T135302Z
UID:10005447-1846348200-1846351800@poulsbosportsmanclub.org
SUMMARY:General Membership Meeting
DESCRIPTION:Members only. Discuss club business. Identity needs and resources. Encourage participation and support from club members.
URL:https://poulsbosportsmanclub.org/event/general-membership-meeting/2028-07-04/
END:VEVENT
BEGIN:VEVENT
DTSTART;TZID=America/Los_Angeles:20280705T080000
DTEND;TZID=America/Los_Angeles:20280705T170000
DTSTAMP:20260422T030712
CREATED:20250617T014208Z
LAST-MODIFIED:20250617T014208Z
UID:10005846-1846396800-1846429200@poulsbosportsmanclub.org
SUMMARY:Women’s After Hours
DESCRIPTION:
URL:https://poulsbosportsmanclub.org/event/womens-after-hours-2/2028-07-05/
CATEGORIES:Range Activities
END:VEVENT
BEGIN:VEVENT
DTSTART;TZID=America/Los_Angeles:20280705T090000
DTEND;TZID=America/Los_Angeles:20280705T130000
DTSTAMP:20260422T030712
CREATED:20210512T044534Z
LAST-MODIFIED:20220109T180655Z
UID:10001557-1846400400-1846414800@poulsbosportsmanclub.org
SUMMARY:Shotgun/Trap
DESCRIPTION:9 am to 1 pm Wednesdays and Thursdays
URL:https://poulsbosportsmanclub.org/event/shotgun-trap/2028-07-05/
LOCATION:Poulsbo Sportsman Club\, 16990 Clear Creek Road\, Poulsbo\, WA\, 98370\, United States
CATEGORIES:Range Activities
END:VEVENT
BEGIN:VEVENT
DTSTART;TZID=America/Los_Angeles:20280706T090000
DTEND;TZID=America/Los_Angeles:20280706T130000
DTSTAMP:20260422T030712
CREATED:20210512T044534Z
LAST-MODIFIED:20220109T180655Z
UID:10001558-1846486800-1846501200@poulsbosportsmanclub.org
SUMMARY:Shotgun/Trap
DESCRIPTION:9 am to 1 pm Wednesdays and Thursdays
URL:https://poulsbosportsmanclub.org/event/shotgun-trap/2028-07-06/
LOCATION:Poulsbo Sportsman Club\, 16990 Clear Creek Road\, Poulsbo\, WA\, 98370\, United States
CATEGORIES:Range Activities
END:VEVENT
BEGIN:VEVENT
DTSTART;TZID=America/Los_Angeles:20280707T090000
DTEND;TZID=America/Los_Angeles:20280707T130000
DTSTAMP:20260422T030712
CREATED:20240925T031616Z
LAST-MODIFIED:20240925T031616Z
UID:10005659-1846573200-1846587600@poulsbosportsmanclub.org
SUMMARY:Shotgun/Trap Range
DESCRIPTION:
URL:https://poulsbosportsmanclub.org/event/shotgun-trap-range/2028-07-07/
CATEGORIES:Shotgun Range
END:VEVENT
BEGIN:VEVENT
DTSTART;TZID=America/Los_Angeles:20280708T090000
DTEND;TZID=America/Los_Angeles:20280708T123000
DTSTAMP:20260422T030712
CREATED:20231004T190924Z
LAST-MODIFIED:20240328T011118Z
UID:10003895-1846659600-1846672200@poulsbosportsmanclub.org
SUMMARY:Action Pistol Match
DESCRIPTION:Gate opens at 0800\nSign-in & Safety Briefing at 0830\nRange hot at 0900\nFees:  $5 \nPARTICIPANTS NEED TO BRING:\n– A safe\, functioning handgun (ALL CALIBERS WELCOME)\n– 50-100 rounds of ammunition\n– A holster that covers the gun’s trigger area\n– The entry fee (cash only)
URL:https://poulsbosportsmanclub.org/event/action-pistol-match-2/2028-07-08/
CATEGORIES:Range Activities
END:VEVENT
BEGIN:VEVENT
DTSTART;TZID=America/Los_Angeles:20280708T090000
DTEND;TZID=America/Los_Angeles:20280708T140000
DTSTAMP:20260422T030712
CREATED:20210512T044813Z
LAST-MODIFIED:20210512T044813Z
UID:10003680-1846659600-1846677600@poulsbosportsmanclub.org
SUMMARY:Shotgun / 5 Stand
DESCRIPTION:Saturdays from 9am to 2pm
URL:https://poulsbosportsmanclub.org/event/shotgun-5-stand/2028-07-08/
LOCATION:Poulsbo Sportsman Club\, 16990 Clear Creek Road\, Poulsbo\, WA\, 98370\, United States
CATEGORIES:Range Activities
END:VEVENT
BEGIN:VEVENT
DTSTART;TZID=America/Los_Angeles:20280712T090000
DTEND;TZID=America/Los_Angeles:20280712T130000
DTSTAMP:20260422T030712
CREATED:20210512T044534Z
LAST-MODIFIED:20220109T180655Z
UID:10001559-1847005200-1847019600@poulsbosportsmanclub.org
SUMMARY:Shotgun/Trap
DESCRIPTION:9 am to 1 pm Wednesdays and Thursdays
URL:https://poulsbosportsmanclub.org/event/shotgun-trap/2028-07-12/
LOCATION:Poulsbo Sportsman Club\, 16990 Clear Creek Road\, Poulsbo\, WA\, 98370\, United States
CATEGORIES:Range Activities
END:VEVENT
BEGIN:VEVENT
DTSTART;TZID=America/Los_Angeles:20280713T090000
DTEND;TZID=America/Los_Angeles:20280713T130000
DTSTAMP:20260422T030712
CREATED:20210512T044534Z
LAST-MODIFIED:20220109T180655Z
UID:10001560-1847091600-1847106000@poulsbosportsmanclub.org
SUMMARY:Shotgun/Trap
DESCRIPTION:9 am to 1 pm Wednesdays and Thursdays
URL:https://poulsbosportsmanclub.org/event/shotgun-trap/2028-07-13/
LOCATION:Poulsbo Sportsman Club\, 16990 Clear Creek Road\, Poulsbo\, WA\, 98370\, United States
CATEGORIES:Range Activities
END:VEVENT
BEGIN:VEVENT
DTSTART;TZID=America/Los_Angeles:20280714T090000
DTEND;TZID=America/Los_Angeles:20280714T130000
DTSTAMP:20260422T030712
CREATED:20240925T031616Z
LAST-MODIFIED:20240925T031616Z
UID:10005660-1847178000-1847192400@poulsbosportsmanclub.org
SUMMARY:Shotgun/Trap Range
DESCRIPTION:
URL:https://poulsbosportsmanclub.org/event/shotgun-trap-range/2028-07-14/
CATEGORIES:Shotgun Range
END:VEVENT
BEGIN:VEVENT
DTSTART;TZID=America/Los_Angeles:20280715T090000
DTEND;TZID=America/Los_Angeles:20280715T090000
DTSTAMP:20260422T030712
CREATED:20200116T223650Z
LAST-MODIFIED:20240402T020024Z
UID:10002112-1847264400-1847264400@poulsbosportsmanclub.org
SUMMARY:22 LR Silhouette - 100 and 200 yard range
DESCRIPTION:Silhouette | Poulsbo Sportsman Club
URL:https://poulsbosportsmanclub.org/event/22-lr-silhouette-100-and-200-yard-range-2-2022-06-18/2028-07-15/
CATEGORIES:Range Activities
END:VEVENT
BEGIN:VEVENT
DTSTART;TZID=America/Los_Angeles:20280715T090000
DTEND;TZID=America/Los_Angeles:20280715T140000
DTSTAMP:20260422T030712
CREATED:20210512T044813Z
LAST-MODIFIED:20210512T044813Z
UID:10003681-1847264400-1847282400@poulsbosportsmanclub.org
SUMMARY:Shotgun / 5 Stand
DESCRIPTION:Saturdays from 9am to 2pm
URL:https://poulsbosportsmanclub.org/event/shotgun-5-stand/2028-07-15/
LOCATION:Poulsbo Sportsman Club\, 16990 Clear Creek Road\, Poulsbo\, WA\, 98370\, United States
CATEGORIES:Range Activities
END:VEVENT
BEGIN:VEVENT
DTSTART;TZID=America/Los_Angeles:20280719T090000
DTEND;TZID=America/Los_Angeles:20280719T130000
DTSTAMP:20260422T030712
CREATED:20210512T044534Z
LAST-MODIFIED:20220109T180655Z
UID:10001561-1847610000-1847624400@poulsbosportsmanclub.org
SUMMARY:Shotgun/Trap
DESCRIPTION:9 am to 1 pm Wednesdays and Thursdays
URL:https://poulsbosportsmanclub.org/event/shotgun-trap/2028-07-19/
LOCATION:Poulsbo Sportsman Club\, 16990 Clear Creek Road\, Poulsbo\, WA\, 98370\, United States
CATEGORIES:Range Activities
END:VEVENT
BEGIN:VEVENT
DTSTART;TZID=America/Los_Angeles:20280719T170000
DTEND;TZID=America/Los_Angeles:20280719T190000
DTSTAMP:20260422T030712
CREATED:20250617T014026Z
LAST-MODIFIED:20250617T014026Z
UID:10005786-1847638800-1847646000@poulsbosportsmanclub.org
SUMMARY:Women’s After Hours
DESCRIPTION:
URL:https://poulsbosportsmanclub.org/event/womens-after-hours/2028-07-19/
CATEGORIES:Range Activities
END:VEVENT
BEGIN:VEVENT
DTSTART;TZID=America/Los_Angeles:20280719T180000
DTEND;TZID=America/Los_Angeles:20280719T200000
DTSTAMP:20260422T030712
CREATED:20201230T221706Z
LAST-MODIFIED:20220118T030956Z
UID:10003294-1847642400-1847649600@poulsbosportsmanclub.org
SUMMARY:Bremerton Brigade Meeting in Clubhouse
DESCRIPTION:
URL:https://poulsbosportsmanclub.org/event/bremerton-brigade-meeting-in-clubhouse/2028-07-19/
CATEGORIES:Range Activities
END:VEVENT
BEGIN:VEVENT
DTSTART;TZID=America/Los_Angeles:20280720T090000
DTEND;TZID=America/Los_Angeles:20280720T130000
DTSTAMP:20260422T030712
CREATED:20210512T044534Z
LAST-MODIFIED:20220109T180655Z
UID:10001562-1847696400-1847710800@poulsbosportsmanclub.org
SUMMARY:Shotgun/Trap
DESCRIPTION:9 am to 1 pm Wednesdays and Thursdays
URL:https://poulsbosportsmanclub.org/event/shotgun-trap/2028-07-20/
LOCATION:Poulsbo Sportsman Club\, 16990 Clear Creek Road\, Poulsbo\, WA\, 98370\, United States
CATEGORIES:Range Activities
END:VEVENT
BEGIN:VEVENT
DTSTART;TZID=America/Los_Angeles:20280721T090000
DTEND;TZID=America/Los_Angeles:20280721T130000
DTSTAMP:20260422T030712
CREATED:20240925T031616Z
LAST-MODIFIED:20240925T031616Z
UID:10005661-1847782800-1847797200@poulsbosportsmanclub.org
SUMMARY:Shotgun/Trap Range
DESCRIPTION:
URL:https://poulsbosportsmanclub.org/event/shotgun-trap-range/2028-07-21/
CATEGORIES:Shotgun Range
END:VEVENT
BEGIN:VEVENT
DTSTART;TZID=America/Los_Angeles:20280722T090000
DTEND;TZID=America/Los_Angeles:20280722T140000
DTSTAMP:20260422T030712
CREATED:20210512T044813Z
LAST-MODIFIED:20210512T044813Z
UID:10003682-1847869200-1847887200@poulsbosportsmanclub.org
SUMMARY:Shotgun / 5 Stand
DESCRIPTION:Saturdays from 9am to 2pm
URL:https://poulsbosportsmanclub.org/event/shotgun-5-stand/2028-07-22/
LOCATION:Poulsbo Sportsman Club\, 16990 Clear Creek Road\, Poulsbo\, WA\, 98370\, United States
CATEGORIES:Range Activities
END:VEVENT
BEGIN:VEVENT
DTSTART;TZID=America/Los_Angeles:20280723T090000
DTEND;TZID=America/Los_Angeles:20280723T120000
DTSTAMP:20260422T030712
CREATED:20260323T030837Z
LAST-MODIFIED:20260323T030837Z
UID:10005904-1847955600-1847966400@poulsbosportsmanclub.org
SUMMARY:Poulsbo Pistoleros Cowboy Action Shooters
DESCRIPTION:Sign-in starts at 9:00 \nEvent starts at 10:00
URL:https://poulsbosportsmanclub.org/event/poulsbo-pistoleros-cowboy-action-shooters/2028-07-23/
LOCATION:Poulsbo Sportsman Club\, 16990 Clear Creek Road\, Poulsbo\, WA\, 98370\, United States
CATEGORIES:Range Activities
END:VEVENT
BEGIN:VEVENT
DTSTART;TZID=America/Los_Angeles:20280726T090000
DTEND;TZID=America/Los_Angeles:20280726T130000
DTSTAMP:20260422T030712
CREATED:20210512T044534Z
LAST-MODIFIED:20220109T180655Z
UID:10001563-1848214800-1848229200@poulsbosportsmanclub.org
SUMMARY:Shotgun/Trap
DESCRIPTION:9 am to 1 pm Wednesdays and Thursdays
URL:https://poulsbosportsmanclub.org/event/shotgun-trap/2028-07-26/
LOCATION:Poulsbo Sportsman Club\, 16990 Clear Creek Road\, Poulsbo\, WA\, 98370\, United States
CATEGORIES:Range Activities
END:VEVENT
BEGIN:VEVENT
DTSTART;TZID=America/Los_Angeles:20280727T090000
DTEND;TZID=America/Los_Angeles:20280727T130000
DTSTAMP:20260422T030712
CREATED:20210512T044534Z
LAST-MODIFIED:20220109T180655Z
UID:10001564-1848301200-1848315600@poulsbosportsmanclub.org
SUMMARY:Shotgun/Trap
DESCRIPTION:9 am to 1 pm Wednesdays and Thursdays
URL:https://poulsbosportsmanclub.org/event/shotgun-trap/2028-07-27/
LOCATION:Poulsbo Sportsman Club\, 16990 Clear Creek Road\, Poulsbo\, WA\, 98370\, United States
CATEGORIES:Range Activities
END:VEVENT
BEGIN:VEVENT
DTSTART;TZID=America/Los_Angeles:20280728T090000
DTEND;TZID=America/Los_Angeles:20280728T130000
DTSTAMP:20260422T030712
CREATED:20240925T031616Z
LAST-MODIFIED:20240925T031616Z
UID:10005662-1848387600-1848402000@poulsbosportsmanclub.org
SUMMARY:Shotgun/Trap Range
DESCRIPTION:
URL:https://poulsbosportsmanclub.org/event/shotgun-trap-range/2028-07-28/
CATEGORIES:Shotgun Range
END:VEVENT
BEGIN:VEVENT
DTSTART;TZID=America/Los_Angeles:20280729T090000
DTEND;TZID=America/Los_Angeles:20280729T140000
DTSTAMP:20260422T030712
CREATED:20210512T044813Z
LAST-MODIFIED:20210512T044813Z
UID:10003683-1848474000-1848492000@poulsbosportsmanclub.org
SUMMARY:Shotgun / 5 Stand
DESCRIPTION:Saturdays from 9am to 2pm
URL:https://poulsbosportsmanclub.org/event/shotgun-5-stand/2028-07-29/
LOCATION:Poulsbo Sportsman Club\, 16990 Clear Creek Road\, Poulsbo\, WA\, 98370\, United States
CATEGORIES:Range Activities
END:VEVENT
BEGIN:VEVENT
DTSTART;TZID=America/Los_Angeles:20280801T183000
DTEND;TZID=America/Los_Angeles:20280801T193000
DTSTAMP:20260422T030712
CREATED:20240729T135302Z
LAST-MODIFIED:20240729T135302Z
UID:10005448-1848767400-1848771000@poulsbosportsmanclub.org
SUMMARY:General Membership Meeting
DESCRIPTION:Members only. Discuss club business. Identity needs and resources. Encourage participation and support from club members.
URL:https://poulsbosportsmanclub.org/event/general-membership-meeting/2028-08-01/
END:VEVENT
BEGIN:VEVENT
DTSTART;TZID=America/Los_Angeles:20280802T080000
DTEND;TZID=America/Los_Angeles:20280802T170000
DTSTAMP:20260422T030712
CREATED:20250617T014208Z
LAST-MODIFIED:20250617T014208Z
UID:10005847-1848816000-1848848400@poulsbosportsmanclub.org
SUMMARY:Women’s After Hours
DESCRIPTION:
URL:https://poulsbosportsmanclub.org/event/womens-after-hours-2/2028-08-02/
CATEGORIES:Range Activities
END:VEVENT
BEGIN:VEVENT
DTSTART;TZID=America/Los_Angeles:20280802T090000
DTEND;TZID=America/Los_Angeles:20280802T130000
DTSTAMP:20260422T030712
CREATED:20210512T044534Z
LAST-MODIFIED:20220109T180655Z
UID:10001565-1848819600-1848834000@poulsbosportsmanclub.org
SUMMARY:Shotgun/Trap
DESCRIPTION:9 am to 1 pm Wednesdays and Thursdays
URL:https://poulsbosportsmanclub.org/event/shotgun-trap/2028-08-02/
LOCATION:Poulsbo Sportsman Club\, 16990 Clear Creek Road\, Poulsbo\, WA\, 98370\, United States
CATEGORIES:Range Activities
END:VEVENT
BEGIN:VEVENT
DTSTART;TZID=America/Los_Angeles:20280803T090000
DTEND;TZID=America/Los_Angeles:20280803T130000
DTSTAMP:20260422T030712
CREATED:20210512T044534Z
LAST-MODIFIED:20220109T180655Z
UID:10001566-1848906000-1848920400@poulsbosportsmanclub.org
SUMMARY:Shotgun/Trap
DESCRIPTION:9 am to 1 pm Wednesdays and Thursdays
URL:https://poulsbosportsmanclub.org/event/shotgun-trap/2028-08-03/
LOCATION:Poulsbo Sportsman Club\, 16990 Clear Creek Road\, Poulsbo\, WA\, 98370\, United States
CATEGORIES:Range Activities
END:VEVENT
END:VCALENDAR