BEGIN:VCALENDAR
VERSION:2.0
PRODID:-//Poulsbo Sportsman Club - ECPv6.15.20//NONSGML v1.0//EN
CALSCALE:GREGORIAN
METHOD:PUBLISH
X-ORIGINAL-URL:https://poulsbosportsmanclub.org
X-WR-CALDESC:Events for Poulsbo Sportsman Club
REFRESH-INTERVAL;VALUE=DURATION:PT1H
X-Robots-Tag:noindex
X-PUBLISHED-TTL:PT1H
BEGIN:VTIMEZONE
TZID:America/Los_Angeles
BEGIN:DAYLIGHT
TZOFFSETFROM:-0800
TZOFFSETTO:-0700
TZNAME:PDT
DTSTART:20260308T100000
END:DAYLIGHT
BEGIN:STANDARD
TZOFFSETFROM:-0700
TZOFFSETTO:-0800
TZNAME:PST
DTSTART:20261101T090000
END:STANDARD
BEGIN:DAYLIGHT
TZOFFSETFROM:-0800
TZOFFSETTO:-0700
TZNAME:PDT
DTSTART:20270314T100000
END:DAYLIGHT
BEGIN:STANDARD
TZOFFSETFROM:-0700
TZOFFSETTO:-0800
TZNAME:PST
DTSTART:20271107T090000
END:STANDARD
BEGIN:DAYLIGHT
TZOFFSETFROM:-0800
TZOFFSETTO:-0700
TZNAME:PDT
DTSTART:20280312T100000
END:DAYLIGHT
BEGIN:STANDARD
TZOFFSETFROM:-0700
TZOFFSETTO:-0800
TZNAME:PST
DTSTART:20281105T090000
END:STANDARD
END:VTIMEZONE
BEGIN:VEVENT
DTSTART;TZID=America/Los_Angeles:20270709T090000
DTEND;TZID=America/Los_Angeles:20270709T130000
DTSTAMP:20260420T093843
CREATED:20240925T031616Z
LAST-MODIFIED:20240925T031616Z
UID:10005607-1815123600-1815138000@poulsbosportsmanclub.org
SUMMARY:Shotgun/Trap Range
DESCRIPTION:
URL:https://poulsbosportsmanclub.org/event/shotgun-trap-range/2027-07-09/
CATEGORIES:Shotgun Range
END:VEVENT
BEGIN:VEVENT
DTSTART;TZID=America/Los_Angeles:20270710T090000
DTEND;TZID=America/Los_Angeles:20270710T123000
DTSTAMP:20260420T093843
CREATED:20231004T190924Z
LAST-MODIFIED:20240328T011118Z
UID:10003883-1815210000-1815222600@poulsbosportsmanclub.org
SUMMARY:Action Pistol Match
DESCRIPTION:Gate opens at 0800\nSign-in & Safety Briefing at 0830\nRange hot at 0900\nFees:  $5 \nPARTICIPANTS NEED TO BRING:\n– A safe\, functioning handgun (ALL CALIBERS WELCOME)\n– 50-100 rounds of ammunition\n– A holster that covers the gun’s trigger area\n– The entry fee (cash only)
URL:https://poulsbosportsmanclub.org/event/action-pistol-match-2/2027-07-10/
CATEGORIES:Range Activities
END:VEVENT
BEGIN:VEVENT
DTSTART;TZID=America/Los_Angeles:20270710T090000
DTEND;TZID=America/Los_Angeles:20270710T140000
DTSTAMP:20260420T093843
CREATED:20210512T044813Z
LAST-MODIFIED:20210512T044813Z
UID:10003628-1815210000-1815228000@poulsbosportsmanclub.org
SUMMARY:Shotgun / 5 Stand
DESCRIPTION:Saturdays from 9am to 2pm
URL:https://poulsbosportsmanclub.org/event/shotgun-5-stand/2027-07-10/
LOCATION:Poulsbo Sportsman Club\, 16990 Clear Creek Road\, Poulsbo\, WA\, 98370\, United States
CATEGORIES:Range Activities
END:VEVENT
BEGIN:VEVENT
DTSTART;TZID=America/Los_Angeles:20270714T090000
DTEND;TZID=America/Los_Angeles:20270714T130000
DTSTAMP:20260420T093843
CREATED:20210512T044534Z
LAST-MODIFIED:20220109T180655Z
UID:10001455-1815555600-1815570000@poulsbosportsmanclub.org
SUMMARY:Shotgun/Trap
DESCRIPTION:9 am to 1 pm Wednesdays and Thursdays
URL:https://poulsbosportsmanclub.org/event/shotgun-trap/2027-07-14/
LOCATION:Poulsbo Sportsman Club\, 16990 Clear Creek Road\, Poulsbo\, WA\, 98370\, United States
CATEGORIES:Range Activities
END:VEVENT
BEGIN:VEVENT
DTSTART;TZID=America/Los_Angeles:20270715T090000
DTEND;TZID=America/Los_Angeles:20270715T130000
DTSTAMP:20260420T093843
CREATED:20210512T044534Z
LAST-MODIFIED:20220109T180655Z
UID:10001456-1815642000-1815656400@poulsbosportsmanclub.org
SUMMARY:Shotgun/Trap
DESCRIPTION:9 am to 1 pm Wednesdays and Thursdays
URL:https://poulsbosportsmanclub.org/event/shotgun-trap/2027-07-15/
LOCATION:Poulsbo Sportsman Club\, 16990 Clear Creek Road\, Poulsbo\, WA\, 98370\, United States
CATEGORIES:Range Activities
END:VEVENT
BEGIN:VEVENT
DTSTART;TZID=America/Los_Angeles:20270716T090000
DTEND;TZID=America/Los_Angeles:20270716T130000
DTSTAMP:20260420T093843
CREATED:20240925T031616Z
LAST-MODIFIED:20240925T031616Z
UID:10005608-1815728400-1815742800@poulsbosportsmanclub.org
SUMMARY:Shotgun/Trap Range
DESCRIPTION:
URL:https://poulsbosportsmanclub.org/event/shotgun-trap-range/2027-07-16/
CATEGORIES:Shotgun Range
END:VEVENT
BEGIN:VEVENT
DTSTART;TZID=America/Los_Angeles:20270717T090000
DTEND;TZID=America/Los_Angeles:20270717T090000
DTSTAMP:20260420T093843
CREATED:20200116T223650Z
LAST-MODIFIED:20240402T020024Z
UID:10002100-1815814800-1815814800@poulsbosportsmanclub.org
SUMMARY:22 LR Silhouette - 100 and 200 yard range
DESCRIPTION:Silhouette | Poulsbo Sportsman Club
URL:https://poulsbosportsmanclub.org/event/22-lr-silhouette-100-and-200-yard-range-2-2022-06-18/2027-07-17/
CATEGORIES:Range Activities
END:VEVENT
BEGIN:VEVENT
DTSTART;TZID=America/Los_Angeles:20270717T090000
DTEND;TZID=America/Los_Angeles:20270717T140000
DTSTAMP:20260420T093843
CREATED:20210512T044813Z
LAST-MODIFIED:20210512T044813Z
UID:10003629-1815814800-1815832800@poulsbosportsmanclub.org
SUMMARY:Shotgun / 5 Stand
DESCRIPTION:Saturdays from 9am to 2pm
URL:https://poulsbosportsmanclub.org/event/shotgun-5-stand/2027-07-17/
LOCATION:Poulsbo Sportsman Club\, 16990 Clear Creek Road\, Poulsbo\, WA\, 98370\, United States
CATEGORIES:Range Activities
END:VEVENT
BEGIN:VEVENT
DTSTART;TZID=America/Los_Angeles:20270721T090000
DTEND;TZID=America/Los_Angeles:20270721T130000
DTSTAMP:20260420T093843
CREATED:20210512T044534Z
LAST-MODIFIED:20220109T180655Z
UID:10001457-1816160400-1816174800@poulsbosportsmanclub.org
SUMMARY:Shotgun/Trap
DESCRIPTION:9 am to 1 pm Wednesdays and Thursdays
URL:https://poulsbosportsmanclub.org/event/shotgun-trap/2027-07-21/
LOCATION:Poulsbo Sportsman Club\, 16990 Clear Creek Road\, Poulsbo\, WA\, 98370\, United States
CATEGORIES:Range Activities
END:VEVENT
BEGIN:VEVENT
DTSTART;TZID=America/Los_Angeles:20270721T170000
DTEND;TZID=America/Los_Angeles:20270721T190000
DTSTAMP:20260420T093843
CREATED:20250617T014026Z
LAST-MODIFIED:20250617T014026Z
UID:10005774-1816189200-1816196400@poulsbosportsmanclub.org
SUMMARY:Women’s After Hours
DESCRIPTION:
URL:https://poulsbosportsmanclub.org/event/womens-after-hours/2027-07-21/
CATEGORIES:Range Activities
END:VEVENT
BEGIN:VEVENT
DTSTART;TZID=America/Los_Angeles:20270721T180000
DTEND;TZID=America/Los_Angeles:20270721T200000
DTSTAMP:20260420T093843
CREATED:20201230T221706Z
LAST-MODIFIED:20220118T030956Z
UID:10003282-1816192800-1816200000@poulsbosportsmanclub.org
SUMMARY:Bremerton Brigade Meeting in Clubhouse
DESCRIPTION:
URL:https://poulsbosportsmanclub.org/event/bremerton-brigade-meeting-in-clubhouse/2027-07-21/
CATEGORIES:Range Activities
END:VEVENT
BEGIN:VEVENT
DTSTART;TZID=America/Los_Angeles:20270722T090000
DTEND;TZID=America/Los_Angeles:20270722T130000
DTSTAMP:20260420T093843
CREATED:20210512T044534Z
LAST-MODIFIED:20220109T180655Z
UID:10001458-1816246800-1816261200@poulsbosportsmanclub.org
SUMMARY:Shotgun/Trap
DESCRIPTION:9 am to 1 pm Wednesdays and Thursdays
URL:https://poulsbosportsmanclub.org/event/shotgun-trap/2027-07-22/
LOCATION:Poulsbo Sportsman Club\, 16990 Clear Creek Road\, Poulsbo\, WA\, 98370\, United States
CATEGORIES:Range Activities
END:VEVENT
BEGIN:VEVENT
DTSTART;TZID=America/Los_Angeles:20270723T090000
DTEND;TZID=America/Los_Angeles:20270723T130000
DTSTAMP:20260420T093843
CREATED:20240925T031616Z
LAST-MODIFIED:20240925T031616Z
UID:10005609-1816333200-1816347600@poulsbosportsmanclub.org
SUMMARY:Shotgun/Trap Range
DESCRIPTION:
URL:https://poulsbosportsmanclub.org/event/shotgun-trap-range/2027-07-23/
CATEGORIES:Shotgun Range
END:VEVENT
BEGIN:VEVENT
DTSTART;TZID=America/Los_Angeles:20270724T090000
DTEND;TZID=America/Los_Angeles:20270724T140000
DTSTAMP:20260420T093843
CREATED:20210512T044813Z
LAST-MODIFIED:20210512T044813Z
UID:10003630-1816419600-1816437600@poulsbosportsmanclub.org
SUMMARY:Shotgun / 5 Stand
DESCRIPTION:Saturdays from 9am to 2pm
URL:https://poulsbosportsmanclub.org/event/shotgun-5-stand/2027-07-24/
LOCATION:Poulsbo Sportsman Club\, 16990 Clear Creek Road\, Poulsbo\, WA\, 98370\, United States
CATEGORIES:Range Activities
END:VEVENT
BEGIN:VEVENT
DTSTART;TZID=America/Los_Angeles:20270725T090000
DTEND;TZID=America/Los_Angeles:20270725T120000
DTSTAMP:20260420T093843
CREATED:20260323T030837Z
LAST-MODIFIED:20260323T030837Z
UID:10005892-1816506000-1816516800@poulsbosportsmanclub.org
SUMMARY:Poulsbo Pistoleros Cowboy Action Shooters
DESCRIPTION:Sign-in starts at 9:00 \nEvent starts at 10:00
URL:https://poulsbosportsmanclub.org/event/poulsbo-pistoleros-cowboy-action-shooters/2027-07-25/
LOCATION:Poulsbo Sportsman Club\, 16990 Clear Creek Road\, Poulsbo\, WA\, 98370\, United States
CATEGORIES:Range Activities
END:VEVENT
BEGIN:VEVENT
DTSTART;TZID=America/Los_Angeles:20270728T090000
DTEND;TZID=America/Los_Angeles:20270728T130000
DTSTAMP:20260420T093843
CREATED:20210512T044534Z
LAST-MODIFIED:20220109T180655Z
UID:10001459-1816765200-1816779600@poulsbosportsmanclub.org
SUMMARY:Shotgun/Trap
DESCRIPTION:9 am to 1 pm Wednesdays and Thursdays
URL:https://poulsbosportsmanclub.org/event/shotgun-trap/2027-07-28/
LOCATION:Poulsbo Sportsman Club\, 16990 Clear Creek Road\, Poulsbo\, WA\, 98370\, United States
CATEGORIES:Range Activities
END:VEVENT
BEGIN:VEVENT
DTSTART;TZID=America/Los_Angeles:20270729T090000
DTEND;TZID=America/Los_Angeles:20270729T130000
DTSTAMP:20260420T093843
CREATED:20210512T044534Z
LAST-MODIFIED:20220109T180655Z
UID:10001460-1816851600-1816866000@poulsbosportsmanclub.org
SUMMARY:Shotgun/Trap
DESCRIPTION:9 am to 1 pm Wednesdays and Thursdays
URL:https://poulsbosportsmanclub.org/event/shotgun-trap/2027-07-29/
LOCATION:Poulsbo Sportsman Club\, 16990 Clear Creek Road\, Poulsbo\, WA\, 98370\, United States
CATEGORIES:Range Activities
END:VEVENT
BEGIN:VEVENT
DTSTART;TZID=America/Los_Angeles:20270730T090000
DTEND;TZID=America/Los_Angeles:20270730T130000
DTSTAMP:20260420T093843
CREATED:20240925T031616Z
LAST-MODIFIED:20240925T031616Z
UID:10005610-1816938000-1816952400@poulsbosportsmanclub.org
SUMMARY:Shotgun/Trap Range
DESCRIPTION:
URL:https://poulsbosportsmanclub.org/event/shotgun-trap-range/2027-07-30/
CATEGORIES:Shotgun Range
END:VEVENT
BEGIN:VEVENT
DTSTART;TZID=America/Los_Angeles:20270731T090000
DTEND;TZID=America/Los_Angeles:20270731T140000
DTSTAMP:20260420T093843
CREATED:20210512T044813Z
LAST-MODIFIED:20210512T044813Z
UID:10003631-1817024400-1817042400@poulsbosportsmanclub.org
SUMMARY:Shotgun / 5 Stand
DESCRIPTION:Saturdays from 9am to 2pm
URL:https://poulsbosportsmanclub.org/event/shotgun-5-stand/2027-07-31/
LOCATION:Poulsbo Sportsman Club\, 16990 Clear Creek Road\, Poulsbo\, WA\, 98370\, United States
CATEGORIES:Range Activities
END:VEVENT
BEGIN:VEVENT
DTSTART;TZID=America/Los_Angeles:20270801T090000
DTEND;TZID=America/Los_Angeles:20270801T120000
DTSTAMP:20260420T093843
CREATED:20231016T154129Z
LAST-MODIFIED:20241125T172545Z
UID:10003815-1817110800-1817121600@poulsbosportsmanclub.org
SUMMARY:Bremerton Brigade Monthly Shoot
DESCRIPTION:Shooters meet at Black Powder range gazebo at 0900 for safety brief followed by the event. Winners determined after event which usually ends by noon unless a working party is called.
URL:https://poulsbosportsmanclub.org/event/black-powder-shoot-2-2021-10-03/2027-08-01/
LOCATION:Primitive Range\, 16990 Clear Creek Road\, Poulsbo\, 98370\, United States
CATEGORIES:Range Activities
END:VEVENT
BEGIN:VEVENT
DTSTART;TZID=America/Los_Angeles:20270803T183000
DTEND;TZID=America/Los_Angeles:20270803T193000
DTSTAMP:20260420T093843
CREATED:20240729T135302Z
LAST-MODIFIED:20240729T135302Z
UID:10005436-1817317800-1817321400@poulsbosportsmanclub.org
SUMMARY:General Membership Meeting
DESCRIPTION:Members only. Discuss club business. Identity needs and resources. Encourage participation and support from club members.
URL:https://poulsbosportsmanclub.org/event/general-membership-meeting/2027-08-03/
END:VEVENT
BEGIN:VEVENT
DTSTART;TZID=America/Los_Angeles:20270804T080000
DTEND;TZID=America/Los_Angeles:20270804T170000
DTSTAMP:20260420T093843
CREATED:20250617T014208Z
LAST-MODIFIED:20250617T014208Z
UID:10005835-1817366400-1817398800@poulsbosportsmanclub.org
SUMMARY:Women’s After Hours
DESCRIPTION:
URL:https://poulsbosportsmanclub.org/event/womens-after-hours-2/2027-08-04/
CATEGORIES:Range Activities
END:VEVENT
BEGIN:VEVENT
DTSTART;TZID=America/Los_Angeles:20270804T090000
DTEND;TZID=America/Los_Angeles:20270804T130000
DTSTAMP:20260420T093843
CREATED:20210512T044534Z
LAST-MODIFIED:20220109T180655Z
UID:10001461-1817370000-1817384400@poulsbosportsmanclub.org
SUMMARY:Shotgun/Trap
DESCRIPTION:9 am to 1 pm Wednesdays and Thursdays
URL:https://poulsbosportsmanclub.org/event/shotgun-trap/2027-08-04/
LOCATION:Poulsbo Sportsman Club\, 16990 Clear Creek Road\, Poulsbo\, WA\, 98370\, United States
CATEGORIES:Range Activities
END:VEVENT
BEGIN:VEVENT
DTSTART;TZID=America/Los_Angeles:20270805T090000
DTEND;TZID=America/Los_Angeles:20270805T130000
DTSTAMP:20260420T093843
CREATED:20210512T044534Z
LAST-MODIFIED:20220109T180655Z
UID:10001462-1817456400-1817470800@poulsbosportsmanclub.org
SUMMARY:Shotgun/Trap
DESCRIPTION:9 am to 1 pm Wednesdays and Thursdays
URL:https://poulsbosportsmanclub.org/event/shotgun-trap/2027-08-05/
LOCATION:Poulsbo Sportsman Club\, 16990 Clear Creek Road\, Poulsbo\, WA\, 98370\, United States
CATEGORIES:Range Activities
END:VEVENT
BEGIN:VEVENT
DTSTART;TZID=America/Los_Angeles:20270806T090000
DTEND;TZID=America/Los_Angeles:20270806T130000
DTSTAMP:20260420T093843
CREATED:20240925T031616Z
LAST-MODIFIED:20240925T031616Z
UID:10005611-1817542800-1817557200@poulsbosportsmanclub.org
SUMMARY:Shotgun/Trap Range
DESCRIPTION:
URL:https://poulsbosportsmanclub.org/event/shotgun-trap-range/2027-08-06/
CATEGORIES:Shotgun Range
END:VEVENT
BEGIN:VEVENT
DTSTART;TZID=America/Los_Angeles:20270807T090000
DTEND;TZID=America/Los_Angeles:20270807T140000
DTSTAMP:20260420T093843
CREATED:20210512T044813Z
LAST-MODIFIED:20210512T044813Z
UID:10003632-1817629200-1817647200@poulsbosportsmanclub.org
SUMMARY:Shotgun / 5 Stand
DESCRIPTION:Saturdays from 9am to 2pm
URL:https://poulsbosportsmanclub.org/event/shotgun-5-stand/2027-08-07/
LOCATION:Poulsbo Sportsman Club\, 16990 Clear Creek Road\, Poulsbo\, WA\, 98370\, United States
CATEGORIES:Range Activities
END:VEVENT
BEGIN:VEVENT
DTSTART;TZID=America/Los_Angeles:20270811T090000
DTEND;TZID=America/Los_Angeles:20270811T130000
DTSTAMP:20260420T093843
CREATED:20210512T044534Z
LAST-MODIFIED:20220109T180655Z
UID:10001463-1817974800-1817989200@poulsbosportsmanclub.org
SUMMARY:Shotgun/Trap
DESCRIPTION:9 am to 1 pm Wednesdays and Thursdays
URL:https://poulsbosportsmanclub.org/event/shotgun-trap/2027-08-11/
LOCATION:Poulsbo Sportsman Club\, 16990 Clear Creek Road\, Poulsbo\, WA\, 98370\, United States
CATEGORIES:Range Activities
END:VEVENT
BEGIN:VEVENT
DTSTART;TZID=America/Los_Angeles:20270812T090000
DTEND;TZID=America/Los_Angeles:20270812T130000
DTSTAMP:20260420T093843
CREATED:20210512T044534Z
LAST-MODIFIED:20220109T180655Z
UID:10001464-1818061200-1818075600@poulsbosportsmanclub.org
SUMMARY:Shotgun/Trap
DESCRIPTION:9 am to 1 pm Wednesdays and Thursdays
URL:https://poulsbosportsmanclub.org/event/shotgun-trap/2027-08-12/
LOCATION:Poulsbo Sportsman Club\, 16990 Clear Creek Road\, Poulsbo\, WA\, 98370\, United States
CATEGORIES:Range Activities
END:VEVENT
BEGIN:VEVENT
DTSTART;TZID=America/Los_Angeles:20270813T090000
DTEND;TZID=America/Los_Angeles:20270813T130000
DTSTAMP:20260420T093844
CREATED:20240925T031616Z
LAST-MODIFIED:20240925T031616Z
UID:10005612-1818147600-1818162000@poulsbosportsmanclub.org
SUMMARY:Shotgun/Trap Range
DESCRIPTION:
URL:https://poulsbosportsmanclub.org/event/shotgun-trap-range/2027-08-13/
CATEGORIES:Shotgun Range
END:VEVENT
BEGIN:VEVENT
DTSTART;TZID=America/Los_Angeles:20270814T090000
DTEND;TZID=America/Los_Angeles:20270814T123000
DTSTAMP:20260420T093844
CREATED:20231004T190924Z
LAST-MODIFIED:20240328T011118Z
UID:10003884-1818234000-1818246600@poulsbosportsmanclub.org
SUMMARY:Action Pistol Match
DESCRIPTION:Gate opens at 0800\nSign-in & Safety Briefing at 0830\nRange hot at 0900\nFees:  $5 \nPARTICIPANTS NEED TO BRING:\n– A safe\, functioning handgun (ALL CALIBERS WELCOME)\n– 50-100 rounds of ammunition\n– A holster that covers the gun’s trigger area\n– The entry fee (cash only)
URL:https://poulsbosportsmanclub.org/event/action-pistol-match-2/2027-08-14/
CATEGORIES:Range Activities
END:VEVENT
END:VCALENDAR