BEGIN:VCALENDAR
VERSION:2.0
PRODID:-//Poulsbo Sportsman Club - ECPv6.15.20//NONSGML v1.0//EN
CALSCALE:GREGORIAN
METHOD:PUBLISH
X-ORIGINAL-URL:https://poulsbosportsmanclub.org
X-WR-CALDESC:Events for Poulsbo Sportsman Club
REFRESH-INTERVAL;VALUE=DURATION:PT1H
X-Robots-Tag:noindex
X-PUBLISHED-TTL:PT1H
BEGIN:VTIMEZONE
TZID:America/Los_Angeles
BEGIN:DAYLIGHT
TZOFFSETFROM:-0800
TZOFFSETTO:-0700
TZNAME:PDT
DTSTART:20260308T100000
END:DAYLIGHT
BEGIN:STANDARD
TZOFFSETFROM:-0700
TZOFFSETTO:-0800
TZNAME:PST
DTSTART:20261101T090000
END:STANDARD
BEGIN:DAYLIGHT
TZOFFSETFROM:-0800
TZOFFSETTO:-0700
TZNAME:PDT
DTSTART:20270314T100000
END:DAYLIGHT
BEGIN:STANDARD
TZOFFSETFROM:-0700
TZOFFSETTO:-0800
TZNAME:PST
DTSTART:20271107T090000
END:STANDARD
BEGIN:DAYLIGHT
TZOFFSETFROM:-0800
TZOFFSETTO:-0700
TZNAME:PDT
DTSTART:20280312T100000
END:DAYLIGHT
BEGIN:STANDARD
TZOFFSETFROM:-0700
TZOFFSETTO:-0800
TZNAME:PST
DTSTART:20281105T090000
END:STANDARD
END:VTIMEZONE
BEGIN:VEVENT
DTSTART;TZID=America/Los_Angeles:20270203T090000
DTEND;TZID=America/Los_Angeles:20270203T130000
DTSTAMP:20260419T163725
CREATED:20210512T044534Z
LAST-MODIFIED:20220109T180655Z
UID:10001409-1801645200-1801659600@poulsbosportsmanclub.org
SUMMARY:Shotgun/Trap
DESCRIPTION:9 am to 1 pm Wednesdays and Thursdays
URL:https://poulsbosportsmanclub.org/event/shotgun-trap/2027-02-03/
LOCATION:Poulsbo Sportsman Club\, 16990 Clear Creek Road\, Poulsbo\, WA\, 98370\, United States
CATEGORIES:Range Activities
END:VEVENT
BEGIN:VEVENT
DTSTART;TZID=America/Los_Angeles:20270204T090000
DTEND;TZID=America/Los_Angeles:20270204T130000
DTSTAMP:20260419T163725
CREATED:20210512T044534Z
LAST-MODIFIED:20220109T180655Z
UID:10001410-1801731600-1801746000@poulsbosportsmanclub.org
SUMMARY:Shotgun/Trap
DESCRIPTION:9 am to 1 pm Wednesdays and Thursdays
URL:https://poulsbosportsmanclub.org/event/shotgun-trap/2027-02-04/
LOCATION:Poulsbo Sportsman Club\, 16990 Clear Creek Road\, Poulsbo\, WA\, 98370\, United States
CATEGORIES:Range Activities
END:VEVENT
BEGIN:VEVENT
DTSTART;TZID=America/Los_Angeles:20270205T090000
DTEND;TZID=America/Los_Angeles:20270205T130000
DTSTAMP:20260419T163725
CREATED:20240925T031616Z
LAST-MODIFIED:20240925T031616Z
UID:10005585-1801818000-1801832400@poulsbosportsmanclub.org
SUMMARY:Shotgun/Trap Range
DESCRIPTION:
URL:https://poulsbosportsmanclub.org/event/shotgun-trap-range/2027-02-05/
CATEGORIES:Shotgun Range
END:VEVENT
BEGIN:VEVENT
DTSTART;TZID=America/Los_Angeles:20270206T090000
DTEND;TZID=America/Los_Angeles:20270206T140000
DTSTAMP:20260419T163725
CREATED:20210512T044813Z
LAST-MODIFIED:20210512T044813Z
UID:10003606-1801904400-1801922400@poulsbosportsmanclub.org
SUMMARY:Shotgun / 5 Stand
DESCRIPTION:Saturdays from 9am to 2pm
URL:https://poulsbosportsmanclub.org/event/shotgun-5-stand/2027-02-06/
LOCATION:Poulsbo Sportsman Club\, 16990 Clear Creek Road\, Poulsbo\, WA\, 98370\, United States
CATEGORIES:Range Activities
END:VEVENT
BEGIN:VEVENT
DTSTART;TZID=America/Los_Angeles:20270207T090000
DTEND;TZID=America/Los_Angeles:20270207T120000
DTSTAMP:20260419T163725
CREATED:20231016T154129Z
LAST-MODIFIED:20241125T172545Z
UID:10003809-1801990800-1802001600@poulsbosportsmanclub.org
SUMMARY:Bremerton Brigade Monthly Shoot
DESCRIPTION:Shooters meet at Black Powder range gazebo at 0900 for safety brief followed by the event. Winners determined after event which usually ends by noon unless a working party is called.
URL:https://poulsbosportsmanclub.org/event/black-powder-shoot-2-2021-10-03/2027-02-07/
LOCATION:Primitive Range\, 16990 Clear Creek Road\, Poulsbo\, 98370\, United States
CATEGORIES:Range Activities
END:VEVENT
BEGIN:VEVENT
DTSTART;TZID=America/Los_Angeles:20270210T090000
DTEND;TZID=America/Los_Angeles:20270210T130000
DTSTAMP:20260419T163725
CREATED:20210512T044534Z
LAST-MODIFIED:20220109T180655Z
UID:10001411-1802250000-1802264400@poulsbosportsmanclub.org
SUMMARY:Shotgun/Trap
DESCRIPTION:9 am to 1 pm Wednesdays and Thursdays
URL:https://poulsbosportsmanclub.org/event/shotgun-trap/2027-02-10/
LOCATION:Poulsbo Sportsman Club\, 16990 Clear Creek Road\, Poulsbo\, WA\, 98370\, United States
CATEGORIES:Range Activities
END:VEVENT
BEGIN:VEVENT
DTSTART;TZID=America/Los_Angeles:20270211T090000
DTEND;TZID=America/Los_Angeles:20270211T130000
DTSTAMP:20260419T163725
CREATED:20210512T044534Z
LAST-MODIFIED:20220109T180655Z
UID:10001412-1802336400-1802350800@poulsbosportsmanclub.org
SUMMARY:Shotgun/Trap
DESCRIPTION:9 am to 1 pm Wednesdays and Thursdays
URL:https://poulsbosportsmanclub.org/event/shotgun-trap/2027-02-11/
LOCATION:Poulsbo Sportsman Club\, 16990 Clear Creek Road\, Poulsbo\, WA\, 98370\, United States
CATEGORIES:Range Activities
END:VEVENT
BEGIN:VEVENT
DTSTART;TZID=America/Los_Angeles:20270212T090000
DTEND;TZID=America/Los_Angeles:20270212T130000
DTSTAMP:20260419T163725
CREATED:20240925T031616Z
LAST-MODIFIED:20240925T031616Z
UID:10005586-1802422800-1802437200@poulsbosportsmanclub.org
SUMMARY:Shotgun/Trap Range
DESCRIPTION:
URL:https://poulsbosportsmanclub.org/event/shotgun-trap-range/2027-02-12/
CATEGORIES:Shotgun Range
END:VEVENT
BEGIN:VEVENT
DTSTART;TZID=America/Los_Angeles:20270213T090000
DTEND;TZID=America/Los_Angeles:20270213T123000
DTSTAMP:20260419T163725
CREATED:20231004T190924Z
LAST-MODIFIED:20240328T011118Z
UID:10003878-1802509200-1802521800@poulsbosportsmanclub.org
SUMMARY:Action Pistol Match
DESCRIPTION:Gate opens at 0800\nSign-in & Safety Briefing at 0830\nRange hot at 0900\nFees:  $5 \nPARTICIPANTS NEED TO BRING:\n– A safe\, functioning handgun (ALL CALIBERS WELCOME)\n– 50-100 rounds of ammunition\n– A holster that covers the gun’s trigger area\n– The entry fee (cash only)
URL:https://poulsbosportsmanclub.org/event/action-pistol-match-2/2027-02-13/
CATEGORIES:Range Activities
END:VEVENT
BEGIN:VEVENT
DTSTART;TZID=America/Los_Angeles:20270213T090000
DTEND;TZID=America/Los_Angeles:20270213T140000
DTSTAMP:20260419T163725
CREATED:20210512T044813Z
LAST-MODIFIED:20210512T044813Z
UID:10003607-1802509200-1802527200@poulsbosportsmanclub.org
SUMMARY:Shotgun / 5 Stand
DESCRIPTION:Saturdays from 9am to 2pm
URL:https://poulsbosportsmanclub.org/event/shotgun-5-stand/2027-02-13/
LOCATION:Poulsbo Sportsman Club\, 16990 Clear Creek Road\, Poulsbo\, WA\, 98370\, United States
CATEGORIES:Range Activities
END:VEVENT
BEGIN:VEVENT
DTSTART;TZID=America/Los_Angeles:20270217T090000
DTEND;TZID=America/Los_Angeles:20270217T130000
DTSTAMP:20260419T163725
CREATED:20210512T044534Z
LAST-MODIFIED:20220109T180655Z
UID:10001413-1802854800-1802869200@poulsbosportsmanclub.org
SUMMARY:Shotgun/Trap
DESCRIPTION:9 am to 1 pm Wednesdays and Thursdays
URL:https://poulsbosportsmanclub.org/event/shotgun-trap/2027-02-17/
LOCATION:Poulsbo Sportsman Club\, 16990 Clear Creek Road\, Poulsbo\, WA\, 98370\, United States
CATEGORIES:Range Activities
END:VEVENT
BEGIN:VEVENT
DTSTART;TZID=America/Los_Angeles:20270217T170000
DTEND;TZID=America/Los_Angeles:20270217T190000
DTSTAMP:20260419T163725
CREATED:20250617T014026Z
LAST-MODIFIED:20250617T014026Z
UID:10005769-1802883600-1802890800@poulsbosportsmanclub.org
SUMMARY:Women’s After Hours
DESCRIPTION:
URL:https://poulsbosportsmanclub.org/event/womens-after-hours/2027-02-17/
CATEGORIES:Range Activities
END:VEVENT
BEGIN:VEVENT
DTSTART;TZID=America/Los_Angeles:20270217T180000
DTEND;TZID=America/Los_Angeles:20270217T200000
DTSTAMP:20260419T163725
CREATED:20201230T221706Z
LAST-MODIFIED:20220118T030956Z
UID:10003277-1802887200-1802894400@poulsbosportsmanclub.org
SUMMARY:Bremerton Brigade Meeting in Clubhouse
DESCRIPTION:
URL:https://poulsbosportsmanclub.org/event/bremerton-brigade-meeting-in-clubhouse/2027-02-17/
CATEGORIES:Range Activities
END:VEVENT
BEGIN:VEVENT
DTSTART;TZID=America/Los_Angeles:20270218T090000
DTEND;TZID=America/Los_Angeles:20270218T130000
DTSTAMP:20260419T163725
CREATED:20210512T044534Z
LAST-MODIFIED:20220109T180655Z
UID:10001414-1802941200-1802955600@poulsbosportsmanclub.org
SUMMARY:Shotgun/Trap
DESCRIPTION:9 am to 1 pm Wednesdays and Thursdays
URL:https://poulsbosportsmanclub.org/event/shotgun-trap/2027-02-18/
LOCATION:Poulsbo Sportsman Club\, 16990 Clear Creek Road\, Poulsbo\, WA\, 98370\, United States
CATEGORIES:Range Activities
END:VEVENT
BEGIN:VEVENT
DTSTART;TZID=America/Los_Angeles:20270219T090000
DTEND;TZID=America/Los_Angeles:20270219T130000
DTSTAMP:20260419T163725
CREATED:20240925T031616Z
LAST-MODIFIED:20240925T031616Z
UID:10005587-1803027600-1803042000@poulsbosportsmanclub.org
SUMMARY:Shotgun/Trap Range
DESCRIPTION:
URL:https://poulsbosportsmanclub.org/event/shotgun-trap-range/2027-02-19/
CATEGORIES:Shotgun Range
END:VEVENT
BEGIN:VEVENT
DTSTART;TZID=America/Los_Angeles:20270220T090000
DTEND;TZID=America/Los_Angeles:20270220T090000
DTSTAMP:20260419T163725
CREATED:20200116T223650Z
LAST-MODIFIED:20240402T020024Z
UID:10002095-1803114000-1803114000@poulsbosportsmanclub.org
SUMMARY:22 LR Silhouette - 100 and 200 yard range
DESCRIPTION:Silhouette | Poulsbo Sportsman Club
URL:https://poulsbosportsmanclub.org/event/22-lr-silhouette-100-and-200-yard-range-2-2022-06-18/2027-02-20/
CATEGORIES:Range Activities
END:VEVENT
BEGIN:VEVENT
DTSTART;TZID=America/Los_Angeles:20270220T090000
DTEND;TZID=America/Los_Angeles:20270220T140000
DTSTAMP:20260419T163725
CREATED:20210512T044813Z
LAST-MODIFIED:20210512T044813Z
UID:10003608-1803114000-1803132000@poulsbosportsmanclub.org
SUMMARY:Shotgun / 5 Stand
DESCRIPTION:Saturdays from 9am to 2pm
URL:https://poulsbosportsmanclub.org/event/shotgun-5-stand/2027-02-20/
LOCATION:Poulsbo Sportsman Club\, 16990 Clear Creek Road\, Poulsbo\, WA\, 98370\, United States
CATEGORIES:Range Activities
END:VEVENT
BEGIN:VEVENT
DTSTART;TZID=America/Los_Angeles:20270224T090000
DTEND;TZID=America/Los_Angeles:20270224T130000
DTSTAMP:20260419T163725
CREATED:20210512T044534Z
LAST-MODIFIED:20220109T180655Z
UID:10001415-1803459600-1803474000@poulsbosportsmanclub.org
SUMMARY:Shotgun/Trap
DESCRIPTION:9 am to 1 pm Wednesdays and Thursdays
URL:https://poulsbosportsmanclub.org/event/shotgun-trap/2027-02-24/
LOCATION:Poulsbo Sportsman Club\, 16990 Clear Creek Road\, Poulsbo\, WA\, 98370\, United States
CATEGORIES:Range Activities
END:VEVENT
BEGIN:VEVENT
DTSTART;TZID=America/Los_Angeles:20270225T090000
DTEND;TZID=America/Los_Angeles:20270225T130000
DTSTAMP:20260419T163725
CREATED:20210512T044534Z
LAST-MODIFIED:20220109T180655Z
UID:10001416-1803546000-1803560400@poulsbosportsmanclub.org
SUMMARY:Shotgun/Trap
DESCRIPTION:9 am to 1 pm Wednesdays and Thursdays
URL:https://poulsbosportsmanclub.org/event/shotgun-trap/2027-02-25/
LOCATION:Poulsbo Sportsman Club\, 16990 Clear Creek Road\, Poulsbo\, WA\, 98370\, United States
CATEGORIES:Range Activities
END:VEVENT
BEGIN:VEVENT
DTSTART;TZID=America/Los_Angeles:20270226T090000
DTEND;TZID=America/Los_Angeles:20270226T130000
DTSTAMP:20260419T163725
CREATED:20240925T031616Z
LAST-MODIFIED:20240925T031616Z
UID:10005588-1803632400-1803646800@poulsbosportsmanclub.org
SUMMARY:Shotgun/Trap Range
DESCRIPTION:
URL:https://poulsbosportsmanclub.org/event/shotgun-trap-range/2027-02-26/
CATEGORIES:Shotgun Range
END:VEVENT
BEGIN:VEVENT
DTSTART;TZID=America/Los_Angeles:20270227T090000
DTEND;TZID=America/Los_Angeles:20270227T140000
DTSTAMP:20260419T163725
CREATED:20210512T044813Z
LAST-MODIFIED:20210512T044813Z
UID:10003609-1803718800-1803736800@poulsbosportsmanclub.org
SUMMARY:Shotgun / 5 Stand
DESCRIPTION:Saturdays from 9am to 2pm
URL:https://poulsbosportsmanclub.org/event/shotgun-5-stand/2027-02-27/
LOCATION:Poulsbo Sportsman Club\, 16990 Clear Creek Road\, Poulsbo\, WA\, 98370\, United States
CATEGORIES:Range Activities
END:VEVENT
BEGIN:VEVENT
DTSTART;TZID=America/Los_Angeles:20270228T090000
DTEND;TZID=America/Los_Angeles:20270228T120000
DTSTAMP:20260419T163725
CREATED:20260323T030837Z
LAST-MODIFIED:20260323T030837Z
UID:10005887-1803805200-1803816000@poulsbosportsmanclub.org
SUMMARY:Poulsbo Pistoleros Cowboy Action Shooters
DESCRIPTION:Sign-in starts at 9:00 \nEvent starts at 10:00
URL:https://poulsbosportsmanclub.org/event/poulsbo-pistoleros-cowboy-action-shooters/2027-02-28/
LOCATION:Poulsbo Sportsman Club\, 16990 Clear Creek Road\, Poulsbo\, WA\, 98370\, United States
CATEGORIES:Range Activities
END:VEVENT
BEGIN:VEVENT
DTSTART;TZID=America/Los_Angeles:20270302T183000
DTEND;TZID=America/Los_Angeles:20270302T193000
DTSTAMP:20260419T163725
CREATED:20240729T135302Z
LAST-MODIFIED:20240729T135302Z
UID:10005431-1804012200-1804015800@poulsbosportsmanclub.org
SUMMARY:General Membership Meeting
DESCRIPTION:Members only. Discuss club business. Identity needs and resources. Encourage participation and support from club members.
URL:https://poulsbosportsmanclub.org/event/general-membership-meeting/2027-03-02/
END:VEVENT
BEGIN:VEVENT
DTSTART;TZID=America/Los_Angeles:20270303T080000
DTEND;TZID=America/Los_Angeles:20270303T170000
DTSTAMP:20260419T163725
CREATED:20250617T014208Z
LAST-MODIFIED:20250617T014208Z
UID:10005830-1804060800-1804093200@poulsbosportsmanclub.org
SUMMARY:Women’s After Hours
DESCRIPTION:
URL:https://poulsbosportsmanclub.org/event/womens-after-hours-2/2027-03-03/
CATEGORIES:Range Activities
END:VEVENT
BEGIN:VEVENT
DTSTART;TZID=America/Los_Angeles:20270303T090000
DTEND;TZID=America/Los_Angeles:20270303T130000
DTSTAMP:20260419T163725
CREATED:20210512T044534Z
LAST-MODIFIED:20220109T180655Z
UID:10001417-1804064400-1804078800@poulsbosportsmanclub.org
SUMMARY:Shotgun/Trap
DESCRIPTION:9 am to 1 pm Wednesdays and Thursdays
URL:https://poulsbosportsmanclub.org/event/shotgun-trap/2027-03-03/
LOCATION:Poulsbo Sportsman Club\, 16990 Clear Creek Road\, Poulsbo\, WA\, 98370\, United States
CATEGORIES:Range Activities
END:VEVENT
BEGIN:VEVENT
DTSTART;TZID=America/Los_Angeles:20270304T090000
DTEND;TZID=America/Los_Angeles:20270304T130000
DTSTAMP:20260419T163725
CREATED:20210512T044534Z
LAST-MODIFIED:20220109T180655Z
UID:10001418-1804150800-1804165200@poulsbosportsmanclub.org
SUMMARY:Shotgun/Trap
DESCRIPTION:9 am to 1 pm Wednesdays and Thursdays
URL:https://poulsbosportsmanclub.org/event/shotgun-trap/2027-03-04/
LOCATION:Poulsbo Sportsman Club\, 16990 Clear Creek Road\, Poulsbo\, WA\, 98370\, United States
CATEGORIES:Range Activities
END:VEVENT
BEGIN:VEVENT
DTSTART;TZID=America/Los_Angeles:20270305T090000
DTEND;TZID=America/Los_Angeles:20270305T130000
DTSTAMP:20260419T163725
CREATED:20240925T031616Z
LAST-MODIFIED:20240925T031616Z
UID:10005589-1804237200-1804251600@poulsbosportsmanclub.org
SUMMARY:Shotgun/Trap Range
DESCRIPTION:
URL:https://poulsbosportsmanclub.org/event/shotgun-trap-range/2027-03-05/
CATEGORIES:Shotgun Range
END:VEVENT
BEGIN:VEVENT
DTSTART;TZID=America/Los_Angeles:20270306T090000
DTEND;TZID=America/Los_Angeles:20270306T140000
DTSTAMP:20260419T163725
CREATED:20210512T044813Z
LAST-MODIFIED:20210512T044813Z
UID:10003610-1804323600-1804341600@poulsbosportsmanclub.org
SUMMARY:Shotgun / 5 Stand
DESCRIPTION:Saturdays from 9am to 2pm
URL:https://poulsbosportsmanclub.org/event/shotgun-5-stand/2027-03-06/
LOCATION:Poulsbo Sportsman Club\, 16990 Clear Creek Road\, Poulsbo\, WA\, 98370\, United States
CATEGORIES:Range Activities
END:VEVENT
BEGIN:VEVENT
DTSTART;TZID=America/Los_Angeles:20270307T090000
DTEND;TZID=America/Los_Angeles:20270307T120000
DTSTAMP:20260419T163725
CREATED:20231016T154129Z
LAST-MODIFIED:20241125T172545Z
UID:10003810-1804410000-1804420800@poulsbosportsmanclub.org
SUMMARY:Bremerton Brigade Monthly Shoot
DESCRIPTION:Shooters meet at Black Powder range gazebo at 0900 for safety brief followed by the event. Winners determined after event which usually ends by noon unless a working party is called.
URL:https://poulsbosportsmanclub.org/event/black-powder-shoot-2-2021-10-03/2027-03-07/
LOCATION:Primitive Range\, 16990 Clear Creek Road\, Poulsbo\, 98370\, United States
CATEGORIES:Range Activities
END:VEVENT
BEGIN:VEVENT
DTSTART;TZID=America/Los_Angeles:20270310T090000
DTEND;TZID=America/Los_Angeles:20270310T130000
DTSTAMP:20260419T163725
CREATED:20210512T044534Z
LAST-MODIFIED:20220109T180655Z
UID:10001419-1804669200-1804683600@poulsbosportsmanclub.org
SUMMARY:Shotgun/Trap
DESCRIPTION:9 am to 1 pm Wednesdays and Thursdays
URL:https://poulsbosportsmanclub.org/event/shotgun-trap/2027-03-10/
LOCATION:Poulsbo Sportsman Club\, 16990 Clear Creek Road\, Poulsbo\, WA\, 98370\, United States
CATEGORIES:Range Activities
END:VEVENT
END:VCALENDAR