BEGIN:VCALENDAR
VERSION:2.0
PRODID:-//Poulsbo Sportsman Club - ECPv6.15.20//NONSGML v1.0//EN
CALSCALE:GREGORIAN
METHOD:PUBLISH
X-ORIGINAL-URL:https://poulsbosportsmanclub.org
X-WR-CALDESC:Events for Poulsbo Sportsman Club
REFRESH-INTERVAL;VALUE=DURATION:PT1H
X-Robots-Tag:noindex
X-PUBLISHED-TTL:PT1H
BEGIN:VTIMEZONE
TZID:America/Los_Angeles
BEGIN:DAYLIGHT
TZOFFSETFROM:-0800
TZOFFSETTO:-0700
TZNAME:PDT
DTSTART:20250309T100000
END:DAYLIGHT
BEGIN:STANDARD
TZOFFSETFROM:-0700
TZOFFSETTO:-0800
TZNAME:PST
DTSTART:20251102T090000
END:STANDARD
BEGIN:DAYLIGHT
TZOFFSETFROM:-0800
TZOFFSETTO:-0700
TZNAME:PDT
DTSTART:20260308T100000
END:DAYLIGHT
BEGIN:STANDARD
TZOFFSETFROM:-0700
TZOFFSETTO:-0800
TZNAME:PST
DTSTART:20261101T090000
END:STANDARD
BEGIN:DAYLIGHT
TZOFFSETFROM:-0800
TZOFFSETTO:-0700
TZNAME:PDT
DTSTART:20270314T100000
END:DAYLIGHT
BEGIN:STANDARD
TZOFFSETFROM:-0700
TZOFFSETTO:-0800
TZNAME:PST
DTSTART:20271107T090000
END:STANDARD
BEGIN:DAYLIGHT
TZOFFSETFROM:-0800
TZOFFSETTO:-0700
TZNAME:PDT
DTSTART:20280312T100000
END:DAYLIGHT
BEGIN:STANDARD
TZOFFSETFROM:-0700
TZOFFSETTO:-0800
TZNAME:PST
DTSTART:20281105T090000
END:STANDARD
END:VTIMEZONE
BEGIN:VEVENT
DTSTART;TZID=America/Los_Angeles:20261206T090000
DTEND;TZID=America/Los_Angeles:20261206T120000
DTSTAMP:20260419T101744
CREATED:20231016T154129Z
LAST-MODIFIED:20241125T172545Z
UID:10003807-1796547600-1796558400@poulsbosportsmanclub.org
SUMMARY:Bremerton Brigade Monthly Shoot
DESCRIPTION:Shooters meet at Black Powder range gazebo at 0900 for safety brief followed by the event. Winners determined after event which usually ends by noon unless a working party is called.
URL:https://poulsbosportsmanclub.org/event/black-powder-shoot-2-2021-10-03/2026-12-06/
LOCATION:Primitive Range\, 16990 Clear Creek Road\, Poulsbo\, 98370\, United States
CATEGORIES:Range Activities
END:VEVENT
BEGIN:VEVENT
DTSTART;TZID=America/Los_Angeles:20261209T090000
DTEND;TZID=America/Los_Angeles:20261209T130000
DTSTAMP:20260419T101744
CREATED:20210512T044534Z
LAST-MODIFIED:20220109T180655Z
UID:10001393-1796806800-1796821200@poulsbosportsmanclub.org
SUMMARY:Shotgun/Trap
DESCRIPTION:9 am to 1 pm Wednesdays and Thursdays
URL:https://poulsbosportsmanclub.org/event/shotgun-trap/2026-12-09/
LOCATION:Poulsbo Sportsman Club\, 16990 Clear Creek Road\, Poulsbo\, WA\, 98370\, United States
CATEGORIES:Range Activities
END:VEVENT
BEGIN:VEVENT
DTSTART;TZID=America/Los_Angeles:20261210T090000
DTEND;TZID=America/Los_Angeles:20261210T130000
DTSTAMP:20260419T101744
CREATED:20210512T044534Z
LAST-MODIFIED:20220109T180655Z
UID:10001394-1796893200-1796907600@poulsbosportsmanclub.org
SUMMARY:Shotgun/Trap
DESCRIPTION:9 am to 1 pm Wednesdays and Thursdays
URL:https://poulsbosportsmanclub.org/event/shotgun-trap/2026-12-10/
LOCATION:Poulsbo Sportsman Club\, 16990 Clear Creek Road\, Poulsbo\, WA\, 98370\, United States
CATEGORIES:Range Activities
END:VEVENT
BEGIN:VEVENT
DTSTART;TZID=America/Los_Angeles:20261211T090000
DTEND;TZID=America/Los_Angeles:20261211T130000
DTSTAMP:20260419T101744
CREATED:20240925T031616Z
LAST-MODIFIED:20240925T031616Z
UID:10005577-1796979600-1796994000@poulsbosportsmanclub.org
SUMMARY:Shotgun/Trap Range
DESCRIPTION:
URL:https://poulsbosportsmanclub.org/event/shotgun-trap-range/2026-12-11/
LOCATION:WA
CATEGORIES:Shotgun Range
END:VEVENT
BEGIN:VEVENT
DTSTART;TZID=America/Los_Angeles:20261212T090000
DTEND;TZID=America/Los_Angeles:20261212T123000
DTSTAMP:20260419T101744
CREATED:20231004T190924Z
LAST-MODIFIED:20240328T011118Z
UID:10003876-1797066000-1797078600@poulsbosportsmanclub.org
SUMMARY:Action Pistol Match
DESCRIPTION:Gate opens at 0800\nSign-in & Safety Briefing at 0830\nRange hot at 0900\nFees:  $5 \nPARTICIPANTS NEED TO BRING:\n– A safe\, functioning handgun (ALL CALIBERS WELCOME)\n– 50-100 rounds of ammunition\n– A holster that covers the gun’s trigger area\n– The entry fee (cash only)
URL:https://poulsbosportsmanclub.org/event/action-pistol-match-2/2026-12-12/
LOCATION:WA
CATEGORIES:Range Activities
END:VEVENT
BEGIN:VEVENT
DTSTART;TZID=America/Los_Angeles:20261212T090000
DTEND;TZID=America/Los_Angeles:20261212T140000
DTSTAMP:20260419T101744
CREATED:20210512T044813Z
LAST-MODIFIED:20210512T044813Z
UID:10003598-1797066000-1797084000@poulsbosportsmanclub.org
SUMMARY:Shotgun / 5 Stand
DESCRIPTION:Saturdays from 9am to 2pm
URL:https://poulsbosportsmanclub.org/event/shotgun-5-stand/2026-12-12/
LOCATION:Poulsbo Sportsman Club\, 16990 Clear Creek Road\, Poulsbo\, WA\, 98370\, United States
CATEGORIES:Range Activities
END:VEVENT
BEGIN:VEVENT
DTSTART;TZID=America/Los_Angeles:20261216T090000
DTEND;TZID=America/Los_Angeles:20261216T130000
DTSTAMP:20260419T101744
CREATED:20210512T044534Z
LAST-MODIFIED:20220109T180655Z
UID:10001395-1797411600-1797426000@poulsbosportsmanclub.org
SUMMARY:Shotgun/Trap
DESCRIPTION:9 am to 1 pm Wednesdays and Thursdays
URL:https://poulsbosportsmanclub.org/event/shotgun-trap/2026-12-16/
LOCATION:Poulsbo Sportsman Club\, 16990 Clear Creek Road\, Poulsbo\, WA\, 98370\, United States
CATEGORIES:Range Activities
END:VEVENT
BEGIN:VEVENT
DTSTART;TZID=America/Los_Angeles:20261216T170000
DTEND;TZID=America/Los_Angeles:20261216T190000
DTSTAMP:20260419T101744
CREATED:20250617T014026Z
LAST-MODIFIED:20250617T014026Z
UID:10005767-1797440400-1797447600@poulsbosportsmanclub.org
SUMMARY:Women’s After Hours
DESCRIPTION:
URL:https://poulsbosportsmanclub.org/event/womens-after-hours/2026-12-16/
LOCATION:WA
CATEGORIES:Range Activities
END:VEVENT
BEGIN:VEVENT
DTSTART;TZID=America/Los_Angeles:20261216T180000
DTEND;TZID=America/Los_Angeles:20261216T200000
DTSTAMP:20260419T101744
CREATED:20201230T221706Z
LAST-MODIFIED:20220118T030956Z
UID:10003275-1797444000-1797451200@poulsbosportsmanclub.org
SUMMARY:Bremerton Brigade Meeting in Clubhouse
DESCRIPTION:
URL:https://poulsbosportsmanclub.org/event/bremerton-brigade-meeting-in-clubhouse/2026-12-16/
LOCATION:WA
CATEGORIES:Range Activities
END:VEVENT
BEGIN:VEVENT
DTSTART;TZID=America/Los_Angeles:20261217T090000
DTEND;TZID=America/Los_Angeles:20261217T130000
DTSTAMP:20260419T101744
CREATED:20210512T044534Z
LAST-MODIFIED:20220109T180655Z
UID:10001396-1797498000-1797512400@poulsbosportsmanclub.org
SUMMARY:Shotgun/Trap
DESCRIPTION:9 am to 1 pm Wednesdays and Thursdays
URL:https://poulsbosportsmanclub.org/event/shotgun-trap/2026-12-17/
LOCATION:Poulsbo Sportsman Club\, 16990 Clear Creek Road\, Poulsbo\, WA\, 98370\, United States
CATEGORIES:Range Activities
END:VEVENT
BEGIN:VEVENT
DTSTART;TZID=America/Los_Angeles:20261218T090000
DTEND;TZID=America/Los_Angeles:20261218T130000
DTSTAMP:20260419T101744
CREATED:20240925T031616Z
LAST-MODIFIED:20240925T031616Z
UID:10005578-1797584400-1797598800@poulsbosportsmanclub.org
SUMMARY:Shotgun/Trap Range
DESCRIPTION:
URL:https://poulsbosportsmanclub.org/event/shotgun-trap-range/2026-12-18/
LOCATION:WA
CATEGORIES:Shotgun Range
END:VEVENT
BEGIN:VEVENT
DTSTART;TZID=America/Los_Angeles:20261219T090000
DTEND;TZID=America/Los_Angeles:20261219T090000
DTSTAMP:20260419T101744
CREATED:20200116T223650Z
LAST-MODIFIED:20240402T020024Z
UID:10002093-1797670800-1797670800@poulsbosportsmanclub.org
SUMMARY:22 LR Silhouette - 100 and 200 yard range
DESCRIPTION:Silhouette | Poulsbo Sportsman Club
URL:https://poulsbosportsmanclub.org/event/22-lr-silhouette-100-and-200-yard-range-2-2022-06-18/2026-12-19/
LOCATION:WA
CATEGORIES:Range Activities
END:VEVENT
BEGIN:VEVENT
DTSTART;TZID=America/Los_Angeles:20261219T090000
DTEND;TZID=America/Los_Angeles:20261219T140000
DTSTAMP:20260419T101744
CREATED:20210512T044813Z
LAST-MODIFIED:20210512T044813Z
UID:10003599-1797670800-1797688800@poulsbosportsmanclub.org
SUMMARY:Shotgun / 5 Stand
DESCRIPTION:Saturdays from 9am to 2pm
URL:https://poulsbosportsmanclub.org/event/shotgun-5-stand/2026-12-19/
LOCATION:Poulsbo Sportsman Club\, 16990 Clear Creek Road\, Poulsbo\, WA\, 98370\, United States
CATEGORIES:Range Activities
END:VEVENT
BEGIN:VEVENT
DTSTART;TZID=America/Los_Angeles:20261223T090000
DTEND;TZID=America/Los_Angeles:20261223T130000
DTSTAMP:20260419T101744
CREATED:20210512T044534Z
LAST-MODIFIED:20220109T180655Z
UID:10001397-1798016400-1798030800@poulsbosportsmanclub.org
SUMMARY:Shotgun/Trap
DESCRIPTION:9 am to 1 pm Wednesdays and Thursdays
URL:https://poulsbosportsmanclub.org/event/shotgun-trap/2026-12-23/
LOCATION:Poulsbo Sportsman Club\, 16990 Clear Creek Road\, Poulsbo\, WA\, 98370\, United States
CATEGORIES:Range Activities
END:VEVENT
BEGIN:VEVENT
DTSTART;TZID=America/Los_Angeles:20261224T090000
DTEND;TZID=America/Los_Angeles:20261224T130000
DTSTAMP:20260419T101744
CREATED:20210512T044534Z
LAST-MODIFIED:20220109T180655Z
UID:10001398-1798102800-1798117200@poulsbosportsmanclub.org
SUMMARY:Shotgun/Trap
DESCRIPTION:9 am to 1 pm Wednesdays and Thursdays
URL:https://poulsbosportsmanclub.org/event/shotgun-trap/2026-12-24/
LOCATION:Poulsbo Sportsman Club\, 16990 Clear Creek Road\, Poulsbo\, WA\, 98370\, United States
CATEGORIES:Range Activities
END:VEVENT
BEGIN:VEVENT
DTSTART;TZID=America/Los_Angeles:20261225T090000
DTEND;TZID=America/Los_Angeles:20261225T130000
DTSTAMP:20260419T101744
CREATED:20240925T031616Z
LAST-MODIFIED:20240925T031616Z
UID:10005579-1798189200-1798203600@poulsbosportsmanclub.org
SUMMARY:Shotgun/Trap Range
DESCRIPTION:
URL:https://poulsbosportsmanclub.org/event/shotgun-trap-range/2026-12-25/
LOCATION:WA
CATEGORIES:Shotgun Range
END:VEVENT
BEGIN:VEVENT
DTSTART;TZID=America/Los_Angeles:20261226T090000
DTEND;TZID=America/Los_Angeles:20261226T140000
DTSTAMP:20260419T101744
CREATED:20210512T044813Z
LAST-MODIFIED:20210512T044813Z
UID:10003600-1798275600-1798293600@poulsbosportsmanclub.org
SUMMARY:Shotgun / 5 Stand
DESCRIPTION:Saturdays from 9am to 2pm
URL:https://poulsbosportsmanclub.org/event/shotgun-5-stand/2026-12-26/
LOCATION:Poulsbo Sportsman Club\, 16990 Clear Creek Road\, Poulsbo\, WA\, 98370\, United States
CATEGORIES:Range Activities
END:VEVENT
BEGIN:VEVENT
DTSTART;TZID=America/Los_Angeles:20261227T090000
DTEND;TZID=America/Los_Angeles:20261227T120000
DTSTAMP:20260419T101744
CREATED:20260323T030837Z
LAST-MODIFIED:20260323T030837Z
UID:10005885-1798362000-1798372800@poulsbosportsmanclub.org
SUMMARY:Poulsbo Pistoleros Cowboy Action Shooters
DESCRIPTION:Sign-in starts at 9:00 \nEvent starts at 10:00
URL:https://poulsbosportsmanclub.org/event/poulsbo-pistoleros-cowboy-action-shooters/2026-12-27/
LOCATION:Poulsbo Sportsman Club\, 16990 Clear Creek Road\, Poulsbo\, WA\, 98370\, United States
CATEGORIES:Range Activities
END:VEVENT
BEGIN:VEVENT
DTSTART;TZID=America/Los_Angeles:20261230T090000
DTEND;TZID=America/Los_Angeles:20261230T130000
DTSTAMP:20260419T101744
CREATED:20210512T044534Z
LAST-MODIFIED:20220109T180655Z
UID:10001399-1798621200-1798635600@poulsbosportsmanclub.org
SUMMARY:Shotgun/Trap
DESCRIPTION:9 am to 1 pm Wednesdays and Thursdays
URL:https://poulsbosportsmanclub.org/event/shotgun-trap/2026-12-30/
LOCATION:Poulsbo Sportsman Club\, 16990 Clear Creek Road\, Poulsbo\, WA\, 98370\, United States
CATEGORIES:Range Activities
END:VEVENT
BEGIN:VEVENT
DTSTART;TZID=America/Los_Angeles:20261231T090000
DTEND;TZID=America/Los_Angeles:20261231T130000
DTSTAMP:20260419T101744
CREATED:20210512T044534Z
LAST-MODIFIED:20220109T180655Z
UID:10001400-1798707600-1798722000@poulsbosportsmanclub.org
SUMMARY:Shotgun/Trap
DESCRIPTION:9 am to 1 pm Wednesdays and Thursdays
URL:https://poulsbosportsmanclub.org/event/shotgun-trap/2026-12-31/
LOCATION:Poulsbo Sportsman Club\, 16990 Clear Creek Road\, Poulsbo\, WA\, 98370\, United States
CATEGORIES:Range Activities
END:VEVENT
BEGIN:VEVENT
DTSTART;TZID=America/Los_Angeles:20270101T090000
DTEND;TZID=America/Los_Angeles:20270101T130000
DTSTAMP:20260419T101744
CREATED:20240925T031616Z
LAST-MODIFIED:20240925T031616Z
UID:10005580-1798794000-1798808400@poulsbosportsmanclub.org
SUMMARY:Shotgun/Trap Range
DESCRIPTION:
URL:https://poulsbosportsmanclub.org/event/shotgun-trap-range/2027-01-01/
LOCATION:WA
CATEGORIES:Shotgun Range
END:VEVENT
BEGIN:VEVENT
DTSTART;TZID=America/Los_Angeles:20270102T090000
DTEND;TZID=America/Los_Angeles:20270102T140000
DTSTAMP:20260419T101744
CREATED:20210512T044813Z
LAST-MODIFIED:20210512T044813Z
UID:10003601-1798880400-1798898400@poulsbosportsmanclub.org
SUMMARY:Shotgun / 5 Stand
DESCRIPTION:Saturdays from 9am to 2pm
URL:https://poulsbosportsmanclub.org/event/shotgun-5-stand/2027-01-02/
LOCATION:Poulsbo Sportsman Club\, 16990 Clear Creek Road\, Poulsbo\, WA\, 98370\, United States
CATEGORIES:Range Activities
END:VEVENT
BEGIN:VEVENT
DTSTART;TZID=America/Los_Angeles:20270103T090000
DTEND;TZID=America/Los_Angeles:20270103T120000
DTSTAMP:20260419T101744
CREATED:20231016T154129Z
LAST-MODIFIED:20241125T172545Z
UID:10003808-1798966800-1798977600@poulsbosportsmanclub.org
SUMMARY:Bremerton Brigade Monthly Shoot
DESCRIPTION:Shooters meet at Black Powder range gazebo at 0900 for safety brief followed by the event. Winners determined after event which usually ends by noon unless a working party is called.
URL:https://poulsbosportsmanclub.org/event/black-powder-shoot-2-2021-10-03/2027-01-03/
LOCATION:Primitive Range\, 16990 Clear Creek Road\, Poulsbo\, 98370\, United States
CATEGORIES:Range Activities
END:VEVENT
BEGIN:VEVENT
DTSTART;TZID=America/Los_Angeles:20270105T183000
DTEND;TZID=America/Los_Angeles:20270105T193000
DTSTAMP:20260419T101744
CREATED:20240729T135302Z
LAST-MODIFIED:20240729T135302Z
UID:10005429-1799173800-1799177400@poulsbosportsmanclub.org
SUMMARY:General Membership Meeting
DESCRIPTION:Members only. Discuss club business. Identity needs and resources. Encourage participation and support from club members.
URL:https://poulsbosportsmanclub.org/event/general-membership-meeting/2027-01-05/
LOCATION:WA
END:VEVENT
BEGIN:VEVENT
DTSTART;TZID=America/Los_Angeles:20270106T080000
DTEND;TZID=America/Los_Angeles:20270106T170000
DTSTAMP:20260419T101744
CREATED:20250617T014208Z
LAST-MODIFIED:20250617T014208Z
UID:10005828-1799222400-1799254800@poulsbosportsmanclub.org
SUMMARY:Women’s After Hours
DESCRIPTION:
URL:https://poulsbosportsmanclub.org/event/womens-after-hours-2/2027-01-06/
LOCATION:WA
CATEGORIES:Range Activities
END:VEVENT
BEGIN:VEVENT
DTSTART;TZID=America/Los_Angeles:20270106T090000
DTEND;TZID=America/Los_Angeles:20270106T130000
DTSTAMP:20260419T101744
CREATED:20210512T044534Z
LAST-MODIFIED:20220109T180655Z
UID:10001401-1799226000-1799240400@poulsbosportsmanclub.org
SUMMARY:Shotgun/Trap
DESCRIPTION:9 am to 1 pm Wednesdays and Thursdays
URL:https://poulsbosportsmanclub.org/event/shotgun-trap/2027-01-06/
LOCATION:Poulsbo Sportsman Club\, 16990 Clear Creek Road\, Poulsbo\, WA\, 98370\, United States
CATEGORIES:Range Activities
END:VEVENT
BEGIN:VEVENT
DTSTART;TZID=America/Los_Angeles:20270107T090000
DTEND;TZID=America/Los_Angeles:20270107T130000
DTSTAMP:20260419T101744
CREATED:20210512T044534Z
LAST-MODIFIED:20220109T180655Z
UID:10001402-1799312400-1799326800@poulsbosportsmanclub.org
SUMMARY:Shotgun/Trap
DESCRIPTION:9 am to 1 pm Wednesdays and Thursdays
URL:https://poulsbosportsmanclub.org/event/shotgun-trap/2027-01-07/
LOCATION:Poulsbo Sportsman Club\, 16990 Clear Creek Road\, Poulsbo\, WA\, 98370\, United States
CATEGORIES:Range Activities
END:VEVENT
BEGIN:VEVENT
DTSTART;TZID=America/Los_Angeles:20270108T090000
DTEND;TZID=America/Los_Angeles:20270108T130000
DTSTAMP:20260419T101744
CREATED:20240925T031616Z
LAST-MODIFIED:20240925T031616Z
UID:10005581-1799398800-1799413200@poulsbosportsmanclub.org
SUMMARY:Shotgun/Trap Range
DESCRIPTION:
URL:https://poulsbosportsmanclub.org/event/shotgun-trap-range/2027-01-08/
LOCATION:WA
CATEGORIES:Shotgun Range
END:VEVENT
BEGIN:VEVENT
DTSTART;TZID=America/Los_Angeles:20270109T090000
DTEND;TZID=America/Los_Angeles:20270109T123000
DTSTAMP:20260419T101744
CREATED:20231004T190924Z
LAST-MODIFIED:20240328T011118Z
UID:10003877-1799485200-1799497800@poulsbosportsmanclub.org
SUMMARY:Action Pistol Match
DESCRIPTION:Gate opens at 0800\nSign-in & Safety Briefing at 0830\nRange hot at 0900\nFees:  $5 \nPARTICIPANTS NEED TO BRING:\n– A safe\, functioning handgun (ALL CALIBERS WELCOME)\n– 50-100 rounds of ammunition\n– A holster that covers the gun’s trigger area\n– The entry fee (cash only)
URL:https://poulsbosportsmanclub.org/event/action-pistol-match-2/2027-01-09/
LOCATION:WA
CATEGORIES:Range Activities
END:VEVENT
BEGIN:VEVENT
DTSTART;TZID=America/Los_Angeles:20270109T090000
DTEND;TZID=America/Los_Angeles:20270109T140000
DTSTAMP:20260419T101744
CREATED:20210512T044813Z
LAST-MODIFIED:20210512T044813Z
UID:10003602-1799485200-1799503200@poulsbosportsmanclub.org
SUMMARY:Shotgun / 5 Stand
DESCRIPTION:Saturdays from 9am to 2pm
URL:https://poulsbosportsmanclub.org/event/shotgun-5-stand/2027-01-09/
LOCATION:Poulsbo Sportsman Club\, 16990 Clear Creek Road\, Poulsbo\, WA\, 98370\, United States
CATEGORIES:Range Activities
END:VEVENT
END:VCALENDAR