BEGIN:VCALENDAR
VERSION:2.0
PRODID:-//Poulsbo Sportsman Club - ECPv6.15.20//NONSGML v1.0//EN
CALSCALE:GREGORIAN
METHOD:PUBLISH
X-WR-CALNAME:Poulsbo Sportsman Club
X-ORIGINAL-URL:https://poulsbosportsmanclub.org
X-WR-CALDESC:Events for Poulsbo Sportsman Club
REFRESH-INTERVAL;VALUE=DURATION:PT1H
X-Robots-Tag:noindex
X-PUBLISHED-TTL:PT1H
BEGIN:VTIMEZONE
TZID:America/Los_Angeles
BEGIN:DAYLIGHT
TZOFFSETFROM:-0800
TZOFFSETTO:-0700
TZNAME:PDT
DTSTART:20280312T100000
END:DAYLIGHT
BEGIN:STANDARD
TZOFFSETFROM:-0700
TZOFFSETTO:-0800
TZNAME:PST
DTSTART:20281105T090000
END:STANDARD
BEGIN:DAYLIGHT
TZOFFSETFROM:-0800
TZOFFSETTO:-0700
TZNAME:PDT
DTSTART:20290311T100000
END:DAYLIGHT
BEGIN:STANDARD
TZOFFSETFROM:-0700
TZOFFSETTO:-0800
TZNAME:PST
DTSTART:20291104T090000
END:STANDARD
BEGIN:DAYLIGHT
TZOFFSETFROM:-0800
TZOFFSETTO:-0700
TZNAME:PDT
DTSTART:20300310T100000
END:DAYLIGHT
BEGIN:STANDARD
TZOFFSETFROM:-0700
TZOFFSETTO:-0800
TZNAME:PST
DTSTART:20301103T090000
END:STANDARD
BEGIN:DAYLIGHT
TZOFFSETFROM:-0800
TZOFFSETTO:-0700
TZNAME:PDT
DTSTART:20310309T100000
END:DAYLIGHT
BEGIN:STANDARD
TZOFFSETFROM:-0700
TZOFFSETTO:-0800
TZNAME:PST
DTSTART:20311102T090000
END:STANDARD
END:VTIMEZONE
BEGIN:VEVENT
DTSTART;TZID=America/Los_Angeles:20291003T080000
DTEND;TZID=America/Los_Angeles:20291003T170000
DTSTAMP:20260423T174248
CREATED:20250617T014208Z
LAST-MODIFIED:20250617T014208Z
UID:10005861-1885708800-1885741200@poulsbosportsmanclub.org
SUMMARY:Women’s After Hours
DESCRIPTION:
URL:https://poulsbosportsmanclub.org/event/womens-after-hours-2/2029-10-03/
LOCATION:WA
CATEGORIES:Range Activities
END:VEVENT
BEGIN:VEVENT
DTSTART;TZID=America/Los_Angeles:20291007T090000
DTEND;TZID=America/Los_Angeles:20291007T120000
DTSTAMP:20260423T174248
CREATED:20231016T154129Z
LAST-MODIFIED:20241125T172545Z
UID:10005731-1886058000-1886068800@poulsbosportsmanclub.org
SUMMARY:Bremerton Brigade Monthly Shoot
DESCRIPTION:Shooters meet at Black Powder range gazebo at 0900 for safety brief followed by the event. Winners determined after event which usually ends by noon unless a working party is called.
URL:https://poulsbosportsmanclub.org/event/black-powder-shoot-2-2021-10-03/2029-10-07/
LOCATION:Primitive Range\, 16990 Clear Creek Road\, Poulsbo\, 98370\, United States
CATEGORIES:Range Activities
END:VEVENT
BEGIN:VEVENT
DTSTART;TZID=America/Los_Angeles:20291017T170000
DTEND;TZID=America/Los_Angeles:20291017T190000
DTSTAMP:20260423T174248
CREATED:20250617T014026Z
LAST-MODIFIED:20250617T014026Z
UID:10005801-1886950800-1886958000@poulsbosportsmanclub.org
SUMMARY:Women’s After Hours
DESCRIPTION:
URL:https://poulsbosportsmanclub.org/event/womens-after-hours/2029-10-17/
LOCATION:WA
CATEGORIES:Range Activities
END:VEVENT
BEGIN:VEVENT
DTSTART;TZID=America/Los_Angeles:20291028T090000
DTEND;TZID=America/Los_Angeles:20291028T120000
DTSTAMP:20260423T174248
CREATED:20260323T030837Z
LAST-MODIFIED:20260323T030837Z
UID:10005919-1887872400-1887883200@poulsbosportsmanclub.org
SUMMARY:Poulsbo Pistoleros Cowboy Action Shooters
DESCRIPTION:Sign-in starts at 9:00 \nEvent starts at 10:00
URL:https://poulsbosportsmanclub.org/event/poulsbo-pistoleros-cowboy-action-shooters/2029-10-28/
LOCATION:Poulsbo Sportsman Club\, 16990 Clear Creek Road\, Poulsbo\, WA\, 98370\, United States
CATEGORIES:Range Activities
END:VEVENT
BEGIN:VEVENT
DTSTART;TZID=America/Los_Angeles:20291104T090000
DTEND;TZID=America/Los_Angeles:20291104T120000
DTSTAMP:20260423T174248
CREATED:20231016T154129Z
LAST-MODIFIED:20241125T172545Z
UID:10005732-1888477200-1888488000@poulsbosportsmanclub.org
SUMMARY:Bremerton Brigade Monthly Shoot
DESCRIPTION:Shooters meet at Black Powder range gazebo at 0900 for safety brief followed by the event. Winners determined after event which usually ends by noon unless a working party is called.
URL:https://poulsbosportsmanclub.org/event/black-powder-shoot-2-2021-10-03/2029-11-04/
LOCATION:Primitive Range\, 16990 Clear Creek Road\, Poulsbo\, 98370\, United States
CATEGORIES:Range Activities
END:VEVENT
BEGIN:VEVENT
DTSTART;TZID=America/Los_Angeles:20291107T080000
DTEND;TZID=America/Los_Angeles:20291107T170000
DTSTAMP:20260423T174248
CREATED:20250617T014208Z
LAST-MODIFIED:20250617T014208Z
UID:10005862-1888732800-1888765200@poulsbosportsmanclub.org
SUMMARY:Women’s After Hours
DESCRIPTION:
URL:https://poulsbosportsmanclub.org/event/womens-after-hours-2/2029-11-07/
LOCATION:WA
CATEGORIES:Range Activities
END:VEVENT
BEGIN:VEVENT
DTSTART;TZID=America/Los_Angeles:20291121T170000
DTEND;TZID=America/Los_Angeles:20291121T190000
DTSTAMP:20260423T174248
CREATED:20250617T014026Z
LAST-MODIFIED:20250617T014026Z
UID:10005802-1889974800-1889982000@poulsbosportsmanclub.org
SUMMARY:Women’s After Hours
DESCRIPTION:
URL:https://poulsbosportsmanclub.org/event/womens-after-hours/2029-11-21/
LOCATION:WA
CATEGORIES:Range Activities
END:VEVENT
BEGIN:VEVENT
DTSTART;TZID=America/Los_Angeles:20291125T090000
DTEND;TZID=America/Los_Angeles:20291125T120000
DTSTAMP:20260423T174248
CREATED:20260323T030837Z
LAST-MODIFIED:20260323T030837Z
UID:10005920-1890291600-1890302400@poulsbosportsmanclub.org
SUMMARY:Poulsbo Pistoleros Cowboy Action Shooters
DESCRIPTION:Sign-in starts at 9:00 \nEvent starts at 10:00
URL:https://poulsbosportsmanclub.org/event/poulsbo-pistoleros-cowboy-action-shooters/2029-11-25/
LOCATION:Poulsbo Sportsman Club\, 16990 Clear Creek Road\, Poulsbo\, WA\, 98370\, United States
CATEGORIES:Range Activities
END:VEVENT
BEGIN:VEVENT
DTSTART;TZID=America/Los_Angeles:20291205T080000
DTEND;TZID=America/Los_Angeles:20291205T170000
DTSTAMP:20260423T174248
CREATED:20250617T014208Z
LAST-MODIFIED:20250617T014208Z
UID:10005863-1891152000-1891184400@poulsbosportsmanclub.org
SUMMARY:Women’s After Hours
DESCRIPTION:
URL:https://poulsbosportsmanclub.org/event/womens-after-hours-2/2029-12-05/
LOCATION:WA
CATEGORIES:Range Activities
END:VEVENT
BEGIN:VEVENT
DTSTART;TZID=America/Los_Angeles:20291219T170000
DTEND;TZID=America/Los_Angeles:20291219T190000
DTSTAMP:20260423T174248
CREATED:20250617T014026Z
LAST-MODIFIED:20250617T014026Z
UID:10005803-1892394000-1892401200@poulsbosportsmanclub.org
SUMMARY:Women’s After Hours
DESCRIPTION:
URL:https://poulsbosportsmanclub.org/event/womens-after-hours/2029-12-19/
LOCATION:WA
CATEGORIES:Range Activities
END:VEVENT
BEGIN:VEVENT
DTSTART;TZID=America/Los_Angeles:20291223T090000
DTEND;TZID=America/Los_Angeles:20291223T120000
DTSTAMP:20260423T174248
CREATED:20260323T030837Z
LAST-MODIFIED:20260323T030837Z
UID:10005921-1892710800-1892721600@poulsbosportsmanclub.org
SUMMARY:Poulsbo Pistoleros Cowboy Action Shooters
DESCRIPTION:Sign-in starts at 9:00 \nEvent starts at 10:00
URL:https://poulsbosportsmanclub.org/event/poulsbo-pistoleros-cowboy-action-shooters/2029-12-23/
LOCATION:Poulsbo Sportsman Club\, 16990 Clear Creek Road\, Poulsbo\, WA\, 98370\, United States
CATEGORIES:Range Activities
END:VEVENT
BEGIN:VEVENT
DTSTART;TZID=America/Los_Angeles:20300102T080000
DTEND;TZID=America/Los_Angeles:20300102T170000
DTSTAMP:20260423T174248
CREATED:20250617T014208Z
LAST-MODIFIED:20250617T014208Z
UID:10005864-1893571200-1893603600@poulsbosportsmanclub.org
SUMMARY:Women’s After Hours
DESCRIPTION:
URL:https://poulsbosportsmanclub.org/event/womens-after-hours-2/2030-01-02/
LOCATION:WA
CATEGORIES:Range Activities
END:VEVENT
BEGIN:VEVENT
DTSTART;TZID=America/Los_Angeles:20300116T170000
DTEND;TZID=America/Los_Angeles:20300116T190000
DTSTAMP:20260423T174248
CREATED:20250617T014026Z
LAST-MODIFIED:20250617T014026Z
UID:10005804-1894813200-1894820400@poulsbosportsmanclub.org
SUMMARY:Women’s After Hours
DESCRIPTION:
URL:https://poulsbosportsmanclub.org/event/womens-after-hours/2030-01-16/
LOCATION:WA
CATEGORIES:Range Activities
END:VEVENT
BEGIN:VEVENT
DTSTART;TZID=America/Los_Angeles:20300127T090000
DTEND;TZID=America/Los_Angeles:20300127T120000
DTSTAMP:20260423T174248
CREATED:20260323T030837Z
LAST-MODIFIED:20260323T030837Z
UID:10005922-1895734800-1895745600@poulsbosportsmanclub.org
SUMMARY:Poulsbo Pistoleros Cowboy Action Shooters
DESCRIPTION:Sign-in starts at 9:00 \nEvent starts at 10:00
URL:https://poulsbosportsmanclub.org/event/poulsbo-pistoleros-cowboy-action-shooters/2030-01-27/
LOCATION:Poulsbo Sportsman Club\, 16990 Clear Creek Road\, Poulsbo\, WA\, 98370\, United States
CATEGORIES:Range Activities
END:VEVENT
BEGIN:VEVENT
DTSTART;TZID=America/Los_Angeles:20300206T080000
DTEND;TZID=America/Los_Angeles:20300206T170000
DTSTAMP:20260423T174248
CREATED:20250617T014208Z
LAST-MODIFIED:20250617T014208Z
UID:10005865-1896595200-1896627600@poulsbosportsmanclub.org
SUMMARY:Women’s After Hours
DESCRIPTION:
URL:https://poulsbosportsmanclub.org/event/womens-after-hours-2/2030-02-06/
LOCATION:WA
CATEGORIES:Range Activities
END:VEVENT
BEGIN:VEVENT
DTSTART;TZID=America/Los_Angeles:20300220T170000
DTEND;TZID=America/Los_Angeles:20300220T190000
DTSTAMP:20260423T174248
CREATED:20250617T014026Z
LAST-MODIFIED:20250617T014026Z
UID:10005805-1897837200-1897844400@poulsbosportsmanclub.org
SUMMARY:Women’s After Hours
DESCRIPTION:
URL:https://poulsbosportsmanclub.org/event/womens-after-hours/2030-02-20/
LOCATION:WA
CATEGORIES:Range Activities
END:VEVENT
BEGIN:VEVENT
DTSTART;TZID=America/Los_Angeles:20300224T090000
DTEND;TZID=America/Los_Angeles:20300224T120000
DTSTAMP:20260423T174248
CREATED:20260323T030837Z
LAST-MODIFIED:20260323T030837Z
UID:10005923-1898154000-1898164800@poulsbosportsmanclub.org
SUMMARY:Poulsbo Pistoleros Cowboy Action Shooters
DESCRIPTION:Sign-in starts at 9:00 \nEvent starts at 10:00
URL:https://poulsbosportsmanclub.org/event/poulsbo-pistoleros-cowboy-action-shooters/2030-02-24/
LOCATION:Poulsbo Sportsman Club\, 16990 Clear Creek Road\, Poulsbo\, WA\, 98370\, United States
CATEGORIES:Range Activities
END:VEVENT
BEGIN:VEVENT
DTSTART;TZID=America/Los_Angeles:20300306T080000
DTEND;TZID=America/Los_Angeles:20300306T170000
DTSTAMP:20260423T174248
CREATED:20250617T014208Z
LAST-MODIFIED:20250617T014208Z
UID:10005866-1899014400-1899046800@poulsbosportsmanclub.org
SUMMARY:Women’s After Hours
DESCRIPTION:
URL:https://poulsbosportsmanclub.org/event/womens-after-hours-2/2030-03-06/
LOCATION:WA
CATEGORIES:Range Activities
END:VEVENT
BEGIN:VEVENT
DTSTART;TZID=America/Los_Angeles:20300320T170000
DTEND;TZID=America/Los_Angeles:20300320T190000
DTSTAMP:20260423T174248
CREATED:20250617T014026Z
LAST-MODIFIED:20250617T014026Z
UID:10005806-1900256400-1900263600@poulsbosportsmanclub.org
SUMMARY:Women’s After Hours
DESCRIPTION:
URL:https://poulsbosportsmanclub.org/event/womens-after-hours/2030-03-20/
LOCATION:WA
CATEGORIES:Range Activities
END:VEVENT
BEGIN:VEVENT
DTSTART;TZID=America/Los_Angeles:20300324T090000
DTEND;TZID=America/Los_Angeles:20300324T120000
DTSTAMP:20260423T174248
CREATED:20260323T030837Z
LAST-MODIFIED:20260323T030837Z
UID:10005924-1900573200-1900584000@poulsbosportsmanclub.org
SUMMARY:Poulsbo Pistoleros Cowboy Action Shooters
DESCRIPTION:Sign-in starts at 9:00 \nEvent starts at 10:00
URL:https://poulsbosportsmanclub.org/event/poulsbo-pistoleros-cowboy-action-shooters/2030-03-24/
LOCATION:Poulsbo Sportsman Club\, 16990 Clear Creek Road\, Poulsbo\, WA\, 98370\, United States
CATEGORIES:Range Activities
END:VEVENT
BEGIN:VEVENT
DTSTART;TZID=America/Los_Angeles:20300403T080000
DTEND;TZID=America/Los_Angeles:20300403T170000
DTSTAMP:20260423T174248
CREATED:20250617T014208Z
LAST-MODIFIED:20250617T014208Z
UID:10005867-1901433600-1901466000@poulsbosportsmanclub.org
SUMMARY:Women’s After Hours
DESCRIPTION:
URL:https://poulsbosportsmanclub.org/event/womens-after-hours-2/2030-04-03/
LOCATION:WA
CATEGORIES:Range Activities
END:VEVENT
BEGIN:VEVENT
DTSTART;TZID=America/Los_Angeles:20300417T170000
DTEND;TZID=America/Los_Angeles:20300417T190000
DTSTAMP:20260423T174248
CREATED:20250617T014026Z
LAST-MODIFIED:20250617T014026Z
UID:10005807-1902675600-1902682800@poulsbosportsmanclub.org
SUMMARY:Women’s After Hours
DESCRIPTION:
URL:https://poulsbosportsmanclub.org/event/womens-after-hours/2030-04-17/
LOCATION:WA
CATEGORIES:Range Activities
END:VEVENT
BEGIN:VEVENT
DTSTART;TZID=America/Los_Angeles:20300428T090000
DTEND;TZID=America/Los_Angeles:20300428T120000
DTSTAMP:20260423T174248
CREATED:20260323T030837Z
LAST-MODIFIED:20260323T030837Z
UID:10005925-1903597200-1903608000@poulsbosportsmanclub.org
SUMMARY:Poulsbo Pistoleros Cowboy Action Shooters
DESCRIPTION:Sign-in starts at 9:00 \nEvent starts at 10:00
URL:https://poulsbosportsmanclub.org/event/poulsbo-pistoleros-cowboy-action-shooters/2030-04-28/
LOCATION:Poulsbo Sportsman Club\, 16990 Clear Creek Road\, Poulsbo\, WA\, 98370\, United States
CATEGORIES:Range Activities
END:VEVENT
BEGIN:VEVENT
DTSTART;TZID=America/Los_Angeles:20300501T080000
DTEND;TZID=America/Los_Angeles:20300501T170000
DTSTAMP:20260423T174248
CREATED:20250617T014208Z
LAST-MODIFIED:20250617T014208Z
UID:10005868-1903852800-1903885200@poulsbosportsmanclub.org
SUMMARY:Women’s After Hours
DESCRIPTION:
URL:https://poulsbosportsmanclub.org/event/womens-after-hours-2/2030-05-01/
LOCATION:WA
CATEGORIES:Range Activities
END:VEVENT
BEGIN:VEVENT
DTSTART;TZID=America/Los_Angeles:20300515T170000
DTEND;TZID=America/Los_Angeles:20300515T190000
DTSTAMP:20260423T174248
CREATED:20250617T014026Z
LAST-MODIFIED:20250617T014026Z
UID:10005808-1905094800-1905102000@poulsbosportsmanclub.org
SUMMARY:Women’s After Hours
DESCRIPTION:
URL:https://poulsbosportsmanclub.org/event/womens-after-hours/2030-05-15/
LOCATION:WA
CATEGORIES:Range Activities
END:VEVENT
BEGIN:VEVENT
DTSTART;TZID=America/Los_Angeles:20300526T090000
DTEND;TZID=America/Los_Angeles:20300526T120000
DTSTAMP:20260423T174248
CREATED:20260323T030837Z
LAST-MODIFIED:20260323T030837Z
UID:10005926-1906016400-1906027200@poulsbosportsmanclub.org
SUMMARY:Poulsbo Pistoleros Cowboy Action Shooters
DESCRIPTION:Sign-in starts at 9:00 \nEvent starts at 10:00
URL:https://poulsbosportsmanclub.org/event/poulsbo-pistoleros-cowboy-action-shooters/2030-05-26/
LOCATION:Poulsbo Sportsman Club\, 16990 Clear Creek Road\, Poulsbo\, WA\, 98370\, United States
CATEGORIES:Range Activities
END:VEVENT
BEGIN:VEVENT
DTSTART;TZID=America/Los_Angeles:20300601T100000
DTEND;TZID=America/Los_Angeles:20300601T140000
DTSTAMP:20260423T174248
CREATED:20250625T022916Z
LAST-MODIFIED:20250625T022916Z
UID:10005875-1906538400-1906552800@poulsbosportsmanclub.org
SUMMARY:Family Day
DESCRIPTION:A fun event where people of all ages can get together on the range to learn about shooting sports\, gun and gun safety while enjoying the great outdoors.
URL:https://poulsbosportsmanclub.org/event/family-day-2/2030-06-01/
LOCATION:WA
CATEGORIES:Range Activities
END:VEVENT
BEGIN:VEVENT
DTSTART;TZID=America/Los_Angeles:20300605T080000
DTEND;TZID=America/Los_Angeles:20300605T170000
DTSTAMP:20260423T174248
CREATED:20250617T014208Z
LAST-MODIFIED:20250617T014208Z
UID:10005869-1906876800-1906909200@poulsbosportsmanclub.org
SUMMARY:Women’s After Hours
DESCRIPTION:
URL:https://poulsbosportsmanclub.org/event/womens-after-hours-2/2030-06-05/
LOCATION:WA
CATEGORIES:Range Activities
END:VEVENT
BEGIN:VEVENT
DTSTART;TZID=America/Los_Angeles:20300623T090000
DTEND;TZID=America/Los_Angeles:20300623T120000
DTSTAMP:20260423T174248
CREATED:20260323T030837Z
LAST-MODIFIED:20260323T030837Z
UID:10005927-1908435600-1908446400@poulsbosportsmanclub.org
SUMMARY:Poulsbo Pistoleros Cowboy Action Shooters
DESCRIPTION:Sign-in starts at 9:00 \nEvent starts at 10:00
URL:https://poulsbosportsmanclub.org/event/poulsbo-pistoleros-cowboy-action-shooters/2030-06-23/
LOCATION:Poulsbo Sportsman Club\, 16990 Clear Creek Road\, Poulsbo\, WA\, 98370\, United States
CATEGORIES:Range Activities
END:VEVENT
BEGIN:VEVENT
DTSTART;TZID=America/Los_Angeles:20300728T090000
DTEND;TZID=America/Los_Angeles:20300728T120000
DTSTAMP:20260423T174248
CREATED:20260323T030837Z
LAST-MODIFIED:20260323T030837Z
UID:10005928-1911459600-1911470400@poulsbosportsmanclub.org
SUMMARY:Poulsbo Pistoleros Cowboy Action Shooters
DESCRIPTION:Sign-in starts at 9:00 \nEvent starts at 10:00
URL:https://poulsbosportsmanclub.org/event/poulsbo-pistoleros-cowboy-action-shooters/2030-07-28/
LOCATION:Poulsbo Sportsman Club\, 16990 Clear Creek Road\, Poulsbo\, WA\, 98370\, United States
CATEGORIES:Range Activities
END:VEVENT
END:VCALENDAR