BEGIN:VCALENDAR
VERSION:2.0
PRODID:-//Poulsbo Sportsman Club - ECPv6.15.20//NONSGML v1.0//EN
CALSCALE:GREGORIAN
METHOD:PUBLISH
X-WR-CALNAME:Poulsbo Sportsman Club
X-ORIGINAL-URL:https://poulsbosportsmanclub.org
X-WR-CALDESC:Events for Poulsbo Sportsman Club
REFRESH-INTERVAL;VALUE=DURATION:PT1H
X-Robots-Tag:noindex
X-PUBLISHED-TTL:PT1H
BEGIN:VTIMEZONE
TZID:America/Los_Angeles
BEGIN:DAYLIGHT
TZOFFSETFROM:-0800
TZOFFSETTO:-0700
TZNAME:PDT
DTSTART:20280312T100000
END:DAYLIGHT
BEGIN:STANDARD
TZOFFSETFROM:-0700
TZOFFSETTO:-0800
TZNAME:PST
DTSTART:20281105T090000
END:STANDARD
BEGIN:DAYLIGHT
TZOFFSETFROM:-0800
TZOFFSETTO:-0700
TZNAME:PDT
DTSTART:20290311T100000
END:DAYLIGHT
BEGIN:STANDARD
TZOFFSETFROM:-0700
TZOFFSETTO:-0800
TZNAME:PST
DTSTART:20291104T090000
END:STANDARD
BEGIN:DAYLIGHT
TZOFFSETFROM:-0800
TZOFFSETTO:-0700
TZNAME:PDT
DTSTART:20300310T100000
END:DAYLIGHT
BEGIN:STANDARD
TZOFFSETFROM:-0700
TZOFFSETTO:-0800
TZNAME:PST
DTSTART:20301103T090000
END:STANDARD
END:VTIMEZONE
BEGIN:VEVENT
DTSTART;TZID=America/Los_Angeles:20290703T183000
DTEND;TZID=America/Los_Angeles:20290703T193000
DTSTAMP:20260423T142213
CREATED:20240729T135302Z
LAST-MODIFIED:20240729T135302Z
UID:10005459-1877797800-1877801400@poulsbosportsmanclub.org
SUMMARY:General Membership Meeting
DESCRIPTION:Members only. Discuss club business. Identity needs and resources. Encourage participation and support from club members.
URL:https://poulsbosportsmanclub.org/event/general-membership-meeting/2029-07-03/
LOCATION:WA
END:VEVENT
BEGIN:VEVENT
DTSTART;TZID=America/Los_Angeles:20290704T080000
DTEND;TZID=America/Los_Angeles:20290704T170000
DTSTAMP:20260423T142213
CREATED:20250617T014208Z
LAST-MODIFIED:20250617T014208Z
UID:10005858-1877846400-1877878800@poulsbosportsmanclub.org
SUMMARY:Women’s After Hours
DESCRIPTION:
URL:https://poulsbosportsmanclub.org/event/womens-after-hours-2/2029-07-04/
LOCATION:WA
CATEGORIES:Range Activities
END:VEVENT
BEGIN:VEVENT
DTSTART;TZID=America/Los_Angeles:20290706T090000
DTEND;TZID=America/Los_Angeles:20290706T130000
DTSTAMP:20260423T142213
CREATED:20240925T031616Z
LAST-MODIFIED:20240925T031616Z
UID:10005711-1878022800-1878037200@poulsbosportsmanclub.org
SUMMARY:Shotgun/Trap Range
DESCRIPTION:
URL:https://poulsbosportsmanclub.org/event/shotgun-trap-range/2029-07-06/
LOCATION:WA
CATEGORIES:Shotgun Range
END:VEVENT
BEGIN:VEVENT
DTSTART;TZID=America/Los_Angeles:20290713T090000
DTEND;TZID=America/Los_Angeles:20290713T130000
DTSTAMP:20260423T142213
CREATED:20240925T031616Z
LAST-MODIFIED:20240925T031616Z
UID:10005712-1878627600-1878642000@poulsbosportsmanclub.org
SUMMARY:Shotgun/Trap Range
DESCRIPTION:
URL:https://poulsbosportsmanclub.org/event/shotgun-trap-range/2029-07-13/
LOCATION:WA
CATEGORIES:Shotgun Range
END:VEVENT
BEGIN:VEVENT
DTSTART;TZID=America/Los_Angeles:20290718T170000
DTEND;TZID=America/Los_Angeles:20290718T190000
DTSTAMP:20260423T142213
CREATED:20250617T014026Z
LAST-MODIFIED:20250617T014026Z
UID:10005798-1879088400-1879095600@poulsbosportsmanclub.org
SUMMARY:Women’s After Hours
DESCRIPTION:
URL:https://poulsbosportsmanclub.org/event/womens-after-hours/2029-07-18/
LOCATION:WA
CATEGORIES:Range Activities
END:VEVENT
BEGIN:VEVENT
DTSTART;TZID=America/Los_Angeles:20290720T090000
DTEND;TZID=America/Los_Angeles:20290720T130000
DTSTAMP:20260423T142213
CREATED:20240925T031616Z
LAST-MODIFIED:20240925T031616Z
UID:10005713-1879232400-1879246800@poulsbosportsmanclub.org
SUMMARY:Shotgun/Trap Range
DESCRIPTION:
URL:https://poulsbosportsmanclub.org/event/shotgun-trap-range/2029-07-20/
LOCATION:WA
CATEGORIES:Shotgun Range
END:VEVENT
BEGIN:VEVENT
DTSTART;TZID=America/Los_Angeles:20290722T090000
DTEND;TZID=America/Los_Angeles:20290722T120000
DTSTAMP:20260423T142213
CREATED:20260323T030837Z
LAST-MODIFIED:20260323T030837Z
UID:10005916-1879405200-1879416000@poulsbosportsmanclub.org
SUMMARY:Poulsbo Pistoleros Cowboy Action Shooters
DESCRIPTION:Sign-in starts at 9:00 \nEvent starts at 10:00
URL:https://poulsbosportsmanclub.org/event/poulsbo-pistoleros-cowboy-action-shooters/2029-07-22/
LOCATION:Poulsbo Sportsman Club\, 16990 Clear Creek Road\, Poulsbo\, WA\, 98370\, United States
CATEGORIES:Range Activities
END:VEVENT
BEGIN:VEVENT
DTSTART;TZID=America/Los_Angeles:20290727T090000
DTEND;TZID=America/Los_Angeles:20290727T130000
DTSTAMP:20260423T142213
CREATED:20240925T031616Z
LAST-MODIFIED:20240925T031616Z
UID:10005714-1879837200-1879851600@poulsbosportsmanclub.org
SUMMARY:Shotgun/Trap Range
DESCRIPTION:
URL:https://poulsbosportsmanclub.org/event/shotgun-trap-range/2029-07-27/
LOCATION:WA
CATEGORIES:Shotgun Range
END:VEVENT
BEGIN:VEVENT
DTSTART;TZID=America/Los_Angeles:20290801T080000
DTEND;TZID=America/Los_Angeles:20290801T170000
DTSTAMP:20260423T142213
CREATED:20250617T014208Z
LAST-MODIFIED:20250617T014208Z
UID:10005859-1880265600-1880298000@poulsbosportsmanclub.org
SUMMARY:Women’s After Hours
DESCRIPTION:
URL:https://poulsbosportsmanclub.org/event/womens-after-hours-2/2029-08-01/
LOCATION:WA
CATEGORIES:Range Activities
END:VEVENT
BEGIN:VEVENT
DTSTART;TZID=America/Los_Angeles:20290803T090000
DTEND;TZID=America/Los_Angeles:20290803T130000
DTSTAMP:20260423T142213
CREATED:20240925T031616Z
LAST-MODIFIED:20240925T031616Z
UID:10005715-1880442000-1880456400@poulsbosportsmanclub.org
SUMMARY:Shotgun/Trap Range
DESCRIPTION:
URL:https://poulsbosportsmanclub.org/event/shotgun-trap-range/2029-08-03/
LOCATION:WA
CATEGORIES:Shotgun Range
END:VEVENT
BEGIN:VEVENT
DTSTART;TZID=America/Los_Angeles:20290805T090000
DTEND;TZID=America/Los_Angeles:20290805T120000
DTSTAMP:20260423T142213
CREATED:20231016T154129Z
LAST-MODIFIED:20241125T172545Z
UID:10005729-1880614800-1880625600@poulsbosportsmanclub.org
SUMMARY:Bremerton Brigade Monthly Shoot
DESCRIPTION:Shooters meet at Black Powder range gazebo at 0900 for safety brief followed by the event. Winners determined after event which usually ends by noon unless a working party is called.
URL:https://poulsbosportsmanclub.org/event/black-powder-shoot-2-2021-10-03/2029-08-05/
LOCATION:Primitive Range\, 16990 Clear Creek Road\, Poulsbo\, 98370\, United States
CATEGORIES:Range Activities
END:VEVENT
BEGIN:VEVENT
DTSTART;TZID=America/Los_Angeles:20290810T090000
DTEND;TZID=America/Los_Angeles:20290810T130000
DTSTAMP:20260423T142213
CREATED:20240925T031616Z
LAST-MODIFIED:20240925T031616Z
UID:10005716-1881046800-1881061200@poulsbosportsmanclub.org
SUMMARY:Shotgun/Trap Range
DESCRIPTION:
URL:https://poulsbosportsmanclub.org/event/shotgun-trap-range/2029-08-10/
LOCATION:WA
CATEGORIES:Shotgun Range
END:VEVENT
BEGIN:VEVENT
DTSTART;TZID=America/Los_Angeles:20290815T170000
DTEND;TZID=America/Los_Angeles:20290815T190000
DTSTAMP:20260423T142213
CREATED:20250617T014026Z
LAST-MODIFIED:20250617T014026Z
UID:10005799-1881507600-1881514800@poulsbosportsmanclub.org
SUMMARY:Women’s After Hours
DESCRIPTION:
URL:https://poulsbosportsmanclub.org/event/womens-after-hours/2029-08-15/
LOCATION:WA
CATEGORIES:Range Activities
END:VEVENT
BEGIN:VEVENT
DTSTART;TZID=America/Los_Angeles:20290817T090000
DTEND;TZID=America/Los_Angeles:20290817T130000
DTSTAMP:20260423T142213
CREATED:20240925T031616Z
LAST-MODIFIED:20240925T031616Z
UID:10005717-1881651600-1881666000@poulsbosportsmanclub.org
SUMMARY:Shotgun/Trap Range
DESCRIPTION:
URL:https://poulsbosportsmanclub.org/event/shotgun-trap-range/2029-08-17/
LOCATION:WA
CATEGORIES:Shotgun Range
END:VEVENT
BEGIN:VEVENT
DTSTART;TZID=America/Los_Angeles:20290824T090000
DTEND;TZID=America/Los_Angeles:20290824T130000
DTSTAMP:20260423T142213
CREATED:20240925T031616Z
LAST-MODIFIED:20240925T031616Z
UID:10005718-1882256400-1882270800@poulsbosportsmanclub.org
SUMMARY:Shotgun/Trap Range
DESCRIPTION:
URL:https://poulsbosportsmanclub.org/event/shotgun-trap-range/2029-08-24/
LOCATION:WA
CATEGORIES:Shotgun Range
END:VEVENT
BEGIN:VEVENT
DTSTART;TZID=America/Los_Angeles:20290826T090000
DTEND;TZID=America/Los_Angeles:20290826T120000
DTSTAMP:20260423T142213
CREATED:20260323T030837Z
LAST-MODIFIED:20260323T030837Z
UID:10005917-1882429200-1882440000@poulsbosportsmanclub.org
SUMMARY:Poulsbo Pistoleros Cowboy Action Shooters
DESCRIPTION:Sign-in starts at 9:00 \nEvent starts at 10:00
URL:https://poulsbosportsmanclub.org/event/poulsbo-pistoleros-cowboy-action-shooters/2029-08-26/
LOCATION:Poulsbo Sportsman Club\, 16990 Clear Creek Road\, Poulsbo\, WA\, 98370\, United States
CATEGORIES:Range Activities
END:VEVENT
BEGIN:VEVENT
DTSTART;TZID=America/Los_Angeles:20290831T090000
DTEND;TZID=America/Los_Angeles:20290831T130000
DTSTAMP:20260423T142213
CREATED:20240925T031616Z
LAST-MODIFIED:20240925T031616Z
UID:10005719-1882861200-1882875600@poulsbosportsmanclub.org
SUMMARY:Shotgun/Trap Range
DESCRIPTION:
URL:https://poulsbosportsmanclub.org/event/shotgun-trap-range/2029-08-31/
LOCATION:WA
CATEGORIES:Shotgun Range
END:VEVENT
BEGIN:VEVENT
DTSTART;TZID=America/Los_Angeles:20290902T090000
DTEND;TZID=America/Los_Angeles:20290902T120000
DTSTAMP:20260423T142213
CREATED:20231016T154129Z
LAST-MODIFIED:20241125T172545Z
UID:10005730-1883034000-1883044800@poulsbosportsmanclub.org
SUMMARY:Bremerton Brigade Monthly Shoot
DESCRIPTION:Shooters meet at Black Powder range gazebo at 0900 for safety brief followed by the event. Winners determined after event which usually ends by noon unless a working party is called.
URL:https://poulsbosportsmanclub.org/event/black-powder-shoot-2-2021-10-03/2029-09-02/
LOCATION:Primitive Range\, 16990 Clear Creek Road\, Poulsbo\, 98370\, United States
CATEGORIES:Range Activities
END:VEVENT
BEGIN:VEVENT
DTSTART;TZID=America/Los_Angeles:20290905T080000
DTEND;TZID=America/Los_Angeles:20290905T170000
DTSTAMP:20260423T142213
CREATED:20250617T014208Z
LAST-MODIFIED:20250617T014208Z
UID:10005860-1883289600-1883322000@poulsbosportsmanclub.org
SUMMARY:Women’s After Hours
DESCRIPTION:
URL:https://poulsbosportsmanclub.org/event/womens-after-hours-2/2029-09-05/
LOCATION:WA
CATEGORIES:Range Activities
END:VEVENT
BEGIN:VEVENT
DTSTART;TZID=America/Los_Angeles:20290907T090000
DTEND;TZID=America/Los_Angeles:20290907T130000
DTSTAMP:20260423T142213
CREATED:20240925T031616Z
LAST-MODIFIED:20240925T031616Z
UID:10005720-1883466000-1883480400@poulsbosportsmanclub.org
SUMMARY:Shotgun/Trap Range
DESCRIPTION:
URL:https://poulsbosportsmanclub.org/event/shotgun-trap-range/2029-09-07/
LOCATION:WA
CATEGORIES:Shotgun Range
END:VEVENT
BEGIN:VEVENT
DTSTART;TZID=America/Los_Angeles:20290914T090000
DTEND;TZID=America/Los_Angeles:20290914T130000
DTSTAMP:20260423T142213
CREATED:20240925T031616Z
LAST-MODIFIED:20240925T031616Z
UID:10005721-1884070800-1884085200@poulsbosportsmanclub.org
SUMMARY:Shotgun/Trap Range
DESCRIPTION:
URL:https://poulsbosportsmanclub.org/event/shotgun-trap-range/2029-09-14/
LOCATION:WA
CATEGORIES:Shotgun Range
END:VEVENT
BEGIN:VEVENT
DTSTART;TZID=America/Los_Angeles:20290919T170000
DTEND;TZID=America/Los_Angeles:20290919T190000
DTSTAMP:20260423T142213
CREATED:20250617T014026Z
LAST-MODIFIED:20250617T014026Z
UID:10005800-1884531600-1884538800@poulsbosportsmanclub.org
SUMMARY:Women’s After Hours
DESCRIPTION:
URL:https://poulsbosportsmanclub.org/event/womens-after-hours/2029-09-19/
LOCATION:WA
CATEGORIES:Range Activities
END:VEVENT
BEGIN:VEVENT
DTSTART;TZID=America/Los_Angeles:20290921T090000
DTEND;TZID=America/Los_Angeles:20290921T130000
DTSTAMP:20260423T142213
CREATED:20240925T031616Z
LAST-MODIFIED:20240925T031616Z
UID:10005722-1884675600-1884690000@poulsbosportsmanclub.org
SUMMARY:Shotgun/Trap Range
DESCRIPTION:
URL:https://poulsbosportsmanclub.org/event/shotgun-trap-range/2029-09-21/
LOCATION:WA
CATEGORIES:Shotgun Range
END:VEVENT
BEGIN:VEVENT
DTSTART;TZID=America/Los_Angeles:20290923T090000
DTEND;TZID=America/Los_Angeles:20290923T120000
DTSTAMP:20260423T142213
CREATED:20260323T030837Z
LAST-MODIFIED:20260323T030837Z
UID:10005918-1884848400-1884859200@poulsbosportsmanclub.org
SUMMARY:Poulsbo Pistoleros Cowboy Action Shooters
DESCRIPTION:Sign-in starts at 9:00 \nEvent starts at 10:00
URL:https://poulsbosportsmanclub.org/event/poulsbo-pistoleros-cowboy-action-shooters/2029-09-23/
LOCATION:Poulsbo Sportsman Club\, 16990 Clear Creek Road\, Poulsbo\, WA\, 98370\, United States
CATEGORIES:Range Activities
END:VEVENT
BEGIN:VEVENT
DTSTART;TZID=America/Los_Angeles:20291003T080000
DTEND;TZID=America/Los_Angeles:20291003T170000
DTSTAMP:20260423T142213
CREATED:20250617T014208Z
LAST-MODIFIED:20250617T014208Z
UID:10005861-1885708800-1885741200@poulsbosportsmanclub.org
SUMMARY:Women’s After Hours
DESCRIPTION:
URL:https://poulsbosportsmanclub.org/event/womens-after-hours-2/2029-10-03/
LOCATION:WA
CATEGORIES:Range Activities
END:VEVENT
BEGIN:VEVENT
DTSTART;TZID=America/Los_Angeles:20291007T090000
DTEND;TZID=America/Los_Angeles:20291007T120000
DTSTAMP:20260423T142213
CREATED:20231016T154129Z
LAST-MODIFIED:20241125T172545Z
UID:10005731-1886058000-1886068800@poulsbosportsmanclub.org
SUMMARY:Bremerton Brigade Monthly Shoot
DESCRIPTION:Shooters meet at Black Powder range gazebo at 0900 for safety brief followed by the event. Winners determined after event which usually ends by noon unless a working party is called.
URL:https://poulsbosportsmanclub.org/event/black-powder-shoot-2-2021-10-03/2029-10-07/
LOCATION:Primitive Range\, 16990 Clear Creek Road\, Poulsbo\, 98370\, United States
CATEGORIES:Range Activities
END:VEVENT
BEGIN:VEVENT
DTSTART;TZID=America/Los_Angeles:20291017T170000
DTEND;TZID=America/Los_Angeles:20291017T190000
DTSTAMP:20260423T142213
CREATED:20250617T014026Z
LAST-MODIFIED:20250617T014026Z
UID:10005801-1886950800-1886958000@poulsbosportsmanclub.org
SUMMARY:Women’s After Hours
DESCRIPTION:
URL:https://poulsbosportsmanclub.org/event/womens-after-hours/2029-10-17/
LOCATION:WA
CATEGORIES:Range Activities
END:VEVENT
BEGIN:VEVENT
DTSTART;TZID=America/Los_Angeles:20291028T090000
DTEND;TZID=America/Los_Angeles:20291028T120000
DTSTAMP:20260423T142213
CREATED:20260323T030837Z
LAST-MODIFIED:20260323T030837Z
UID:10005919-1887872400-1887883200@poulsbosportsmanclub.org
SUMMARY:Poulsbo Pistoleros Cowboy Action Shooters
DESCRIPTION:Sign-in starts at 9:00 \nEvent starts at 10:00
URL:https://poulsbosportsmanclub.org/event/poulsbo-pistoleros-cowboy-action-shooters/2029-10-28/
LOCATION:Poulsbo Sportsman Club\, 16990 Clear Creek Road\, Poulsbo\, WA\, 98370\, United States
CATEGORIES:Range Activities
END:VEVENT
BEGIN:VEVENT
DTSTART;TZID=America/Los_Angeles:20291104T090000
DTEND;TZID=America/Los_Angeles:20291104T120000
DTSTAMP:20260423T142213
CREATED:20231016T154129Z
LAST-MODIFIED:20241125T172545Z
UID:10005732-1888477200-1888488000@poulsbosportsmanclub.org
SUMMARY:Bremerton Brigade Monthly Shoot
DESCRIPTION:Shooters meet at Black Powder range gazebo at 0900 for safety brief followed by the event. Winners determined after event which usually ends by noon unless a working party is called.
URL:https://poulsbosportsmanclub.org/event/black-powder-shoot-2-2021-10-03/2029-11-04/
LOCATION:Primitive Range\, 16990 Clear Creek Road\, Poulsbo\, 98370\, United States
CATEGORIES:Range Activities
END:VEVENT
BEGIN:VEVENT
DTSTART;TZID=America/Los_Angeles:20291107T080000
DTEND;TZID=America/Los_Angeles:20291107T170000
DTSTAMP:20260423T142213
CREATED:20250617T014208Z
LAST-MODIFIED:20250617T014208Z
UID:10005862-1888732800-1888765200@poulsbosportsmanclub.org
SUMMARY:Women’s After Hours
DESCRIPTION:
URL:https://poulsbosportsmanclub.org/event/womens-after-hours-2/2029-11-07/
LOCATION:WA
CATEGORIES:Range Activities
END:VEVENT
END:VCALENDAR