BEGIN:VCALENDAR
VERSION:2.0
PRODID:-//Poulsbo Sportsman Club - ECPv6.15.20//NONSGML v1.0//EN
CALSCALE:GREGORIAN
METHOD:PUBLISH
X-ORIGINAL-URL:https://poulsbosportsmanclub.org
X-WR-CALDESC:Events for Poulsbo Sportsman Club
REFRESH-INTERVAL;VALUE=DURATION:PT1H
X-Robots-Tag:noindex
X-PUBLISHED-TTL:PT1H
BEGIN:VTIMEZONE
TZID:America/Los_Angeles
BEGIN:DAYLIGHT
TZOFFSETFROM:-0800
TZOFFSETTO:-0700
TZNAME:PDT
DTSTART:20280312T100000
END:DAYLIGHT
BEGIN:STANDARD
TZOFFSETFROM:-0700
TZOFFSETTO:-0800
TZNAME:PST
DTSTART:20281105T090000
END:STANDARD
BEGIN:DAYLIGHT
TZOFFSETFROM:-0800
TZOFFSETTO:-0700
TZNAME:PDT
DTSTART:20290311T100000
END:DAYLIGHT
BEGIN:STANDARD
TZOFFSETFROM:-0700
TZOFFSETTO:-0800
TZNAME:PST
DTSTART:20291104T090000
END:STANDARD
BEGIN:DAYLIGHT
TZOFFSETFROM:-0800
TZOFFSETTO:-0700
TZNAME:PDT
DTSTART:20300310T100000
END:DAYLIGHT
BEGIN:STANDARD
TZOFFSETFROM:-0700
TZOFFSETTO:-0800
TZNAME:PST
DTSTART:20301103T090000
END:STANDARD
END:VTIMEZONE
BEGIN:VEVENT
DTSTART;TZID=America/Los_Angeles:20290428T090000
DTEND;TZID=America/Los_Angeles:20290428T140000
DTSTAMP:20260423T110053
CREATED:20210512T044813Z
LAST-MODIFIED:20210512T044813Z
UID:10003722-1872061200-1872079200@poulsbosportsmanclub.org
SUMMARY:Shotgun / 5 Stand
DESCRIPTION:Saturdays from 9am to 2pm
URL:https://poulsbosportsmanclub.org/event/shotgun-5-stand/2029-04-28/
LOCATION:Poulsbo Sportsman Club\, 16990 Clear Creek Road\, Poulsbo\, WA\, 98370\, United States
CATEGORIES:Range Activities
END:VEVENT
BEGIN:VEVENT
DTSTART;TZID=America/Los_Angeles:20290501T183000
DTEND;TZID=America/Los_Angeles:20290501T193000
DTSTAMP:20260423T110053
CREATED:20240729T135302Z
LAST-MODIFIED:20240729T135302Z
UID:10005457-1872354600-1872358200@poulsbosportsmanclub.org
SUMMARY:General Membership Meeting
DESCRIPTION:Members only. Discuss club business. Identity needs and resources. Encourage participation and support from club members.
URL:https://poulsbosportsmanclub.org/event/general-membership-meeting/2029-05-01/
LOCATION:WA
END:VEVENT
BEGIN:VEVENT
DTSTART;TZID=America/Los_Angeles:20290502T080000
DTEND;TZID=America/Los_Angeles:20290502T170000
DTSTAMP:20260423T110053
CREATED:20250617T014208Z
LAST-MODIFIED:20250617T014208Z
UID:10005856-1872403200-1872435600@poulsbosportsmanclub.org
SUMMARY:Women’s After Hours
DESCRIPTION:
URL:https://poulsbosportsmanclub.org/event/womens-after-hours-2/2029-05-02/
LOCATION:WA
CATEGORIES:Range Activities
END:VEVENT
BEGIN:VEVENT
DTSTART;TZID=America/Los_Angeles:20290502T090000
DTEND;TZID=America/Los_Angeles:20290502T130000
DTSTAMP:20260423T110053
CREATED:20210512T044534Z
LAST-MODIFIED:20220109T180655Z
UID:10001643-1872406800-1872421200@poulsbosportsmanclub.org
SUMMARY:Shotgun/Trap
DESCRIPTION:9 am to 1 pm Wednesdays and Thursdays
URL:https://poulsbosportsmanclub.org/event/shotgun-trap/2029-05-02/
LOCATION:Poulsbo Sportsman Club\, 16990 Clear Creek Road\, Poulsbo\, WA\, 98370\, United States
CATEGORIES:Range Activities
END:VEVENT
BEGIN:VEVENT
DTSTART;TZID=America/Los_Angeles:20290503T090000
DTEND;TZID=America/Los_Angeles:20290503T130000
DTSTAMP:20260423T110053
CREATED:20210512T044534Z
LAST-MODIFIED:20220109T180655Z
UID:10001644-1872493200-1872507600@poulsbosportsmanclub.org
SUMMARY:Shotgun/Trap
DESCRIPTION:9 am to 1 pm Wednesdays and Thursdays
URL:https://poulsbosportsmanclub.org/event/shotgun-trap/2029-05-03/
LOCATION:Poulsbo Sportsman Club\, 16990 Clear Creek Road\, Poulsbo\, WA\, 98370\, United States
CATEGORIES:Range Activities
END:VEVENT
BEGIN:VEVENT
DTSTART;TZID=America/Los_Angeles:20290504T090000
DTEND;TZID=America/Los_Angeles:20290504T130000
DTSTAMP:20260423T110053
CREATED:20240925T031616Z
LAST-MODIFIED:20240925T031616Z
UID:10005702-1872579600-1872594000@poulsbosportsmanclub.org
SUMMARY:Shotgun/Trap Range
DESCRIPTION:
URL:https://poulsbosportsmanclub.org/event/shotgun-trap-range/2029-05-04/
LOCATION:WA
CATEGORIES:Shotgun Range
END:VEVENT
BEGIN:VEVENT
DTSTART;TZID=America/Los_Angeles:20290505T090000
DTEND;TZID=America/Los_Angeles:20290505T140000
DTSTAMP:20260423T110053
CREATED:20210512T044813Z
LAST-MODIFIED:20210512T044813Z
UID:10003723-1872666000-1872684000@poulsbosportsmanclub.org
SUMMARY:Shotgun / 5 Stand
DESCRIPTION:Saturdays from 9am to 2pm
URL:https://poulsbosportsmanclub.org/event/shotgun-5-stand/2029-05-05/
LOCATION:Poulsbo Sportsman Club\, 16990 Clear Creek Road\, Poulsbo\, WA\, 98370\, United States
CATEGORIES:Range Activities
END:VEVENT
BEGIN:VEVENT
DTSTART;TZID=America/Los_Angeles:20290506T090000
DTEND;TZID=America/Los_Angeles:20290506T120000
DTSTAMP:20260423T110053
CREATED:20231016T154129Z
LAST-MODIFIED:20241125T172545Z
UID:10005726-1872752400-1872763200@poulsbosportsmanclub.org
SUMMARY:Bremerton Brigade Monthly Shoot
DESCRIPTION:Shooters meet at Black Powder range gazebo at 0900 for safety brief followed by the event. Winners determined after event which usually ends by noon unless a working party is called.
URL:https://poulsbosportsmanclub.org/event/black-powder-shoot-2-2021-10-03/2029-05-06/
LOCATION:Primitive Range\, 16990 Clear Creek Road\, Poulsbo\, 98370\, United States
CATEGORIES:Range Activities
END:VEVENT
BEGIN:VEVENT
DTSTART;TZID=America/Los_Angeles:20290511T090000
DTEND;TZID=America/Los_Angeles:20290511T130000
DTSTAMP:20260423T110053
CREATED:20240925T031616Z
LAST-MODIFIED:20240925T031616Z
UID:10005703-1873184400-1873198800@poulsbosportsmanclub.org
SUMMARY:Shotgun/Trap Range
DESCRIPTION:
URL:https://poulsbosportsmanclub.org/event/shotgun-trap-range/2029-05-11/
LOCATION:WA
CATEGORIES:Shotgun Range
END:VEVENT
BEGIN:VEVENT
DTSTART;TZID=America/Los_Angeles:20290516T170000
DTEND;TZID=America/Los_Angeles:20290516T190000
DTSTAMP:20260423T110053
CREATED:20250617T014026Z
LAST-MODIFIED:20250617T014026Z
UID:10005796-1873645200-1873652400@poulsbosportsmanclub.org
SUMMARY:Women’s After Hours
DESCRIPTION:
URL:https://poulsbosportsmanclub.org/event/womens-after-hours/2029-05-16/
LOCATION:WA
CATEGORIES:Range Activities
END:VEVENT
BEGIN:VEVENT
DTSTART;TZID=America/Los_Angeles:20290518T090000
DTEND;TZID=America/Los_Angeles:20290518T130000
DTSTAMP:20260423T110053
CREATED:20240925T031616Z
LAST-MODIFIED:20240925T031616Z
UID:10005704-1873789200-1873803600@poulsbosportsmanclub.org
SUMMARY:Shotgun/Trap Range
DESCRIPTION:
URL:https://poulsbosportsmanclub.org/event/shotgun-trap-range/2029-05-18/
LOCATION:WA
CATEGORIES:Shotgun Range
END:VEVENT
BEGIN:VEVENT
DTSTART;TZID=America/Los_Angeles:20290525T090000
DTEND;TZID=America/Los_Angeles:20290525T130000
DTSTAMP:20260423T110053
CREATED:20240925T031616Z
LAST-MODIFIED:20240925T031616Z
UID:10005705-1874394000-1874408400@poulsbosportsmanclub.org
SUMMARY:Shotgun/Trap Range
DESCRIPTION:
URL:https://poulsbosportsmanclub.org/event/shotgun-trap-range/2029-05-25/
LOCATION:WA
CATEGORIES:Shotgun Range
END:VEVENT
BEGIN:VEVENT
DTSTART;TZID=America/Los_Angeles:20290527T090000
DTEND;TZID=America/Los_Angeles:20290527T120000
DTSTAMP:20260423T110053
CREATED:20260323T030837Z
LAST-MODIFIED:20260323T030837Z
UID:10005914-1874566800-1874577600@poulsbosportsmanclub.org
SUMMARY:Poulsbo Pistoleros Cowboy Action Shooters
DESCRIPTION:Sign-in starts at 9:00 \nEvent starts at 10:00
URL:https://poulsbosportsmanclub.org/event/poulsbo-pistoleros-cowboy-action-shooters/2029-05-27/
LOCATION:Poulsbo Sportsman Club\, 16990 Clear Creek Road\, Poulsbo\, WA\, 98370\, United States
CATEGORIES:Range Activities
END:VEVENT
BEGIN:VEVENT
DTSTART;TZID=America/Los_Angeles:20290601T090000
DTEND;TZID=America/Los_Angeles:20290601T130000
DTSTAMP:20260423T110053
CREATED:20240925T031616Z
LAST-MODIFIED:20240925T031616Z
UID:10005706-1874998800-1875013200@poulsbosportsmanclub.org
SUMMARY:Shotgun/Trap Range
DESCRIPTION:
URL:https://poulsbosportsmanclub.org/event/shotgun-trap-range/2029-06-01/
LOCATION:WA
CATEGORIES:Shotgun Range
END:VEVENT
BEGIN:VEVENT
DTSTART;TZID=America/Los_Angeles:20290602T100000
DTEND;TZID=America/Los_Angeles:20290602T140000
DTSTAMP:20260423T110053
CREATED:20250625T022916Z
LAST-MODIFIED:20250625T022916Z
UID:10005874-1875088800-1875103200@poulsbosportsmanclub.org
SUMMARY:Family Day
DESCRIPTION:A fun event where people of all ages can get together on the range to learn about shooting sports\, gun and gun safety while enjoying the great outdoors.
URL:https://poulsbosportsmanclub.org/event/family-day-2/2029-06-02/
LOCATION:WA
CATEGORIES:Range Activities
END:VEVENT
BEGIN:VEVENT
DTSTART;TZID=America/Los_Angeles:20290603T090000
DTEND;TZID=America/Los_Angeles:20290603T120000
DTSTAMP:20260423T110053
CREATED:20231016T154129Z
LAST-MODIFIED:20241125T172545Z
UID:10005727-1875171600-1875182400@poulsbosportsmanclub.org
SUMMARY:Bremerton Brigade Monthly Shoot
DESCRIPTION:Shooters meet at Black Powder range gazebo at 0900 for safety brief followed by the event. Winners determined after event which usually ends by noon unless a working party is called.
URL:https://poulsbosportsmanclub.org/event/black-powder-shoot-2-2021-10-03/2029-06-03/
LOCATION:Primitive Range\, 16990 Clear Creek Road\, Poulsbo\, 98370\, United States
CATEGORIES:Range Activities
END:VEVENT
BEGIN:VEVENT
DTSTART;TZID=America/Los_Angeles:20290605T183000
DTEND;TZID=America/Los_Angeles:20290605T193000
DTSTAMP:20260423T110053
CREATED:20240729T135302Z
LAST-MODIFIED:20240729T135302Z
UID:10005458-1875378600-1875382200@poulsbosportsmanclub.org
SUMMARY:General Membership Meeting
DESCRIPTION:Members only. Discuss club business. Identity needs and resources. Encourage participation and support from club members.
URL:https://poulsbosportsmanclub.org/event/general-membership-meeting/2029-06-05/
LOCATION:WA
END:VEVENT
BEGIN:VEVENT
DTSTART;TZID=America/Los_Angeles:20290606T080000
DTEND;TZID=America/Los_Angeles:20290606T170000
DTSTAMP:20260423T110053
CREATED:20250617T014208Z
LAST-MODIFIED:20250617T014208Z
UID:10005857-1875427200-1875459600@poulsbosportsmanclub.org
SUMMARY:Women’s After Hours
DESCRIPTION:
URL:https://poulsbosportsmanclub.org/event/womens-after-hours-2/2029-06-06/
LOCATION:WA
CATEGORIES:Range Activities
END:VEVENT
BEGIN:VEVENT
DTSTART;TZID=America/Los_Angeles:20290608T090000
DTEND;TZID=America/Los_Angeles:20290608T130000
DTSTAMP:20260423T110053
CREATED:20240925T031616Z
LAST-MODIFIED:20240925T031616Z
UID:10005707-1875603600-1875618000@poulsbosportsmanclub.org
SUMMARY:Shotgun/Trap Range
DESCRIPTION:
URL:https://poulsbosportsmanclub.org/event/shotgun-trap-range/2029-06-08/
LOCATION:WA
CATEGORIES:Shotgun Range
END:VEVENT
BEGIN:VEVENT
DTSTART;TZID=America/Los_Angeles:20290615T090000
DTEND;TZID=America/Los_Angeles:20290615T130000
DTSTAMP:20260423T110053
CREATED:20240925T031616Z
LAST-MODIFIED:20240925T031616Z
UID:10005708-1876208400-1876222800@poulsbosportsmanclub.org
SUMMARY:Shotgun/Trap Range
DESCRIPTION:
URL:https://poulsbosportsmanclub.org/event/shotgun-trap-range/2029-06-15/
LOCATION:WA
CATEGORIES:Shotgun Range
END:VEVENT
BEGIN:VEVENT
DTSTART;TZID=America/Los_Angeles:20290620T170000
DTEND;TZID=America/Los_Angeles:20290620T190000
DTSTAMP:20260423T110053
CREATED:20250617T014026Z
LAST-MODIFIED:20250617T014026Z
UID:10005797-1876669200-1876676400@poulsbosportsmanclub.org
SUMMARY:Women’s After Hours
DESCRIPTION:
URL:https://poulsbosportsmanclub.org/event/womens-after-hours/2029-06-20/
LOCATION:WA
CATEGORIES:Range Activities
END:VEVENT
BEGIN:VEVENT
DTSTART;TZID=America/Los_Angeles:20290622T090000
DTEND;TZID=America/Los_Angeles:20290622T130000
DTSTAMP:20260423T110053
CREATED:20240925T031616Z
LAST-MODIFIED:20240925T031616Z
UID:10005709-1876813200-1876827600@poulsbosportsmanclub.org
SUMMARY:Shotgun/Trap Range
DESCRIPTION:
URL:https://poulsbosportsmanclub.org/event/shotgun-trap-range/2029-06-22/
LOCATION:WA
CATEGORIES:Shotgun Range
END:VEVENT
BEGIN:VEVENT
DTSTART;TZID=America/Los_Angeles:20290624T090000
DTEND;TZID=America/Los_Angeles:20290624T120000
DTSTAMP:20260423T110054
CREATED:20260323T030837Z
LAST-MODIFIED:20260323T030837Z
UID:10005915-1876986000-1876996800@poulsbosportsmanclub.org
SUMMARY:Poulsbo Pistoleros Cowboy Action Shooters
DESCRIPTION:Sign-in starts at 9:00 \nEvent starts at 10:00
URL:https://poulsbosportsmanclub.org/event/poulsbo-pistoleros-cowboy-action-shooters/2029-06-24/
LOCATION:Poulsbo Sportsman Club\, 16990 Clear Creek Road\, Poulsbo\, WA\, 98370\, United States
CATEGORIES:Range Activities
END:VEVENT
BEGIN:VEVENT
DTSTART;TZID=America/Los_Angeles:20290629T090000
DTEND;TZID=America/Los_Angeles:20290629T130000
DTSTAMP:20260423T110054
CREATED:20240925T031616Z
LAST-MODIFIED:20240925T031616Z
UID:10005710-1877418000-1877432400@poulsbosportsmanclub.org
SUMMARY:Shotgun/Trap Range
DESCRIPTION:
URL:https://poulsbosportsmanclub.org/event/shotgun-trap-range/2029-06-29/
LOCATION:WA
CATEGORIES:Shotgun Range
END:VEVENT
BEGIN:VEVENT
DTSTART;TZID=America/Los_Angeles:20290701T090000
DTEND;TZID=America/Los_Angeles:20290701T120000
DTSTAMP:20260423T110054
CREATED:20231016T154129Z
LAST-MODIFIED:20241125T172545Z
UID:10005728-1877590800-1877601600@poulsbosportsmanclub.org
SUMMARY:Bremerton Brigade Monthly Shoot
DESCRIPTION:Shooters meet at Black Powder range gazebo at 0900 for safety brief followed by the event. Winners determined after event which usually ends by noon unless a working party is called.
URL:https://poulsbosportsmanclub.org/event/black-powder-shoot-2-2021-10-03/2029-07-01/
LOCATION:Primitive Range\, 16990 Clear Creek Road\, Poulsbo\, 98370\, United States
CATEGORIES:Range Activities
END:VEVENT
BEGIN:VEVENT
DTSTART;TZID=America/Los_Angeles:20290703T183000
DTEND;TZID=America/Los_Angeles:20290703T193000
DTSTAMP:20260423T110054
CREATED:20240729T135302Z
LAST-MODIFIED:20240729T135302Z
UID:10005459-1877797800-1877801400@poulsbosportsmanclub.org
SUMMARY:General Membership Meeting
DESCRIPTION:Members only. Discuss club business. Identity needs and resources. Encourage participation and support from club members.
URL:https://poulsbosportsmanclub.org/event/general-membership-meeting/2029-07-03/
LOCATION:WA
END:VEVENT
BEGIN:VEVENT
DTSTART;TZID=America/Los_Angeles:20290704T080000
DTEND;TZID=America/Los_Angeles:20290704T170000
DTSTAMP:20260423T110054
CREATED:20250617T014208Z
LAST-MODIFIED:20250617T014208Z
UID:10005858-1877846400-1877878800@poulsbosportsmanclub.org
SUMMARY:Women’s After Hours
DESCRIPTION:
URL:https://poulsbosportsmanclub.org/event/womens-after-hours-2/2029-07-04/
LOCATION:WA
CATEGORIES:Range Activities
END:VEVENT
BEGIN:VEVENT
DTSTART;TZID=America/Los_Angeles:20290706T090000
DTEND;TZID=America/Los_Angeles:20290706T130000
DTSTAMP:20260423T110054
CREATED:20240925T031616Z
LAST-MODIFIED:20240925T031616Z
UID:10005711-1878022800-1878037200@poulsbosportsmanclub.org
SUMMARY:Shotgun/Trap Range
DESCRIPTION:
URL:https://poulsbosportsmanclub.org/event/shotgun-trap-range/2029-07-06/
LOCATION:WA
CATEGORIES:Shotgun Range
END:VEVENT
BEGIN:VEVENT
DTSTART;TZID=America/Los_Angeles:20290713T090000
DTEND;TZID=America/Los_Angeles:20290713T130000
DTSTAMP:20260423T110054
CREATED:20240925T031616Z
LAST-MODIFIED:20240925T031616Z
UID:10005712-1878627600-1878642000@poulsbosportsmanclub.org
SUMMARY:Shotgun/Trap Range
DESCRIPTION:
URL:https://poulsbosportsmanclub.org/event/shotgun-trap-range/2029-07-13/
LOCATION:WA
CATEGORIES:Shotgun Range
END:VEVENT
BEGIN:VEVENT
DTSTART;TZID=America/Los_Angeles:20290718T170000
DTEND;TZID=America/Los_Angeles:20290718T190000
DTSTAMP:20260423T110054
CREATED:20250617T014026Z
LAST-MODIFIED:20250617T014026Z
UID:10005798-1879088400-1879095600@poulsbosportsmanclub.org
SUMMARY:Women’s After Hours
DESCRIPTION:
URL:https://poulsbosportsmanclub.org/event/womens-after-hours/2029-07-18/
LOCATION:WA
CATEGORIES:Range Activities
END:VEVENT
END:VCALENDAR