BEGIN:VCALENDAR
VERSION:2.0
PRODID:-//Poulsbo Sportsman Club - ECPv6.15.20//NONSGML v1.0//EN
CALSCALE:GREGORIAN
METHOD:PUBLISH
X-WR-CALNAME:Poulsbo Sportsman Club
X-ORIGINAL-URL:https://poulsbosportsmanclub.org
X-WR-CALDESC:Events for Poulsbo Sportsman Club
REFRESH-INTERVAL;VALUE=DURATION:PT1H
X-Robots-Tag:noindex
X-PUBLISHED-TTL:PT1H
BEGIN:VTIMEZONE
TZID:America/Los_Angeles
BEGIN:DAYLIGHT
TZOFFSETFROM:-0800
TZOFFSETTO:-0700
TZNAME:PDT
DTSTART:20280312T100000
END:DAYLIGHT
BEGIN:STANDARD
TZOFFSETFROM:-0700
TZOFFSETTO:-0800
TZNAME:PST
DTSTART:20281105T090000
END:STANDARD
BEGIN:DAYLIGHT
TZOFFSETFROM:-0800
TZOFFSETTO:-0700
TZNAME:PDT
DTSTART:20290311T100000
END:DAYLIGHT
BEGIN:STANDARD
TZOFFSETFROM:-0700
TZOFFSETTO:-0800
TZNAME:PST
DTSTART:20291104T090000
END:STANDARD
BEGIN:DAYLIGHT
TZOFFSETFROM:-0800
TZOFFSETTO:-0700
TZNAME:PDT
DTSTART:20300310T100000
END:DAYLIGHT
BEGIN:STANDARD
TZOFFSETFROM:-0700
TZOFFSETTO:-0800
TZNAME:PST
DTSTART:20301103T090000
END:STANDARD
END:VTIMEZONE
BEGIN:VEVENT
DTSTART;TZID=America/Los_Angeles:20290104T090000
DTEND;TZID=America/Los_Angeles:20290104T130000
DTSTAMP:20260422T222619
CREATED:20210512T044534Z
LAST-MODIFIED:20220109T180655Z
UID:10001610-1862211600-1862226000@poulsbosportsmanclub.org
SUMMARY:Shotgun/Trap
DESCRIPTION:9 am to 1 pm Wednesdays and Thursdays
URL:https://poulsbosportsmanclub.org/event/shotgun-trap/2029-01-04/
LOCATION:Poulsbo Sportsman Club\, 16990 Clear Creek Road\, Poulsbo\, WA\, 98370\, United States
CATEGORIES:Range Activities
END:VEVENT
BEGIN:VEVENT
DTSTART;TZID=America/Los_Angeles:20290105T090000
DTEND;TZID=America/Los_Angeles:20290105T130000
DTSTAMP:20260422T222619
CREATED:20240925T031616Z
LAST-MODIFIED:20240925T031616Z
UID:10005685-1862298000-1862312400@poulsbosportsmanclub.org
SUMMARY:Shotgun/Trap Range
DESCRIPTION:
URL:https://poulsbosportsmanclub.org/event/shotgun-trap-range/2029-01-05/
LOCATION:WA
CATEGORIES:Shotgun Range
END:VEVENT
BEGIN:VEVENT
DTSTART;TZID=America/Los_Angeles:20290106T090000
DTEND;TZID=America/Los_Angeles:20290106T140000
DTSTAMP:20260422T222619
CREATED:20210512T044813Z
LAST-MODIFIED:20210512T044813Z
UID:10003706-1862384400-1862402400@poulsbosportsmanclub.org
SUMMARY:Shotgun / 5 Stand
DESCRIPTION:Saturdays from 9am to 2pm
URL:https://poulsbosportsmanclub.org/event/shotgun-5-stand/2029-01-06/
LOCATION:Poulsbo Sportsman Club\, 16990 Clear Creek Road\, Poulsbo\, WA\, 98370\, United States
CATEGORIES:Range Activities
END:VEVENT
BEGIN:VEVENT
DTSTART;TZID=America/Los_Angeles:20290107T090000
DTEND;TZID=America/Los_Angeles:20290107T120000
DTSTAMP:20260422T222619
CREATED:20231016T154129Z
LAST-MODIFIED:20241125T172545Z
UID:10003832-1862470800-1862481600@poulsbosportsmanclub.org
SUMMARY:Bremerton Brigade Monthly Shoot
DESCRIPTION:Shooters meet at Black Powder range gazebo at 0900 for safety brief followed by the event. Winners determined after event which usually ends by noon unless a working party is called.
URL:https://poulsbosportsmanclub.org/event/black-powder-shoot-2-2021-10-03/2029-01-07/
LOCATION:Primitive Range\, 16990 Clear Creek Road\, Poulsbo\, 98370\, United States
CATEGORIES:Range Activities
END:VEVENT
BEGIN:VEVENT
DTSTART;TZID=America/Los_Angeles:20290110T090000
DTEND;TZID=America/Los_Angeles:20290110T130000
DTSTAMP:20260422T222619
CREATED:20210512T044534Z
LAST-MODIFIED:20220109T180655Z
UID:10001611-1862730000-1862744400@poulsbosportsmanclub.org
SUMMARY:Shotgun/Trap
DESCRIPTION:9 am to 1 pm Wednesdays and Thursdays
URL:https://poulsbosportsmanclub.org/event/shotgun-trap/2029-01-10/
LOCATION:Poulsbo Sportsman Club\, 16990 Clear Creek Road\, Poulsbo\, WA\, 98370\, United States
CATEGORIES:Range Activities
END:VEVENT
BEGIN:VEVENT
DTSTART;TZID=America/Los_Angeles:20290111T090000
DTEND;TZID=America/Los_Angeles:20290111T130000
DTSTAMP:20260422T222619
CREATED:20210512T044534Z
LAST-MODIFIED:20220109T180655Z
UID:10001612-1862816400-1862830800@poulsbosportsmanclub.org
SUMMARY:Shotgun/Trap
DESCRIPTION:9 am to 1 pm Wednesdays and Thursdays
URL:https://poulsbosportsmanclub.org/event/shotgun-trap/2029-01-11/
LOCATION:Poulsbo Sportsman Club\, 16990 Clear Creek Road\, Poulsbo\, WA\, 98370\, United States
CATEGORIES:Range Activities
END:VEVENT
BEGIN:VEVENT
DTSTART;TZID=America/Los_Angeles:20290112T090000
DTEND;TZID=America/Los_Angeles:20290112T130000
DTSTAMP:20260422T222619
CREATED:20240925T031616Z
LAST-MODIFIED:20240925T031616Z
UID:10005686-1862902800-1862917200@poulsbosportsmanclub.org
SUMMARY:Shotgun/Trap Range
DESCRIPTION:
URL:https://poulsbosportsmanclub.org/event/shotgun-trap-range/2029-01-12/
LOCATION:WA
CATEGORIES:Shotgun Range
END:VEVENT
BEGIN:VEVENT
DTSTART;TZID=America/Los_Angeles:20290113T090000
DTEND;TZID=America/Los_Angeles:20290113T123000
DTSTAMP:20260422T222619
CREATED:20231004T190924Z
LAST-MODIFIED:20240328T011118Z
UID:10003901-1862989200-1863001800@poulsbosportsmanclub.org
SUMMARY:Action Pistol Match
DESCRIPTION:Gate opens at 0800\nSign-in & Safety Briefing at 0830\nRange hot at 0900\nFees:  $5 \nPARTICIPANTS NEED TO BRING:\n– A safe\, functioning handgun (ALL CALIBERS WELCOME)\n– 50-100 rounds of ammunition\n– A holster that covers the gun’s trigger area\n– The entry fee (cash only)
URL:https://poulsbosportsmanclub.org/event/action-pistol-match-2/2029-01-13/
LOCATION:WA
CATEGORIES:Range Activities
END:VEVENT
BEGIN:VEVENT
DTSTART;TZID=America/Los_Angeles:20290113T090000
DTEND;TZID=America/Los_Angeles:20290113T140000
DTSTAMP:20260422T222619
CREATED:20210512T044813Z
LAST-MODIFIED:20210512T044813Z
UID:10003707-1862989200-1863007200@poulsbosportsmanclub.org
SUMMARY:Shotgun / 5 Stand
DESCRIPTION:Saturdays from 9am to 2pm
URL:https://poulsbosportsmanclub.org/event/shotgun-5-stand/2029-01-13/
LOCATION:Poulsbo Sportsman Club\, 16990 Clear Creek Road\, Poulsbo\, WA\, 98370\, United States
CATEGORIES:Range Activities
END:VEVENT
BEGIN:VEVENT
DTSTART;TZID=America/Los_Angeles:20290117T090000
DTEND;TZID=America/Los_Angeles:20290117T130000
DTSTAMP:20260422T222619
CREATED:20210512T044534Z
LAST-MODIFIED:20220109T180655Z
UID:10001613-1863334800-1863349200@poulsbosportsmanclub.org
SUMMARY:Shotgun/Trap
DESCRIPTION:9 am to 1 pm Wednesdays and Thursdays
URL:https://poulsbosportsmanclub.org/event/shotgun-trap/2029-01-17/
LOCATION:Poulsbo Sportsman Club\, 16990 Clear Creek Road\, Poulsbo\, WA\, 98370\, United States
CATEGORIES:Range Activities
END:VEVENT
BEGIN:VEVENT
DTSTART;TZID=America/Los_Angeles:20290117T170000
DTEND;TZID=America/Los_Angeles:20290117T190000
DTSTAMP:20260422T222619
CREATED:20250617T014026Z
LAST-MODIFIED:20250617T014026Z
UID:10005792-1863363600-1863370800@poulsbosportsmanclub.org
SUMMARY:Women’s After Hours
DESCRIPTION:
URL:https://poulsbosportsmanclub.org/event/womens-after-hours/2029-01-17/
LOCATION:WA
CATEGORIES:Range Activities
END:VEVENT
BEGIN:VEVENT
DTSTART;TZID=America/Los_Angeles:20290117T180000
DTEND;TZID=America/Los_Angeles:20290117T200000
DTSTAMP:20260422T222619
CREATED:20201230T221706Z
LAST-MODIFIED:20220118T030956Z
UID:10003300-1863367200-1863374400@poulsbosportsmanclub.org
SUMMARY:Bremerton Brigade Meeting in Clubhouse
DESCRIPTION:
URL:https://poulsbosportsmanclub.org/event/bremerton-brigade-meeting-in-clubhouse/2029-01-17/
LOCATION:WA
CATEGORIES:Range Activities
END:VEVENT
BEGIN:VEVENT
DTSTART;TZID=America/Los_Angeles:20290118T090000
DTEND;TZID=America/Los_Angeles:20290118T130000
DTSTAMP:20260422T222619
CREATED:20210512T044534Z
LAST-MODIFIED:20220109T180655Z
UID:10001614-1863421200-1863435600@poulsbosportsmanclub.org
SUMMARY:Shotgun/Trap
DESCRIPTION:9 am to 1 pm Wednesdays and Thursdays
URL:https://poulsbosportsmanclub.org/event/shotgun-trap/2029-01-18/
LOCATION:Poulsbo Sportsman Club\, 16990 Clear Creek Road\, Poulsbo\, WA\, 98370\, United States
CATEGORIES:Range Activities
END:VEVENT
BEGIN:VEVENT
DTSTART;TZID=America/Los_Angeles:20290119T090000
DTEND;TZID=America/Los_Angeles:20290119T130000
DTSTAMP:20260422T222619
CREATED:20240925T031616Z
LAST-MODIFIED:20240925T031616Z
UID:10005687-1863507600-1863522000@poulsbosportsmanclub.org
SUMMARY:Shotgun/Trap Range
DESCRIPTION:
URL:https://poulsbosportsmanclub.org/event/shotgun-trap-range/2029-01-19/
LOCATION:WA
CATEGORIES:Shotgun Range
END:VEVENT
BEGIN:VEVENT
DTSTART;TZID=America/Los_Angeles:20290120T090000
DTEND;TZID=America/Los_Angeles:20290120T090000
DTSTAMP:20260422T222619
CREATED:20200116T223650Z
LAST-MODIFIED:20240402T020024Z
UID:10002118-1863594000-1863594000@poulsbosportsmanclub.org
SUMMARY:22 LR Silhouette - 100 and 200 yard range
DESCRIPTION:Silhouette | Poulsbo Sportsman Club
URL:https://poulsbosportsmanclub.org/event/22-lr-silhouette-100-and-200-yard-range-2-2022-06-18/2029-01-20/
LOCATION:WA
CATEGORIES:Range Activities
END:VEVENT
BEGIN:VEVENT
DTSTART;TZID=America/Los_Angeles:20290120T090000
DTEND;TZID=America/Los_Angeles:20290120T140000
DTSTAMP:20260422T222619
CREATED:20210512T044813Z
LAST-MODIFIED:20210512T044813Z
UID:10003708-1863594000-1863612000@poulsbosportsmanclub.org
SUMMARY:Shotgun / 5 Stand
DESCRIPTION:Saturdays from 9am to 2pm
URL:https://poulsbosportsmanclub.org/event/shotgun-5-stand/2029-01-20/
LOCATION:Poulsbo Sportsman Club\, 16990 Clear Creek Road\, Poulsbo\, WA\, 98370\, United States
CATEGORIES:Range Activities
END:VEVENT
BEGIN:VEVENT
DTSTART;TZID=America/Los_Angeles:20290124T090000
DTEND;TZID=America/Los_Angeles:20290124T130000
DTSTAMP:20260422T222619
CREATED:20210512T044534Z
LAST-MODIFIED:20220109T180655Z
UID:10001615-1863939600-1863954000@poulsbosportsmanclub.org
SUMMARY:Shotgun/Trap
DESCRIPTION:9 am to 1 pm Wednesdays and Thursdays
URL:https://poulsbosportsmanclub.org/event/shotgun-trap/2029-01-24/
LOCATION:Poulsbo Sportsman Club\, 16990 Clear Creek Road\, Poulsbo\, WA\, 98370\, United States
CATEGORIES:Range Activities
END:VEVENT
BEGIN:VEVENT
DTSTART;TZID=America/Los_Angeles:20290125T090000
DTEND;TZID=America/Los_Angeles:20290125T130000
DTSTAMP:20260422T222619
CREATED:20210512T044534Z
LAST-MODIFIED:20220109T180655Z
UID:10001616-1864026000-1864040400@poulsbosportsmanclub.org
SUMMARY:Shotgun/Trap
DESCRIPTION:9 am to 1 pm Wednesdays and Thursdays
URL:https://poulsbosportsmanclub.org/event/shotgun-trap/2029-01-25/
LOCATION:Poulsbo Sportsman Club\, 16990 Clear Creek Road\, Poulsbo\, WA\, 98370\, United States
CATEGORIES:Range Activities
END:VEVENT
BEGIN:VEVENT
DTSTART;TZID=America/Los_Angeles:20290126T090000
DTEND;TZID=America/Los_Angeles:20290126T130000
DTSTAMP:20260422T222619
CREATED:20240925T031616Z
LAST-MODIFIED:20240925T031616Z
UID:10005688-1864112400-1864126800@poulsbosportsmanclub.org
SUMMARY:Shotgun/Trap Range
DESCRIPTION:
URL:https://poulsbosportsmanclub.org/event/shotgun-trap-range/2029-01-26/
LOCATION:WA
CATEGORIES:Shotgun Range
END:VEVENT
BEGIN:VEVENT
DTSTART;TZID=America/Los_Angeles:20290127T090000
DTEND;TZID=America/Los_Angeles:20290127T140000
DTSTAMP:20260422T222619
CREATED:20210512T044813Z
LAST-MODIFIED:20210512T044813Z
UID:10003709-1864198800-1864216800@poulsbosportsmanclub.org
SUMMARY:Shotgun / 5 Stand
DESCRIPTION:Saturdays from 9am to 2pm
URL:https://poulsbosportsmanclub.org/event/shotgun-5-stand/2029-01-27/
LOCATION:Poulsbo Sportsman Club\, 16990 Clear Creek Road\, Poulsbo\, WA\, 98370\, United States
CATEGORIES:Range Activities
END:VEVENT
BEGIN:VEVENT
DTSTART;TZID=America/Los_Angeles:20290128T090000
DTEND;TZID=America/Los_Angeles:20290128T120000
DTSTAMP:20260422T222619
CREATED:20260323T030837Z
LAST-MODIFIED:20260323T030837Z
UID:10005910-1864285200-1864296000@poulsbosportsmanclub.org
SUMMARY:Poulsbo Pistoleros Cowboy Action Shooters
DESCRIPTION:Sign-in starts at 9:00 \nEvent starts at 10:00
URL:https://poulsbosportsmanclub.org/event/poulsbo-pistoleros-cowboy-action-shooters/2029-01-28/
LOCATION:Poulsbo Sportsman Club\, 16990 Clear Creek Road\, Poulsbo\, WA\, 98370\, United States
CATEGORIES:Range Activities
END:VEVENT
BEGIN:VEVENT
DTSTART;TZID=America/Los_Angeles:20290131T090000
DTEND;TZID=America/Los_Angeles:20290131T130000
DTSTAMP:20260422T222619
CREATED:20210512T044534Z
LAST-MODIFIED:20220109T180655Z
UID:10001617-1864544400-1864558800@poulsbosportsmanclub.org
SUMMARY:Shotgun/Trap
DESCRIPTION:9 am to 1 pm Wednesdays and Thursdays
URL:https://poulsbosportsmanclub.org/event/shotgun-trap/2029-01-31/
LOCATION:Poulsbo Sportsman Club\, 16990 Clear Creek Road\, Poulsbo\, WA\, 98370\, United States
CATEGORIES:Range Activities
END:VEVENT
BEGIN:VEVENT
DTSTART;TZID=America/Los_Angeles:20290201T090000
DTEND;TZID=America/Los_Angeles:20290201T130000
DTSTAMP:20260422T222619
CREATED:20210512T044534Z
LAST-MODIFIED:20220109T180655Z
UID:10001618-1864630800-1864645200@poulsbosportsmanclub.org
SUMMARY:Shotgun/Trap
DESCRIPTION:9 am to 1 pm Wednesdays and Thursdays
URL:https://poulsbosportsmanclub.org/event/shotgun-trap/2029-02-01/
LOCATION:Poulsbo Sportsman Club\, 16990 Clear Creek Road\, Poulsbo\, WA\, 98370\, United States
CATEGORIES:Range Activities
END:VEVENT
BEGIN:VEVENT
DTSTART;TZID=America/Los_Angeles:20290202T090000
DTEND;TZID=America/Los_Angeles:20290202T130000
DTSTAMP:20260422T222619
CREATED:20240925T031616Z
LAST-MODIFIED:20240925T031616Z
UID:10005689-1864717200-1864731600@poulsbosportsmanclub.org
SUMMARY:Shotgun/Trap Range
DESCRIPTION:
URL:https://poulsbosportsmanclub.org/event/shotgun-trap-range/2029-02-02/
LOCATION:WA
CATEGORIES:Shotgun Range
END:VEVENT
BEGIN:VEVENT
DTSTART;TZID=America/Los_Angeles:20290203T090000
DTEND;TZID=America/Los_Angeles:20290203T140000
DTSTAMP:20260422T222619
CREATED:20210512T044813Z
LAST-MODIFIED:20210512T044813Z
UID:10003710-1864803600-1864821600@poulsbosportsmanclub.org
SUMMARY:Shotgun / 5 Stand
DESCRIPTION:Saturdays from 9am to 2pm
URL:https://poulsbosportsmanclub.org/event/shotgun-5-stand/2029-02-03/
LOCATION:Poulsbo Sportsman Club\, 16990 Clear Creek Road\, Poulsbo\, WA\, 98370\, United States
CATEGORIES:Range Activities
END:VEVENT
BEGIN:VEVENT
DTSTART;TZID=America/Los_Angeles:20290204T090000
DTEND;TZID=America/Los_Angeles:20290204T120000
DTSTAMP:20260422T222619
CREATED:20231016T154129Z
LAST-MODIFIED:20241125T172545Z
UID:10003833-1864890000-1864900800@poulsbosportsmanclub.org
SUMMARY:Bremerton Brigade Monthly Shoot
DESCRIPTION:Shooters meet at Black Powder range gazebo at 0900 for safety brief followed by the event. Winners determined after event which usually ends by noon unless a working party is called.
URL:https://poulsbosportsmanclub.org/event/black-powder-shoot-2-2021-10-03/2029-02-04/
LOCATION:Primitive Range\, 16990 Clear Creek Road\, Poulsbo\, 98370\, United States
CATEGORIES:Range Activities
END:VEVENT
BEGIN:VEVENT
DTSTART;TZID=America/Los_Angeles:20290206T183000
DTEND;TZID=America/Los_Angeles:20290206T193000
DTSTAMP:20260422T222619
CREATED:20240729T135302Z
LAST-MODIFIED:20240729T135302Z
UID:10005454-1865097000-1865100600@poulsbosportsmanclub.org
SUMMARY:General Membership Meeting
DESCRIPTION:Members only. Discuss club business. Identity needs and resources. Encourage participation and support from club members.
URL:https://poulsbosportsmanclub.org/event/general-membership-meeting/2029-02-06/
LOCATION:WA
END:VEVENT
BEGIN:VEVENT
DTSTART;TZID=America/Los_Angeles:20290207T080000
DTEND;TZID=America/Los_Angeles:20290207T170000
DTSTAMP:20260422T222619
CREATED:20250617T014208Z
LAST-MODIFIED:20250617T014208Z
UID:10005853-1865145600-1865178000@poulsbosportsmanclub.org
SUMMARY:Women’s After Hours
DESCRIPTION:
URL:https://poulsbosportsmanclub.org/event/womens-after-hours-2/2029-02-07/
LOCATION:WA
CATEGORIES:Range Activities
END:VEVENT
BEGIN:VEVENT
DTSTART;TZID=America/Los_Angeles:20290207T090000
DTEND;TZID=America/Los_Angeles:20290207T130000
DTSTAMP:20260422T222619
CREATED:20210512T044534Z
LAST-MODIFIED:20220109T180655Z
UID:10001619-1865149200-1865163600@poulsbosportsmanclub.org
SUMMARY:Shotgun/Trap
DESCRIPTION:9 am to 1 pm Wednesdays and Thursdays
URL:https://poulsbosportsmanclub.org/event/shotgun-trap/2029-02-07/
LOCATION:Poulsbo Sportsman Club\, 16990 Clear Creek Road\, Poulsbo\, WA\, 98370\, United States
CATEGORIES:Range Activities
END:VEVENT
BEGIN:VEVENT
DTSTART;TZID=America/Los_Angeles:20290208T090000
DTEND;TZID=America/Los_Angeles:20290208T130000
DTSTAMP:20260422T222619
CREATED:20210512T044534Z
LAST-MODIFIED:20220109T180655Z
UID:10001620-1865235600-1865250000@poulsbosportsmanclub.org
SUMMARY:Shotgun/Trap
DESCRIPTION:9 am to 1 pm Wednesdays and Thursdays
URL:https://poulsbosportsmanclub.org/event/shotgun-trap/2029-02-08/
LOCATION:Poulsbo Sportsman Club\, 16990 Clear Creek Road\, Poulsbo\, WA\, 98370\, United States
CATEGORIES:Range Activities
END:VEVENT
END:VCALENDAR