BEGIN:VCALENDAR
VERSION:2.0
PRODID:-//Poulsbo Sportsman Club - ECPv6.15.20//NONSGML v1.0//EN
CALSCALE:GREGORIAN
METHOD:PUBLISH
X-WR-CALNAME:Poulsbo Sportsman Club
X-ORIGINAL-URL:https://poulsbosportsmanclub.org
X-WR-CALDESC:Events for Poulsbo Sportsman Club
REFRESH-INTERVAL;VALUE=DURATION:PT1H
X-Robots-Tag:noindex
X-PUBLISHED-TTL:PT1H
BEGIN:VTIMEZONE
TZID:America/Los_Angeles
BEGIN:DAYLIGHT
TZOFFSETFROM:-0800
TZOFFSETTO:-0700
TZNAME:PDT
DTSTART:20270314T100000
END:DAYLIGHT
BEGIN:STANDARD
TZOFFSETFROM:-0700
TZOFFSETTO:-0800
TZNAME:PST
DTSTART:20271107T090000
END:STANDARD
BEGIN:DAYLIGHT
TZOFFSETFROM:-0800
TZOFFSETTO:-0700
TZNAME:PDT
DTSTART:20280312T100000
END:DAYLIGHT
BEGIN:STANDARD
TZOFFSETFROM:-0700
TZOFFSETTO:-0800
TZNAME:PST
DTSTART:20281105T090000
END:STANDARD
BEGIN:DAYLIGHT
TZOFFSETFROM:-0800
TZOFFSETTO:-0700
TZNAME:PDT
DTSTART:20290311T100000
END:DAYLIGHT
BEGIN:STANDARD
TZOFFSETFROM:-0700
TZOFFSETTO:-0800
TZNAME:PST
DTSTART:20291104T090000
END:STANDARD
BEGIN:DAYLIGHT
TZOFFSETFROM:-0800
TZOFFSETTO:-0700
TZNAME:PDT
DTSTART:20300310T100000
END:DAYLIGHT
BEGIN:STANDARD
TZOFFSETFROM:-0700
TZOFFSETTO:-0800
TZNAME:PST
DTSTART:20301103T090000
END:STANDARD
END:VTIMEZONE
BEGIN:VEVENT
DTSTART;TZID=America/Los_Angeles:20281206T090000
DTEND;TZID=America/Los_Angeles:20281206T130000
DTSTAMP:20260422T191237
CREATED:20210512T044534Z
LAST-MODIFIED:20220109T180655Z
UID:10001601-1859706000-1859720400@poulsbosportsmanclub.org
SUMMARY:Shotgun/Trap
DESCRIPTION:9 am to 1 pm Wednesdays and Thursdays
URL:https://poulsbosportsmanclub.org/event/shotgun-trap/2028-12-06/
LOCATION:Poulsbo Sportsman Club\, 16990 Clear Creek Road\, Poulsbo\, WA\, 98370\, United States
CATEGORIES:Range Activities
END:VEVENT
BEGIN:VEVENT
DTSTART;TZID=America/Los_Angeles:20281207T090000
DTEND;TZID=America/Los_Angeles:20281207T130000
DTSTAMP:20260422T191237
CREATED:20210512T044534Z
LAST-MODIFIED:20220109T180655Z
UID:10001602-1859792400-1859806800@poulsbosportsmanclub.org
SUMMARY:Shotgun/Trap
DESCRIPTION:9 am to 1 pm Wednesdays and Thursdays
URL:https://poulsbosportsmanclub.org/event/shotgun-trap/2028-12-07/
LOCATION:Poulsbo Sportsman Club\, 16990 Clear Creek Road\, Poulsbo\, WA\, 98370\, United States
CATEGORIES:Range Activities
END:VEVENT
BEGIN:VEVENT
DTSTART;TZID=America/Los_Angeles:20281208T090000
DTEND;TZID=America/Los_Angeles:20281208T130000
DTSTAMP:20260422T191237
CREATED:20240925T031616Z
LAST-MODIFIED:20240925T031616Z
UID:10005681-1859878800-1859893200@poulsbosportsmanclub.org
SUMMARY:Shotgun/Trap Range
DESCRIPTION:
URL:https://poulsbosportsmanclub.org/event/shotgun-trap-range/2028-12-08/
LOCATION:WA
CATEGORIES:Shotgun Range
END:VEVENT
BEGIN:VEVENT
DTSTART;TZID=America/Los_Angeles:20281209T090000
DTEND;TZID=America/Los_Angeles:20281209T123000
DTSTAMP:20260422T191237
CREATED:20231004T190924Z
LAST-MODIFIED:20240328T011118Z
UID:10003900-1859965200-1859977800@poulsbosportsmanclub.org
SUMMARY:Action Pistol Match
DESCRIPTION:Gate opens at 0800\nSign-in & Safety Briefing at 0830\nRange hot at 0900\nFees:  $5 \nPARTICIPANTS NEED TO BRING:\n– A safe\, functioning handgun (ALL CALIBERS WELCOME)\n– 50-100 rounds of ammunition\n– A holster that covers the gun’s trigger area\n– The entry fee (cash only)
URL:https://poulsbosportsmanclub.org/event/action-pistol-match-2/2028-12-09/
LOCATION:WA
CATEGORIES:Range Activities
END:VEVENT
BEGIN:VEVENT
DTSTART;TZID=America/Los_Angeles:20281209T090000
DTEND;TZID=America/Los_Angeles:20281209T140000
DTSTAMP:20260422T191237
CREATED:20210512T044813Z
LAST-MODIFIED:20210512T044813Z
UID:10003702-1859965200-1859983200@poulsbosportsmanclub.org
SUMMARY:Shotgun / 5 Stand
DESCRIPTION:Saturdays from 9am to 2pm
URL:https://poulsbosportsmanclub.org/event/shotgun-5-stand/2028-12-09/
LOCATION:Poulsbo Sportsman Club\, 16990 Clear Creek Road\, Poulsbo\, WA\, 98370\, United States
CATEGORIES:Range Activities
END:VEVENT
BEGIN:VEVENT
DTSTART;TZID=America/Los_Angeles:20281213T090000
DTEND;TZID=America/Los_Angeles:20281213T130000
DTSTAMP:20260422T191237
CREATED:20210512T044534Z
LAST-MODIFIED:20220109T180655Z
UID:10001603-1860310800-1860325200@poulsbosportsmanclub.org
SUMMARY:Shotgun/Trap
DESCRIPTION:9 am to 1 pm Wednesdays and Thursdays
URL:https://poulsbosportsmanclub.org/event/shotgun-trap/2028-12-13/
LOCATION:Poulsbo Sportsman Club\, 16990 Clear Creek Road\, Poulsbo\, WA\, 98370\, United States
CATEGORIES:Range Activities
END:VEVENT
BEGIN:VEVENT
DTSTART;TZID=America/Los_Angeles:20281214T090000
DTEND;TZID=America/Los_Angeles:20281214T130000
DTSTAMP:20260422T191237
CREATED:20210512T044534Z
LAST-MODIFIED:20220109T180655Z
UID:10001604-1860397200-1860411600@poulsbosportsmanclub.org
SUMMARY:Shotgun/Trap
DESCRIPTION:9 am to 1 pm Wednesdays and Thursdays
URL:https://poulsbosportsmanclub.org/event/shotgun-trap/2028-12-14/
LOCATION:Poulsbo Sportsman Club\, 16990 Clear Creek Road\, Poulsbo\, WA\, 98370\, United States
CATEGORIES:Range Activities
END:VEVENT
BEGIN:VEVENT
DTSTART;TZID=America/Los_Angeles:20281215T090000
DTEND;TZID=America/Los_Angeles:20281215T130000
DTSTAMP:20260422T191237
CREATED:20240925T031616Z
LAST-MODIFIED:20240925T031616Z
UID:10005682-1860483600-1860498000@poulsbosportsmanclub.org
SUMMARY:Shotgun/Trap Range
DESCRIPTION:
URL:https://poulsbosportsmanclub.org/event/shotgun-trap-range/2028-12-15/
LOCATION:WA
CATEGORIES:Shotgun Range
END:VEVENT
BEGIN:VEVENT
DTSTART;TZID=America/Los_Angeles:20281216T090000
DTEND;TZID=America/Los_Angeles:20281216T090000
DTSTAMP:20260422T191237
CREATED:20200116T223650Z
LAST-MODIFIED:20240402T020024Z
UID:10002117-1860570000-1860570000@poulsbosportsmanclub.org
SUMMARY:22 LR Silhouette - 100 and 200 yard range
DESCRIPTION:Silhouette | Poulsbo Sportsman Club
URL:https://poulsbosportsmanclub.org/event/22-lr-silhouette-100-and-200-yard-range-2-2022-06-18/2028-12-16/
LOCATION:WA
CATEGORIES:Range Activities
END:VEVENT
BEGIN:VEVENT
DTSTART;TZID=America/Los_Angeles:20281216T090000
DTEND;TZID=America/Los_Angeles:20281216T140000
DTSTAMP:20260422T191237
CREATED:20210512T044813Z
LAST-MODIFIED:20210512T044813Z
UID:10003703-1860570000-1860588000@poulsbosportsmanclub.org
SUMMARY:Shotgun / 5 Stand
DESCRIPTION:Saturdays from 9am to 2pm
URL:https://poulsbosportsmanclub.org/event/shotgun-5-stand/2028-12-16/
LOCATION:Poulsbo Sportsman Club\, 16990 Clear Creek Road\, Poulsbo\, WA\, 98370\, United States
CATEGORIES:Range Activities
END:VEVENT
BEGIN:VEVENT
DTSTART;TZID=America/Los_Angeles:20281220T090000
DTEND;TZID=America/Los_Angeles:20281220T130000
DTSTAMP:20260422T191237
CREATED:20210512T044534Z
LAST-MODIFIED:20220109T180655Z
UID:10001605-1860915600-1860930000@poulsbosportsmanclub.org
SUMMARY:Shotgun/Trap
DESCRIPTION:9 am to 1 pm Wednesdays and Thursdays
URL:https://poulsbosportsmanclub.org/event/shotgun-trap/2028-12-20/
LOCATION:Poulsbo Sportsman Club\, 16990 Clear Creek Road\, Poulsbo\, WA\, 98370\, United States
CATEGORIES:Range Activities
END:VEVENT
BEGIN:VEVENT
DTSTART;TZID=America/Los_Angeles:20281220T170000
DTEND;TZID=America/Los_Angeles:20281220T190000
DTSTAMP:20260422T191237
CREATED:20250617T014026Z
LAST-MODIFIED:20250617T014026Z
UID:10005791-1860944400-1860951600@poulsbosportsmanclub.org
SUMMARY:Women’s After Hours
DESCRIPTION:
URL:https://poulsbosportsmanclub.org/event/womens-after-hours/2028-12-20/
LOCATION:WA
CATEGORIES:Range Activities
END:VEVENT
BEGIN:VEVENT
DTSTART;TZID=America/Los_Angeles:20281220T180000
DTEND;TZID=America/Los_Angeles:20281220T200000
DTSTAMP:20260422T191237
CREATED:20201230T221706Z
LAST-MODIFIED:20220118T030956Z
UID:10003299-1860948000-1860955200@poulsbosportsmanclub.org
SUMMARY:Bremerton Brigade Meeting in Clubhouse
DESCRIPTION:
URL:https://poulsbosportsmanclub.org/event/bremerton-brigade-meeting-in-clubhouse/2028-12-20/
LOCATION:WA
CATEGORIES:Range Activities
END:VEVENT
BEGIN:VEVENT
DTSTART;TZID=America/Los_Angeles:20281221T090000
DTEND;TZID=America/Los_Angeles:20281221T130000
DTSTAMP:20260422T191237
CREATED:20210512T044534Z
LAST-MODIFIED:20220109T180655Z
UID:10001606-1861002000-1861016400@poulsbosportsmanclub.org
SUMMARY:Shotgun/Trap
DESCRIPTION:9 am to 1 pm Wednesdays and Thursdays
URL:https://poulsbosportsmanclub.org/event/shotgun-trap/2028-12-21/
LOCATION:Poulsbo Sportsman Club\, 16990 Clear Creek Road\, Poulsbo\, WA\, 98370\, United States
CATEGORIES:Range Activities
END:VEVENT
BEGIN:VEVENT
DTSTART;TZID=America/Los_Angeles:20281222T090000
DTEND;TZID=America/Los_Angeles:20281222T130000
DTSTAMP:20260422T191237
CREATED:20240925T031616Z
LAST-MODIFIED:20240925T031616Z
UID:10005683-1861088400-1861102800@poulsbosportsmanclub.org
SUMMARY:Shotgun/Trap Range
DESCRIPTION:
URL:https://poulsbosportsmanclub.org/event/shotgun-trap-range/2028-12-22/
LOCATION:WA
CATEGORIES:Shotgun Range
END:VEVENT
BEGIN:VEVENT
DTSTART;TZID=America/Los_Angeles:20281223T090000
DTEND;TZID=America/Los_Angeles:20281223T140000
DTSTAMP:20260422T191237
CREATED:20210512T044813Z
LAST-MODIFIED:20210512T044813Z
UID:10003704-1861174800-1861192800@poulsbosportsmanclub.org
SUMMARY:Shotgun / 5 Stand
DESCRIPTION:Saturdays from 9am to 2pm
URL:https://poulsbosportsmanclub.org/event/shotgun-5-stand/2028-12-23/
LOCATION:Poulsbo Sportsman Club\, 16990 Clear Creek Road\, Poulsbo\, WA\, 98370\, United States
CATEGORIES:Range Activities
END:VEVENT
BEGIN:VEVENT
DTSTART;TZID=America/Los_Angeles:20281224T090000
DTEND;TZID=America/Los_Angeles:20281224T120000
DTSTAMP:20260422T191237
CREATED:20260323T030837Z
LAST-MODIFIED:20260323T030837Z
UID:10005909-1861261200-1861272000@poulsbosportsmanclub.org
SUMMARY:Poulsbo Pistoleros Cowboy Action Shooters
DESCRIPTION:Sign-in starts at 9:00 \nEvent starts at 10:00
URL:https://poulsbosportsmanclub.org/event/poulsbo-pistoleros-cowboy-action-shooters/2028-12-24/
LOCATION:Poulsbo Sportsman Club\, 16990 Clear Creek Road\, Poulsbo\, WA\, 98370\, United States
CATEGORIES:Range Activities
END:VEVENT
BEGIN:VEVENT
DTSTART;TZID=America/Los_Angeles:20281227T090000
DTEND;TZID=America/Los_Angeles:20281227T130000
DTSTAMP:20260422T191237
CREATED:20210512T044534Z
LAST-MODIFIED:20220109T180655Z
UID:10001607-1861520400-1861534800@poulsbosportsmanclub.org
SUMMARY:Shotgun/Trap
DESCRIPTION:9 am to 1 pm Wednesdays and Thursdays
URL:https://poulsbosportsmanclub.org/event/shotgun-trap/2028-12-27/
LOCATION:Poulsbo Sportsman Club\, 16990 Clear Creek Road\, Poulsbo\, WA\, 98370\, United States
CATEGORIES:Range Activities
END:VEVENT
BEGIN:VEVENT
DTSTART;TZID=America/Los_Angeles:20281228T090000
DTEND;TZID=America/Los_Angeles:20281228T130000
DTSTAMP:20260422T191237
CREATED:20210512T044534Z
LAST-MODIFIED:20220109T180655Z
UID:10001608-1861606800-1861621200@poulsbosportsmanclub.org
SUMMARY:Shotgun/Trap
DESCRIPTION:9 am to 1 pm Wednesdays and Thursdays
URL:https://poulsbosportsmanclub.org/event/shotgun-trap/2028-12-28/
LOCATION:Poulsbo Sportsman Club\, 16990 Clear Creek Road\, Poulsbo\, WA\, 98370\, United States
CATEGORIES:Range Activities
END:VEVENT
BEGIN:VEVENT
DTSTART;TZID=America/Los_Angeles:20281229T090000
DTEND;TZID=America/Los_Angeles:20281229T130000
DTSTAMP:20260422T191237
CREATED:20240925T031616Z
LAST-MODIFIED:20240925T031616Z
UID:10005684-1861693200-1861707600@poulsbosportsmanclub.org
SUMMARY:Shotgun/Trap Range
DESCRIPTION:
URL:https://poulsbosportsmanclub.org/event/shotgun-trap-range/2028-12-29/
LOCATION:WA
CATEGORIES:Shotgun Range
END:VEVENT
BEGIN:VEVENT
DTSTART;TZID=America/Los_Angeles:20281230T090000
DTEND;TZID=America/Los_Angeles:20281230T140000
DTSTAMP:20260422T191237
CREATED:20210512T044813Z
LAST-MODIFIED:20210512T044813Z
UID:10003705-1861779600-1861797600@poulsbosportsmanclub.org
SUMMARY:Shotgun / 5 Stand
DESCRIPTION:Saturdays from 9am to 2pm
URL:https://poulsbosportsmanclub.org/event/shotgun-5-stand/2028-12-30/
LOCATION:Poulsbo Sportsman Club\, 16990 Clear Creek Road\, Poulsbo\, WA\, 98370\, United States
CATEGORIES:Range Activities
END:VEVENT
BEGIN:VEVENT
DTSTART;TZID=America/Los_Angeles:20290102T183000
DTEND;TZID=America/Los_Angeles:20290102T193000
DTSTAMP:20260422T191237
CREATED:20240729T135302Z
LAST-MODIFIED:20240729T135302Z
UID:10005453-1862073000-1862076600@poulsbosportsmanclub.org
SUMMARY:General Membership Meeting
DESCRIPTION:Members only. Discuss club business. Identity needs and resources. Encourage participation and support from club members.
URL:https://poulsbosportsmanclub.org/event/general-membership-meeting/2029-01-02/
LOCATION:WA
END:VEVENT
BEGIN:VEVENT
DTSTART;TZID=America/Los_Angeles:20290103T080000
DTEND;TZID=America/Los_Angeles:20290103T170000
DTSTAMP:20260422T191237
CREATED:20250617T014208Z
LAST-MODIFIED:20250617T014208Z
UID:10005852-1862121600-1862154000@poulsbosportsmanclub.org
SUMMARY:Women’s After Hours
DESCRIPTION:
URL:https://poulsbosportsmanclub.org/event/womens-after-hours-2/2029-01-03/
LOCATION:WA
CATEGORIES:Range Activities
END:VEVENT
BEGIN:VEVENT
DTSTART;TZID=America/Los_Angeles:20290103T090000
DTEND;TZID=America/Los_Angeles:20290103T130000
DTSTAMP:20260422T191237
CREATED:20210512T044534Z
LAST-MODIFIED:20220109T180655Z
UID:10001609-1862125200-1862139600@poulsbosportsmanclub.org
SUMMARY:Shotgun/Trap
DESCRIPTION:9 am to 1 pm Wednesdays and Thursdays
URL:https://poulsbosportsmanclub.org/event/shotgun-trap/2029-01-03/
LOCATION:Poulsbo Sportsman Club\, 16990 Clear Creek Road\, Poulsbo\, WA\, 98370\, United States
CATEGORIES:Range Activities
END:VEVENT
BEGIN:VEVENT
DTSTART;TZID=America/Los_Angeles:20290104T090000
DTEND;TZID=America/Los_Angeles:20290104T130000
DTSTAMP:20260422T191237
CREATED:20210512T044534Z
LAST-MODIFIED:20220109T180655Z
UID:10001610-1862211600-1862226000@poulsbosportsmanclub.org
SUMMARY:Shotgun/Trap
DESCRIPTION:9 am to 1 pm Wednesdays and Thursdays
URL:https://poulsbosportsmanclub.org/event/shotgun-trap/2029-01-04/
LOCATION:Poulsbo Sportsman Club\, 16990 Clear Creek Road\, Poulsbo\, WA\, 98370\, United States
CATEGORIES:Range Activities
END:VEVENT
BEGIN:VEVENT
DTSTART;TZID=America/Los_Angeles:20290105T090000
DTEND;TZID=America/Los_Angeles:20290105T130000
DTSTAMP:20260422T191237
CREATED:20240925T031616Z
LAST-MODIFIED:20240925T031616Z
UID:10005685-1862298000-1862312400@poulsbosportsmanclub.org
SUMMARY:Shotgun/Trap Range
DESCRIPTION:
URL:https://poulsbosportsmanclub.org/event/shotgun-trap-range/2029-01-05/
LOCATION:WA
CATEGORIES:Shotgun Range
END:VEVENT
BEGIN:VEVENT
DTSTART;TZID=America/Los_Angeles:20290106T090000
DTEND;TZID=America/Los_Angeles:20290106T140000
DTSTAMP:20260422T191237
CREATED:20210512T044813Z
LAST-MODIFIED:20210512T044813Z
UID:10003706-1862384400-1862402400@poulsbosportsmanclub.org
SUMMARY:Shotgun / 5 Stand
DESCRIPTION:Saturdays from 9am to 2pm
URL:https://poulsbosportsmanclub.org/event/shotgun-5-stand/2029-01-06/
LOCATION:Poulsbo Sportsman Club\, 16990 Clear Creek Road\, Poulsbo\, WA\, 98370\, United States
CATEGORIES:Range Activities
END:VEVENT
BEGIN:VEVENT
DTSTART;TZID=America/Los_Angeles:20290107T090000
DTEND;TZID=America/Los_Angeles:20290107T120000
DTSTAMP:20260422T191237
CREATED:20231016T154129Z
LAST-MODIFIED:20241125T172545Z
UID:10003832-1862470800-1862481600@poulsbosportsmanclub.org
SUMMARY:Bremerton Brigade Monthly Shoot
DESCRIPTION:Shooters meet at Black Powder range gazebo at 0900 for safety brief followed by the event. Winners determined after event which usually ends by noon unless a working party is called.
URL:https://poulsbosportsmanclub.org/event/black-powder-shoot-2-2021-10-03/2029-01-07/
LOCATION:Primitive Range\, 16990 Clear Creek Road\, Poulsbo\, 98370\, United States
CATEGORIES:Range Activities
END:VEVENT
BEGIN:VEVENT
DTSTART;TZID=America/Los_Angeles:20290110T090000
DTEND;TZID=America/Los_Angeles:20290110T130000
DTSTAMP:20260422T191237
CREATED:20210512T044534Z
LAST-MODIFIED:20220109T180655Z
UID:10001611-1862730000-1862744400@poulsbosportsmanclub.org
SUMMARY:Shotgun/Trap
DESCRIPTION:9 am to 1 pm Wednesdays and Thursdays
URL:https://poulsbosportsmanclub.org/event/shotgun-trap/2029-01-10/
LOCATION:Poulsbo Sportsman Club\, 16990 Clear Creek Road\, Poulsbo\, WA\, 98370\, United States
CATEGORIES:Range Activities
END:VEVENT
BEGIN:VEVENT
DTSTART;TZID=America/Los_Angeles:20290111T090000
DTEND;TZID=America/Los_Angeles:20290111T130000
DTSTAMP:20260422T191237
CREATED:20210512T044534Z
LAST-MODIFIED:20220109T180655Z
UID:10001612-1862816400-1862830800@poulsbosportsmanclub.org
SUMMARY:Shotgun/Trap
DESCRIPTION:9 am to 1 pm Wednesdays and Thursdays
URL:https://poulsbosportsmanclub.org/event/shotgun-trap/2029-01-11/
LOCATION:Poulsbo Sportsman Club\, 16990 Clear Creek Road\, Poulsbo\, WA\, 98370\, United States
CATEGORIES:Range Activities
END:VEVENT
END:VCALENDAR