BEGIN:VCALENDAR
VERSION:2.0
PRODID:-//Poulsbo Sportsman Club - ECPv6.15.20//NONSGML v1.0//EN
CALSCALE:GREGORIAN
METHOD:PUBLISH
X-WR-CALNAME:Poulsbo Sportsman Club
X-ORIGINAL-URL:https://poulsbosportsmanclub.org
X-WR-CALDESC:Events for Poulsbo Sportsman Club
REFRESH-INTERVAL;VALUE=DURATION:PT1H
X-Robots-Tag:noindex
X-PUBLISHED-TTL:PT1H
BEGIN:VTIMEZONE
TZID:America/Los_Angeles
BEGIN:DAYLIGHT
TZOFFSETFROM:-0800
TZOFFSETTO:-0700
TZNAME:PDT
DTSTART:20270314T100000
END:DAYLIGHT
BEGIN:STANDARD
TZOFFSETFROM:-0700
TZOFFSETTO:-0800
TZNAME:PST
DTSTART:20271107T090000
END:STANDARD
BEGIN:DAYLIGHT
TZOFFSETFROM:-0800
TZOFFSETTO:-0700
TZNAME:PDT
DTSTART:20280312T100000
END:DAYLIGHT
BEGIN:STANDARD
TZOFFSETFROM:-0700
TZOFFSETTO:-0800
TZNAME:PST
DTSTART:20281105T090000
END:STANDARD
BEGIN:DAYLIGHT
TZOFFSETFROM:-0800
TZOFFSETTO:-0700
TZNAME:PDT
DTSTART:20290311T100000
END:DAYLIGHT
BEGIN:STANDARD
TZOFFSETFROM:-0700
TZOFFSETTO:-0800
TZNAME:PST
DTSTART:20291104T090000
END:STANDARD
END:VTIMEZONE
BEGIN:VEVENT
DTSTART;TZID=America/Los_Angeles:20280827T090000
DTEND;TZID=America/Los_Angeles:20280827T120000
DTSTAMP:20260423T165753
CREATED:20260323T030837Z
LAST-MODIFIED:20260323T030837Z
UID:10005905-1850979600-1850990400@poulsbosportsmanclub.org
SUMMARY:Poulsbo Pistoleros Cowboy Action Shooters
DESCRIPTION:Sign-in starts at 9:00 \nEvent starts at 10:00
URL:https://poulsbosportsmanclub.org/event/poulsbo-pistoleros-cowboy-action-shooters/2028-08-27/
LOCATION:Poulsbo Sportsman Club\, 16990 Clear Creek Road\, Poulsbo\, WA\, 98370\, United States
CATEGORIES:Range Activities
END:VEVENT
BEGIN:VEVENT
DTSTART;TZID=America/Los_Angeles:20280830T090000
DTEND;TZID=America/Los_Angeles:20280830T130000
DTSTAMP:20260423T165753
CREATED:20210512T044534Z
LAST-MODIFIED:20220109T180655Z
UID:10001573-1851238800-1851253200@poulsbosportsmanclub.org
SUMMARY:Shotgun/Trap
DESCRIPTION:9 am to 1 pm Wednesdays and Thursdays
URL:https://poulsbosportsmanclub.org/event/shotgun-trap/2028-08-30/
LOCATION:Poulsbo Sportsman Club\, 16990 Clear Creek Road\, Poulsbo\, WA\, 98370\, United States
CATEGORIES:Range Activities
END:VEVENT
BEGIN:VEVENT
DTSTART;TZID=America/Los_Angeles:20280831T090000
DTEND;TZID=America/Los_Angeles:20280831T130000
DTSTAMP:20260423T165753
CREATED:20210512T044534Z
LAST-MODIFIED:20220109T180655Z
UID:10001574-1851325200-1851339600@poulsbosportsmanclub.org
SUMMARY:Shotgun/Trap
DESCRIPTION:9 am to 1 pm Wednesdays and Thursdays
URL:https://poulsbosportsmanclub.org/event/shotgun-trap/2028-08-31/
LOCATION:Poulsbo Sportsman Club\, 16990 Clear Creek Road\, Poulsbo\, WA\, 98370\, United States
CATEGORIES:Range Activities
END:VEVENT
BEGIN:VEVENT
DTSTART;TZID=America/Los_Angeles:20280901T090000
DTEND;TZID=America/Los_Angeles:20280901T130000
DTSTAMP:20260423T165753
CREATED:20240925T031616Z
LAST-MODIFIED:20240925T031616Z
UID:10005667-1851411600-1851426000@poulsbosportsmanclub.org
SUMMARY:Shotgun/Trap Range
DESCRIPTION:
URL:https://poulsbosportsmanclub.org/event/shotgun-trap-range/2028-09-01/
LOCATION:WA
CATEGORIES:Shotgun Range
END:VEVENT
BEGIN:VEVENT
DTSTART;TZID=America/Los_Angeles:20280902T090000
DTEND;TZID=America/Los_Angeles:20280902T140000
DTSTAMP:20260423T165753
CREATED:20210512T044813Z
LAST-MODIFIED:20210512T044813Z
UID:10003688-1851498000-1851516000@poulsbosportsmanclub.org
SUMMARY:Shotgun / 5 Stand
DESCRIPTION:Saturdays from 9am to 2pm
URL:https://poulsbosportsmanclub.org/event/shotgun-5-stand/2028-09-02/
LOCATION:Poulsbo Sportsman Club\, 16990 Clear Creek Road\, Poulsbo\, WA\, 98370\, United States
CATEGORIES:Range Activities
END:VEVENT
BEGIN:VEVENT
DTSTART;TZID=America/Los_Angeles:20280903T090000
DTEND;TZID=America/Los_Angeles:20280903T120000
DTSTAMP:20260423T165753
CREATED:20231016T154129Z
LAST-MODIFIED:20241125T172545Z
UID:10003828-1851584400-1851595200@poulsbosportsmanclub.org
SUMMARY:Bremerton Brigade Monthly Shoot
DESCRIPTION:Shooters meet at Black Powder range gazebo at 0900 for safety brief followed by the event. Winners determined after event which usually ends by noon unless a working party is called.
URL:https://poulsbosportsmanclub.org/event/black-powder-shoot-2-2021-10-03/2028-09-03/
LOCATION:Primitive Range\, 16990 Clear Creek Road\, Poulsbo\, 98370\, United States
CATEGORIES:Range Activities
END:VEVENT
BEGIN:VEVENT
DTSTART;TZID=America/Los_Angeles:20280905T183000
DTEND;TZID=America/Los_Angeles:20280905T193000
DTSTAMP:20260423T165753
CREATED:20240729T135302Z
LAST-MODIFIED:20240729T135302Z
UID:10005449-1851791400-1851795000@poulsbosportsmanclub.org
SUMMARY:General Membership Meeting
DESCRIPTION:Members only. Discuss club business. Identity needs and resources. Encourage participation and support from club members.
URL:https://poulsbosportsmanclub.org/event/general-membership-meeting/2028-09-05/
LOCATION:WA
END:VEVENT
BEGIN:VEVENT
DTSTART;TZID=America/Los_Angeles:20280906T080000
DTEND;TZID=America/Los_Angeles:20280906T170000
DTSTAMP:20260423T165753
CREATED:20250617T014208Z
LAST-MODIFIED:20250617T014208Z
UID:10005848-1851840000-1851872400@poulsbosportsmanclub.org
SUMMARY:Women’s After Hours
DESCRIPTION:
URL:https://poulsbosportsmanclub.org/event/womens-after-hours-2/2028-09-06/
LOCATION:WA
CATEGORIES:Range Activities
END:VEVENT
BEGIN:VEVENT
DTSTART;TZID=America/Los_Angeles:20280906T090000
DTEND;TZID=America/Los_Angeles:20280906T130000
DTSTAMP:20260423T165753
CREATED:20210512T044534Z
LAST-MODIFIED:20220109T180655Z
UID:10001575-1851843600-1851858000@poulsbosportsmanclub.org
SUMMARY:Shotgun/Trap
DESCRIPTION:9 am to 1 pm Wednesdays and Thursdays
URL:https://poulsbosportsmanclub.org/event/shotgun-trap/2028-09-06/
LOCATION:Poulsbo Sportsman Club\, 16990 Clear Creek Road\, Poulsbo\, WA\, 98370\, United States
CATEGORIES:Range Activities
END:VEVENT
BEGIN:VEVENT
DTSTART;TZID=America/Los_Angeles:20280907T090000
DTEND;TZID=America/Los_Angeles:20280907T130000
DTSTAMP:20260423T165753
CREATED:20210512T044534Z
LAST-MODIFIED:20220109T180655Z
UID:10001576-1851930000-1851944400@poulsbosportsmanclub.org
SUMMARY:Shotgun/Trap
DESCRIPTION:9 am to 1 pm Wednesdays and Thursdays
URL:https://poulsbosportsmanclub.org/event/shotgun-trap/2028-09-07/
LOCATION:Poulsbo Sportsman Club\, 16990 Clear Creek Road\, Poulsbo\, WA\, 98370\, United States
CATEGORIES:Range Activities
END:VEVENT
BEGIN:VEVENT
DTSTART;TZID=America/Los_Angeles:20280908T090000
DTEND;TZID=America/Los_Angeles:20280908T130000
DTSTAMP:20260423T165753
CREATED:20240925T031616Z
LAST-MODIFIED:20240925T031616Z
UID:10005668-1852016400-1852030800@poulsbosportsmanclub.org
SUMMARY:Shotgun/Trap Range
DESCRIPTION:
URL:https://poulsbosportsmanclub.org/event/shotgun-trap-range/2028-09-08/
LOCATION:WA
CATEGORIES:Shotgun Range
END:VEVENT
BEGIN:VEVENT
DTSTART;TZID=America/Los_Angeles:20280909T090000
DTEND;TZID=America/Los_Angeles:20280909T123000
DTSTAMP:20260423T165753
CREATED:20231004T190924Z
LAST-MODIFIED:20240328T011118Z
UID:10003897-1852102800-1852115400@poulsbosportsmanclub.org
SUMMARY:Action Pistol Match
DESCRIPTION:Gate opens at 0800\nSign-in & Safety Briefing at 0830\nRange hot at 0900\nFees:  $5 \nPARTICIPANTS NEED TO BRING:\n– A safe\, functioning handgun (ALL CALIBERS WELCOME)\n– 50-100 rounds of ammunition\n– A holster that covers the gun’s trigger area\n– The entry fee (cash only)
URL:https://poulsbosportsmanclub.org/event/action-pistol-match-2/2028-09-09/
LOCATION:WA
CATEGORIES:Range Activities
END:VEVENT
BEGIN:VEVENT
DTSTART;TZID=America/Los_Angeles:20280909T090000
DTEND;TZID=America/Los_Angeles:20280909T140000
DTSTAMP:20260423T165753
CREATED:20210512T044813Z
LAST-MODIFIED:20210512T044813Z
UID:10003689-1852102800-1852120800@poulsbosportsmanclub.org
SUMMARY:Shotgun / 5 Stand
DESCRIPTION:Saturdays from 9am to 2pm
URL:https://poulsbosportsmanclub.org/event/shotgun-5-stand/2028-09-09/
LOCATION:Poulsbo Sportsman Club\, 16990 Clear Creek Road\, Poulsbo\, WA\, 98370\, United States
CATEGORIES:Range Activities
END:VEVENT
BEGIN:VEVENT
DTSTART;TZID=America/Los_Angeles:20280913T090000
DTEND;TZID=America/Los_Angeles:20280913T130000
DTSTAMP:20260423T165753
CREATED:20210512T044534Z
LAST-MODIFIED:20220109T180655Z
UID:10001577-1852448400-1852462800@poulsbosportsmanclub.org
SUMMARY:Shotgun/Trap
DESCRIPTION:9 am to 1 pm Wednesdays and Thursdays
URL:https://poulsbosportsmanclub.org/event/shotgun-trap/2028-09-13/
LOCATION:Poulsbo Sportsman Club\, 16990 Clear Creek Road\, Poulsbo\, WA\, 98370\, United States
CATEGORIES:Range Activities
END:VEVENT
BEGIN:VEVENT
DTSTART;TZID=America/Los_Angeles:20280914T090000
DTEND;TZID=America/Los_Angeles:20280914T130000
DTSTAMP:20260423T165753
CREATED:20210512T044534Z
LAST-MODIFIED:20220109T180655Z
UID:10001578-1852534800-1852549200@poulsbosportsmanclub.org
SUMMARY:Shotgun/Trap
DESCRIPTION:9 am to 1 pm Wednesdays and Thursdays
URL:https://poulsbosportsmanclub.org/event/shotgun-trap/2028-09-14/
LOCATION:Poulsbo Sportsman Club\, 16990 Clear Creek Road\, Poulsbo\, WA\, 98370\, United States
CATEGORIES:Range Activities
END:VEVENT
BEGIN:VEVENT
DTSTART;TZID=America/Los_Angeles:20280915T090000
DTEND;TZID=America/Los_Angeles:20280915T130000
DTSTAMP:20260423T165753
CREATED:20240925T031616Z
LAST-MODIFIED:20240925T031616Z
UID:10005669-1852621200-1852635600@poulsbosportsmanclub.org
SUMMARY:Shotgun/Trap Range
DESCRIPTION:
URL:https://poulsbosportsmanclub.org/event/shotgun-trap-range/2028-09-15/
LOCATION:WA
CATEGORIES:Shotgun Range
END:VEVENT
BEGIN:VEVENT
DTSTART;TZID=America/Los_Angeles:20280916T090000
DTEND;TZID=America/Los_Angeles:20280916T090000
DTSTAMP:20260423T165753
CREATED:20200116T223650Z
LAST-MODIFIED:20240402T020024Z
UID:10002114-1852707600-1852707600@poulsbosportsmanclub.org
SUMMARY:22 LR Silhouette - 100 and 200 yard range
DESCRIPTION:Silhouette | Poulsbo Sportsman Club
URL:https://poulsbosportsmanclub.org/event/22-lr-silhouette-100-and-200-yard-range-2-2022-06-18/2028-09-16/
LOCATION:WA
CATEGORIES:Range Activities
END:VEVENT
BEGIN:VEVENT
DTSTART;TZID=America/Los_Angeles:20280916T090000
DTEND;TZID=America/Los_Angeles:20280916T140000
DTSTAMP:20260423T165753
CREATED:20210512T044813Z
LAST-MODIFIED:20210512T044813Z
UID:10003690-1852707600-1852725600@poulsbosportsmanclub.org
SUMMARY:Shotgun / 5 Stand
DESCRIPTION:Saturdays from 9am to 2pm
URL:https://poulsbosportsmanclub.org/event/shotgun-5-stand/2028-09-16/
LOCATION:Poulsbo Sportsman Club\, 16990 Clear Creek Road\, Poulsbo\, WA\, 98370\, United States
CATEGORIES:Range Activities
END:VEVENT
BEGIN:VEVENT
DTSTART;TZID=America/Los_Angeles:20280920T090000
DTEND;TZID=America/Los_Angeles:20280920T130000
DTSTAMP:20260423T165753
CREATED:20210512T044534Z
LAST-MODIFIED:20220109T180655Z
UID:10001579-1853053200-1853067600@poulsbosportsmanclub.org
SUMMARY:Shotgun/Trap
DESCRIPTION:9 am to 1 pm Wednesdays and Thursdays
URL:https://poulsbosportsmanclub.org/event/shotgun-trap/2028-09-20/
LOCATION:Poulsbo Sportsman Club\, 16990 Clear Creek Road\, Poulsbo\, WA\, 98370\, United States
CATEGORIES:Range Activities
END:VEVENT
BEGIN:VEVENT
DTSTART;TZID=America/Los_Angeles:20280920T170000
DTEND;TZID=America/Los_Angeles:20280920T190000
DTSTAMP:20260423T165753
CREATED:20250617T014026Z
LAST-MODIFIED:20250617T014026Z
UID:10005788-1853082000-1853089200@poulsbosportsmanclub.org
SUMMARY:Women’s After Hours
DESCRIPTION:
URL:https://poulsbosportsmanclub.org/event/womens-after-hours/2028-09-20/
LOCATION:WA
CATEGORIES:Range Activities
END:VEVENT
BEGIN:VEVENT
DTSTART;TZID=America/Los_Angeles:20280920T180000
DTEND;TZID=America/Los_Angeles:20280920T200000
DTSTAMP:20260423T165753
CREATED:20201230T221706Z
LAST-MODIFIED:20220118T030956Z
UID:10003296-1853085600-1853092800@poulsbosportsmanclub.org
SUMMARY:Bremerton Brigade Meeting in Clubhouse
DESCRIPTION:
URL:https://poulsbosportsmanclub.org/event/bremerton-brigade-meeting-in-clubhouse/2028-09-20/
LOCATION:WA
CATEGORIES:Range Activities
END:VEVENT
BEGIN:VEVENT
DTSTART;TZID=America/Los_Angeles:20280921T090000
DTEND;TZID=America/Los_Angeles:20280921T130000
DTSTAMP:20260423T165753
CREATED:20210512T044534Z
LAST-MODIFIED:20220109T180655Z
UID:10001580-1853139600-1853154000@poulsbosportsmanclub.org
SUMMARY:Shotgun/Trap
DESCRIPTION:9 am to 1 pm Wednesdays and Thursdays
URL:https://poulsbosportsmanclub.org/event/shotgun-trap/2028-09-21/
LOCATION:Poulsbo Sportsman Club\, 16990 Clear Creek Road\, Poulsbo\, WA\, 98370\, United States
CATEGORIES:Range Activities
END:VEVENT
BEGIN:VEVENT
DTSTART;TZID=America/Los_Angeles:20280922T090000
DTEND;TZID=America/Los_Angeles:20280922T130000
DTSTAMP:20260423T165753
CREATED:20240925T031616Z
LAST-MODIFIED:20240925T031616Z
UID:10005670-1853226000-1853240400@poulsbosportsmanclub.org
SUMMARY:Shotgun/Trap Range
DESCRIPTION:
URL:https://poulsbosportsmanclub.org/event/shotgun-trap-range/2028-09-22/
LOCATION:WA
CATEGORIES:Shotgun Range
END:VEVENT
BEGIN:VEVENT
DTSTART;TZID=America/Los_Angeles:20280923T090000
DTEND;TZID=America/Los_Angeles:20280923T140000
DTSTAMP:20260423T165753
CREATED:20210512T044813Z
LAST-MODIFIED:20210512T044813Z
UID:10003691-1853312400-1853330400@poulsbosportsmanclub.org
SUMMARY:Shotgun / 5 Stand
DESCRIPTION:Saturdays from 9am to 2pm
URL:https://poulsbosportsmanclub.org/event/shotgun-5-stand/2028-09-23/
LOCATION:Poulsbo Sportsman Club\, 16990 Clear Creek Road\, Poulsbo\, WA\, 98370\, United States
CATEGORIES:Range Activities
END:VEVENT
BEGIN:VEVENT
DTSTART;TZID=America/Los_Angeles:20280924T090000
DTEND;TZID=America/Los_Angeles:20280924T120000
DTSTAMP:20260423T165753
CREATED:20260323T030837Z
LAST-MODIFIED:20260323T030837Z
UID:10005906-1853398800-1853409600@poulsbosportsmanclub.org
SUMMARY:Poulsbo Pistoleros Cowboy Action Shooters
DESCRIPTION:Sign-in starts at 9:00 \nEvent starts at 10:00
URL:https://poulsbosportsmanclub.org/event/poulsbo-pistoleros-cowboy-action-shooters/2028-09-24/
LOCATION:Poulsbo Sportsman Club\, 16990 Clear Creek Road\, Poulsbo\, WA\, 98370\, United States
CATEGORIES:Range Activities
END:VEVENT
BEGIN:VEVENT
DTSTART;TZID=America/Los_Angeles:20280927T090000
DTEND;TZID=America/Los_Angeles:20280927T130000
DTSTAMP:20260423T165753
CREATED:20210512T044534Z
LAST-MODIFIED:20220109T180655Z
UID:10001581-1853658000-1853672400@poulsbosportsmanclub.org
SUMMARY:Shotgun/Trap
DESCRIPTION:9 am to 1 pm Wednesdays and Thursdays
URL:https://poulsbosportsmanclub.org/event/shotgun-trap/2028-09-27/
LOCATION:Poulsbo Sportsman Club\, 16990 Clear Creek Road\, Poulsbo\, WA\, 98370\, United States
CATEGORIES:Range Activities
END:VEVENT
BEGIN:VEVENT
DTSTART;TZID=America/Los_Angeles:20280928T090000
DTEND;TZID=America/Los_Angeles:20280928T130000
DTSTAMP:20260423T165753
CREATED:20210512T044534Z
LAST-MODIFIED:20220109T180655Z
UID:10001582-1853744400-1853758800@poulsbosportsmanclub.org
SUMMARY:Shotgun/Trap
DESCRIPTION:9 am to 1 pm Wednesdays and Thursdays
URL:https://poulsbosportsmanclub.org/event/shotgun-trap/2028-09-28/
LOCATION:Poulsbo Sportsman Club\, 16990 Clear Creek Road\, Poulsbo\, WA\, 98370\, United States
CATEGORIES:Range Activities
END:VEVENT
BEGIN:VEVENT
DTSTART;TZID=America/Los_Angeles:20280929T090000
DTEND;TZID=America/Los_Angeles:20280929T130000
DTSTAMP:20260423T165753
CREATED:20240925T031616Z
LAST-MODIFIED:20240925T031616Z
UID:10005671-1853830800-1853845200@poulsbosportsmanclub.org
SUMMARY:Shotgun/Trap Range
DESCRIPTION:
URL:https://poulsbosportsmanclub.org/event/shotgun-trap-range/2028-09-29/
LOCATION:WA
CATEGORIES:Shotgun Range
END:VEVENT
BEGIN:VEVENT
DTSTART;TZID=America/Los_Angeles:20280930T090000
DTEND;TZID=America/Los_Angeles:20280930T140000
DTSTAMP:20260423T165753
CREATED:20210512T044813Z
LAST-MODIFIED:20210512T044813Z
UID:10003692-1853917200-1853935200@poulsbosportsmanclub.org
SUMMARY:Shotgun / 5 Stand
DESCRIPTION:Saturdays from 9am to 2pm
URL:https://poulsbosportsmanclub.org/event/shotgun-5-stand/2028-09-30/
LOCATION:Poulsbo Sportsman Club\, 16990 Clear Creek Road\, Poulsbo\, WA\, 98370\, United States
CATEGORIES:Range Activities
END:VEVENT
BEGIN:VEVENT
DTSTART;TZID=America/Los_Angeles:20281001T090000
DTEND;TZID=America/Los_Angeles:20281001T120000
DTSTAMP:20260423T165753
CREATED:20231016T154129Z
LAST-MODIFIED:20241125T172545Z
UID:10003829-1854003600-1854014400@poulsbosportsmanclub.org
SUMMARY:Bremerton Brigade Monthly Shoot
DESCRIPTION:Shooters meet at Black Powder range gazebo at 0900 for safety brief followed by the event. Winners determined after event which usually ends by noon unless a working party is called.
URL:https://poulsbosportsmanclub.org/event/black-powder-shoot-2-2021-10-03/2028-10-01/
LOCATION:Primitive Range\, 16990 Clear Creek Road\, Poulsbo\, 98370\, United States
CATEGORIES:Range Activities
END:VEVENT
END:VCALENDAR