BEGIN:VCALENDAR
VERSION:2.0
PRODID:-//Poulsbo Sportsman Club - ECPv6.15.20//NONSGML v1.0//EN
CALSCALE:GREGORIAN
METHOD:PUBLISH
X-WR-CALNAME:Poulsbo Sportsman Club
X-ORIGINAL-URL:https://poulsbosportsmanclub.org
X-WR-CALDESC:Events for Poulsbo Sportsman Club
REFRESH-INTERVAL;VALUE=DURATION:PT1H
X-Robots-Tag:noindex
X-PUBLISHED-TTL:PT1H
BEGIN:VTIMEZONE
TZID:America/Los_Angeles
BEGIN:DAYLIGHT
TZOFFSETFROM:-0800
TZOFFSETTO:-0700
TZNAME:PDT
DTSTART:20270314T100000
END:DAYLIGHT
BEGIN:STANDARD
TZOFFSETFROM:-0700
TZOFFSETTO:-0800
TZNAME:PST
DTSTART:20271107T090000
END:STANDARD
BEGIN:DAYLIGHT
TZOFFSETFROM:-0800
TZOFFSETTO:-0700
TZNAME:PDT
DTSTART:20280312T100000
END:DAYLIGHT
BEGIN:STANDARD
TZOFFSETFROM:-0700
TZOFFSETTO:-0800
TZNAME:PST
DTSTART:20281105T090000
END:STANDARD
BEGIN:DAYLIGHT
TZOFFSETFROM:-0800
TZOFFSETTO:-0700
TZNAME:PDT
DTSTART:20290311T100000
END:DAYLIGHT
BEGIN:STANDARD
TZOFFSETFROM:-0700
TZOFFSETTO:-0800
TZNAME:PST
DTSTART:20291104T090000
END:STANDARD
END:VTIMEZONE
BEGIN:VEVENT
DTSTART;TZID=America/Los_Angeles:20280728T090000
DTEND;TZID=America/Los_Angeles:20280728T130000
DTSTAMP:20260422T043630
CREATED:20240925T031616Z
LAST-MODIFIED:20240925T031616Z
UID:10005662-1848387600-1848402000@poulsbosportsmanclub.org
SUMMARY:Shotgun/Trap Range
DESCRIPTION:
URL:https://poulsbosportsmanclub.org/event/shotgun-trap-range/2028-07-28/
CATEGORIES:Shotgun Range
END:VEVENT
BEGIN:VEVENT
DTSTART;TZID=America/Los_Angeles:20280729T090000
DTEND;TZID=America/Los_Angeles:20280729T140000
DTSTAMP:20260422T043630
CREATED:20210512T044813Z
LAST-MODIFIED:20210512T044813Z
UID:10003683-1848474000-1848492000@poulsbosportsmanclub.org
SUMMARY:Shotgun / 5 Stand
DESCRIPTION:Saturdays from 9am to 2pm
URL:https://poulsbosportsmanclub.org/event/shotgun-5-stand/2028-07-29/
LOCATION:Poulsbo Sportsman Club\, 16990 Clear Creek Road\, Poulsbo\, WA\, 98370\, United States
CATEGORIES:Range Activities
END:VEVENT
BEGIN:VEVENT
DTSTART;TZID=America/Los_Angeles:20280801T183000
DTEND;TZID=America/Los_Angeles:20280801T193000
DTSTAMP:20260422T043630
CREATED:20240729T135302Z
LAST-MODIFIED:20240729T135302Z
UID:10005448-1848767400-1848771000@poulsbosportsmanclub.org
SUMMARY:General Membership Meeting
DESCRIPTION:Members only. Discuss club business. Identity needs and resources. Encourage participation and support from club members.
URL:https://poulsbosportsmanclub.org/event/general-membership-meeting/2028-08-01/
END:VEVENT
BEGIN:VEVENT
DTSTART;TZID=America/Los_Angeles:20280802T080000
DTEND;TZID=America/Los_Angeles:20280802T170000
DTSTAMP:20260422T043630
CREATED:20250617T014208Z
LAST-MODIFIED:20250617T014208Z
UID:10005847-1848816000-1848848400@poulsbosportsmanclub.org
SUMMARY:Women’s After Hours
DESCRIPTION:
URL:https://poulsbosportsmanclub.org/event/womens-after-hours-2/2028-08-02/
CATEGORIES:Range Activities
END:VEVENT
BEGIN:VEVENT
DTSTART;TZID=America/Los_Angeles:20280802T090000
DTEND;TZID=America/Los_Angeles:20280802T130000
DTSTAMP:20260422T043630
CREATED:20210512T044534Z
LAST-MODIFIED:20220109T180655Z
UID:10001565-1848819600-1848834000@poulsbosportsmanclub.org
SUMMARY:Shotgun/Trap
DESCRIPTION:9 am to 1 pm Wednesdays and Thursdays
URL:https://poulsbosportsmanclub.org/event/shotgun-trap/2028-08-02/
LOCATION:Poulsbo Sportsman Club\, 16990 Clear Creek Road\, Poulsbo\, WA\, 98370\, United States
CATEGORIES:Range Activities
END:VEVENT
BEGIN:VEVENT
DTSTART;TZID=America/Los_Angeles:20280803T090000
DTEND;TZID=America/Los_Angeles:20280803T130000
DTSTAMP:20260422T043630
CREATED:20210512T044534Z
LAST-MODIFIED:20220109T180655Z
UID:10001566-1848906000-1848920400@poulsbosportsmanclub.org
SUMMARY:Shotgun/Trap
DESCRIPTION:9 am to 1 pm Wednesdays and Thursdays
URL:https://poulsbosportsmanclub.org/event/shotgun-trap/2028-08-03/
LOCATION:Poulsbo Sportsman Club\, 16990 Clear Creek Road\, Poulsbo\, WA\, 98370\, United States
CATEGORIES:Range Activities
END:VEVENT
BEGIN:VEVENT
DTSTART;TZID=America/Los_Angeles:20280804T090000
DTEND;TZID=America/Los_Angeles:20280804T130000
DTSTAMP:20260422T043630
CREATED:20240925T031616Z
LAST-MODIFIED:20240925T031616Z
UID:10005663-1848992400-1849006800@poulsbosportsmanclub.org
SUMMARY:Shotgun/Trap Range
DESCRIPTION:
URL:https://poulsbosportsmanclub.org/event/shotgun-trap-range/2028-08-04/
CATEGORIES:Shotgun Range
END:VEVENT
BEGIN:VEVENT
DTSTART;TZID=America/Los_Angeles:20280805T090000
DTEND;TZID=America/Los_Angeles:20280805T140000
DTSTAMP:20260422T043630
CREATED:20210512T044813Z
LAST-MODIFIED:20210512T044813Z
UID:10003684-1849078800-1849096800@poulsbosportsmanclub.org
SUMMARY:Shotgun / 5 Stand
DESCRIPTION:Saturdays from 9am to 2pm
URL:https://poulsbosportsmanclub.org/event/shotgun-5-stand/2028-08-05/
LOCATION:Poulsbo Sportsman Club\, 16990 Clear Creek Road\, Poulsbo\, WA\, 98370\, United States
CATEGORIES:Range Activities
END:VEVENT
BEGIN:VEVENT
DTSTART;TZID=America/Los_Angeles:20280806T090000
DTEND;TZID=America/Los_Angeles:20280806T120000
DTSTAMP:20260422T043630
CREATED:20231016T154129Z
LAST-MODIFIED:20241125T172545Z
UID:10003827-1849165200-1849176000@poulsbosportsmanclub.org
SUMMARY:Bremerton Brigade Monthly Shoot
DESCRIPTION:Shooters meet at Black Powder range gazebo at 0900 for safety brief followed by the event. Winners determined after event which usually ends by noon unless a working party is called.
URL:https://poulsbosportsmanclub.org/event/black-powder-shoot-2-2021-10-03/2028-08-06/
LOCATION:Primitive Range\, 16990 Clear Creek Road\, Poulsbo\, 98370\, United States
CATEGORIES:Range Activities
END:VEVENT
BEGIN:VEVENT
DTSTART;TZID=America/Los_Angeles:20280809T090000
DTEND;TZID=America/Los_Angeles:20280809T130000
DTSTAMP:20260422T043630
CREATED:20210512T044534Z
LAST-MODIFIED:20220109T180655Z
UID:10001567-1849424400-1849438800@poulsbosportsmanclub.org
SUMMARY:Shotgun/Trap
DESCRIPTION:9 am to 1 pm Wednesdays and Thursdays
URL:https://poulsbosportsmanclub.org/event/shotgun-trap/2028-08-09/
LOCATION:Poulsbo Sportsman Club\, 16990 Clear Creek Road\, Poulsbo\, WA\, 98370\, United States
CATEGORIES:Range Activities
END:VEVENT
BEGIN:VEVENT
DTSTART;TZID=America/Los_Angeles:20280810T090000
DTEND;TZID=America/Los_Angeles:20280810T130000
DTSTAMP:20260422T043630
CREATED:20210512T044534Z
LAST-MODIFIED:20220109T180655Z
UID:10001568-1849510800-1849525200@poulsbosportsmanclub.org
SUMMARY:Shotgun/Trap
DESCRIPTION:9 am to 1 pm Wednesdays and Thursdays
URL:https://poulsbosportsmanclub.org/event/shotgun-trap/2028-08-10/
LOCATION:Poulsbo Sportsman Club\, 16990 Clear Creek Road\, Poulsbo\, WA\, 98370\, United States
CATEGORIES:Range Activities
END:VEVENT
BEGIN:VEVENT
DTSTART;TZID=America/Los_Angeles:20280811T090000
DTEND;TZID=America/Los_Angeles:20280811T130000
DTSTAMP:20260422T043630
CREATED:20240925T031616Z
LAST-MODIFIED:20240925T031616Z
UID:10005664-1849597200-1849611600@poulsbosportsmanclub.org
SUMMARY:Shotgun/Trap Range
DESCRIPTION:
URL:https://poulsbosportsmanclub.org/event/shotgun-trap-range/2028-08-11/
CATEGORIES:Shotgun Range
END:VEVENT
BEGIN:VEVENT
DTSTART;TZID=America/Los_Angeles:20280812T090000
DTEND;TZID=America/Los_Angeles:20280812T123000
DTSTAMP:20260422T043630
CREATED:20231004T190924Z
LAST-MODIFIED:20240328T011118Z
UID:10003896-1849683600-1849696200@poulsbosportsmanclub.org
SUMMARY:Action Pistol Match
DESCRIPTION:Gate opens at 0800\nSign-in & Safety Briefing at 0830\nRange hot at 0900\nFees:  $5 \nPARTICIPANTS NEED TO BRING:\n– A safe\, functioning handgun (ALL CALIBERS WELCOME)\n– 50-100 rounds of ammunition\n– A holster that covers the gun’s trigger area\n– The entry fee (cash only)
URL:https://poulsbosportsmanclub.org/event/action-pistol-match-2/2028-08-12/
CATEGORIES:Range Activities
END:VEVENT
BEGIN:VEVENT
DTSTART;TZID=America/Los_Angeles:20280812T090000
DTEND;TZID=America/Los_Angeles:20280812T140000
DTSTAMP:20260422T043630
CREATED:20210512T044813Z
LAST-MODIFIED:20210512T044813Z
UID:10003685-1849683600-1849701600@poulsbosportsmanclub.org
SUMMARY:Shotgun / 5 Stand
DESCRIPTION:Saturdays from 9am to 2pm
URL:https://poulsbosportsmanclub.org/event/shotgun-5-stand/2028-08-12/
LOCATION:Poulsbo Sportsman Club\, 16990 Clear Creek Road\, Poulsbo\, WA\, 98370\, United States
CATEGORIES:Range Activities
END:VEVENT
BEGIN:VEVENT
DTSTART;TZID=America/Los_Angeles:20280816T090000
DTEND;TZID=America/Los_Angeles:20280816T130000
DTSTAMP:20260422T043630
CREATED:20210512T044534Z
LAST-MODIFIED:20220109T180655Z
UID:10001569-1850029200-1850043600@poulsbosportsmanclub.org
SUMMARY:Shotgun/Trap
DESCRIPTION:9 am to 1 pm Wednesdays and Thursdays
URL:https://poulsbosportsmanclub.org/event/shotgun-trap/2028-08-16/
LOCATION:Poulsbo Sportsman Club\, 16990 Clear Creek Road\, Poulsbo\, WA\, 98370\, United States
CATEGORIES:Range Activities
END:VEVENT
BEGIN:VEVENT
DTSTART;TZID=America/Los_Angeles:20280816T170000
DTEND;TZID=America/Los_Angeles:20280816T190000
DTSTAMP:20260422T043630
CREATED:20250617T014026Z
LAST-MODIFIED:20250617T014026Z
UID:10005787-1850058000-1850065200@poulsbosportsmanclub.org
SUMMARY:Women’s After Hours
DESCRIPTION:
URL:https://poulsbosportsmanclub.org/event/womens-after-hours/2028-08-16/
CATEGORIES:Range Activities
END:VEVENT
BEGIN:VEVENT
DTSTART;TZID=America/Los_Angeles:20280816T180000
DTEND;TZID=America/Los_Angeles:20280816T200000
DTSTAMP:20260422T043630
CREATED:20201230T221706Z
LAST-MODIFIED:20220118T030956Z
UID:10003295-1850061600-1850068800@poulsbosportsmanclub.org
SUMMARY:Bremerton Brigade Meeting in Clubhouse
DESCRIPTION:
URL:https://poulsbosportsmanclub.org/event/bremerton-brigade-meeting-in-clubhouse/2028-08-16/
CATEGORIES:Range Activities
END:VEVENT
BEGIN:VEVENT
DTSTART;TZID=America/Los_Angeles:20280817T090000
DTEND;TZID=America/Los_Angeles:20280817T130000
DTSTAMP:20260422T043630
CREATED:20210512T044534Z
LAST-MODIFIED:20220109T180655Z
UID:10001570-1850115600-1850130000@poulsbosportsmanclub.org
SUMMARY:Shotgun/Trap
DESCRIPTION:9 am to 1 pm Wednesdays and Thursdays
URL:https://poulsbosportsmanclub.org/event/shotgun-trap/2028-08-17/
LOCATION:Poulsbo Sportsman Club\, 16990 Clear Creek Road\, Poulsbo\, WA\, 98370\, United States
CATEGORIES:Range Activities
END:VEVENT
BEGIN:VEVENT
DTSTART;TZID=America/Los_Angeles:20280818T090000
DTEND;TZID=America/Los_Angeles:20280818T130000
DTSTAMP:20260422T043630
CREATED:20240925T031616Z
LAST-MODIFIED:20240925T031616Z
UID:10005665-1850202000-1850216400@poulsbosportsmanclub.org
SUMMARY:Shotgun/Trap Range
DESCRIPTION:
URL:https://poulsbosportsmanclub.org/event/shotgun-trap-range/2028-08-18/
CATEGORIES:Shotgun Range
END:VEVENT
BEGIN:VEVENT
DTSTART;TZID=America/Los_Angeles:20280819T090000
DTEND;TZID=America/Los_Angeles:20280819T090000
DTSTAMP:20260422T043630
CREATED:20200116T223650Z
LAST-MODIFIED:20240402T020024Z
UID:10002113-1850288400-1850288400@poulsbosportsmanclub.org
SUMMARY:22 LR Silhouette - 100 and 200 yard range
DESCRIPTION:Silhouette | Poulsbo Sportsman Club
URL:https://poulsbosportsmanclub.org/event/22-lr-silhouette-100-and-200-yard-range-2-2022-06-18/2028-08-19/
CATEGORIES:Range Activities
END:VEVENT
BEGIN:VEVENT
DTSTART;TZID=America/Los_Angeles:20280819T090000
DTEND;TZID=America/Los_Angeles:20280819T140000
DTSTAMP:20260422T043630
CREATED:20210512T044813Z
LAST-MODIFIED:20210512T044813Z
UID:10003686-1850288400-1850306400@poulsbosportsmanclub.org
SUMMARY:Shotgun / 5 Stand
DESCRIPTION:Saturdays from 9am to 2pm
URL:https://poulsbosportsmanclub.org/event/shotgun-5-stand/2028-08-19/
LOCATION:Poulsbo Sportsman Club\, 16990 Clear Creek Road\, Poulsbo\, WA\, 98370\, United States
CATEGORIES:Range Activities
END:VEVENT
BEGIN:VEVENT
DTSTART;TZID=America/Los_Angeles:20280823T090000
DTEND;TZID=America/Los_Angeles:20280823T130000
DTSTAMP:20260422T043630
CREATED:20210512T044534Z
LAST-MODIFIED:20220109T180655Z
UID:10001571-1850634000-1850648400@poulsbosportsmanclub.org
SUMMARY:Shotgun/Trap
DESCRIPTION:9 am to 1 pm Wednesdays and Thursdays
URL:https://poulsbosportsmanclub.org/event/shotgun-trap/2028-08-23/
LOCATION:Poulsbo Sportsman Club\, 16990 Clear Creek Road\, Poulsbo\, WA\, 98370\, United States
CATEGORIES:Range Activities
END:VEVENT
BEGIN:VEVENT
DTSTART;TZID=America/Los_Angeles:20280824T090000
DTEND;TZID=America/Los_Angeles:20280824T130000
DTSTAMP:20260422T043630
CREATED:20210512T044534Z
LAST-MODIFIED:20220109T180655Z
UID:10001572-1850720400-1850734800@poulsbosportsmanclub.org
SUMMARY:Shotgun/Trap
DESCRIPTION:9 am to 1 pm Wednesdays and Thursdays
URL:https://poulsbosportsmanclub.org/event/shotgun-trap/2028-08-24/
LOCATION:Poulsbo Sportsman Club\, 16990 Clear Creek Road\, Poulsbo\, WA\, 98370\, United States
CATEGORIES:Range Activities
END:VEVENT
BEGIN:VEVENT
DTSTART;TZID=America/Los_Angeles:20280825T090000
DTEND;TZID=America/Los_Angeles:20280825T130000
DTSTAMP:20260422T043630
CREATED:20240925T031616Z
LAST-MODIFIED:20240925T031616Z
UID:10005666-1850806800-1850821200@poulsbosportsmanclub.org
SUMMARY:Shotgun/Trap Range
DESCRIPTION:
URL:https://poulsbosportsmanclub.org/event/shotgun-trap-range/2028-08-25/
CATEGORIES:Shotgun Range
END:VEVENT
BEGIN:VEVENT
DTSTART;TZID=America/Los_Angeles:20280826T090000
DTEND;TZID=America/Los_Angeles:20280826T140000
DTSTAMP:20260422T043630
CREATED:20210512T044813Z
LAST-MODIFIED:20210512T044813Z
UID:10003687-1850893200-1850911200@poulsbosportsmanclub.org
SUMMARY:Shotgun / 5 Stand
DESCRIPTION:Saturdays from 9am to 2pm
URL:https://poulsbosportsmanclub.org/event/shotgun-5-stand/2028-08-26/
LOCATION:Poulsbo Sportsman Club\, 16990 Clear Creek Road\, Poulsbo\, WA\, 98370\, United States
CATEGORIES:Range Activities
END:VEVENT
BEGIN:VEVENT
DTSTART;TZID=America/Los_Angeles:20280827T090000
DTEND;TZID=America/Los_Angeles:20280827T120000
DTSTAMP:20260422T043630
CREATED:20260323T030837Z
LAST-MODIFIED:20260323T030837Z
UID:10005905-1850979600-1850990400@poulsbosportsmanclub.org
SUMMARY:Poulsbo Pistoleros Cowboy Action Shooters
DESCRIPTION:Sign-in starts at 9:00 \nEvent starts at 10:00
URL:https://poulsbosportsmanclub.org/event/poulsbo-pistoleros-cowboy-action-shooters/2028-08-27/
LOCATION:Poulsbo Sportsman Club\, 16990 Clear Creek Road\, Poulsbo\, WA\, 98370\, United States
CATEGORIES:Range Activities
END:VEVENT
BEGIN:VEVENT
DTSTART;TZID=America/Los_Angeles:20280830T090000
DTEND;TZID=America/Los_Angeles:20280830T130000
DTSTAMP:20260422T043630
CREATED:20210512T044534Z
LAST-MODIFIED:20220109T180655Z
UID:10001573-1851238800-1851253200@poulsbosportsmanclub.org
SUMMARY:Shotgun/Trap
DESCRIPTION:9 am to 1 pm Wednesdays and Thursdays
URL:https://poulsbosportsmanclub.org/event/shotgun-trap/2028-08-30/
LOCATION:Poulsbo Sportsman Club\, 16990 Clear Creek Road\, Poulsbo\, WA\, 98370\, United States
CATEGORIES:Range Activities
END:VEVENT
BEGIN:VEVENT
DTSTART;TZID=America/Los_Angeles:20280831T090000
DTEND;TZID=America/Los_Angeles:20280831T130000
DTSTAMP:20260422T043630
CREATED:20210512T044534Z
LAST-MODIFIED:20220109T180655Z
UID:10001574-1851325200-1851339600@poulsbosportsmanclub.org
SUMMARY:Shotgun/Trap
DESCRIPTION:9 am to 1 pm Wednesdays and Thursdays
URL:https://poulsbosportsmanclub.org/event/shotgun-trap/2028-08-31/
LOCATION:Poulsbo Sportsman Club\, 16990 Clear Creek Road\, Poulsbo\, WA\, 98370\, United States
CATEGORIES:Range Activities
END:VEVENT
BEGIN:VEVENT
DTSTART;TZID=America/Los_Angeles:20280901T090000
DTEND;TZID=America/Los_Angeles:20280901T130000
DTSTAMP:20260422T043630
CREATED:20240925T031616Z
LAST-MODIFIED:20240925T031616Z
UID:10005667-1851411600-1851426000@poulsbosportsmanclub.org
SUMMARY:Shotgun/Trap Range
DESCRIPTION:
URL:https://poulsbosportsmanclub.org/event/shotgun-trap-range/2028-09-01/
CATEGORIES:Shotgun Range
END:VEVENT
BEGIN:VEVENT
DTSTART;TZID=America/Los_Angeles:20280902T090000
DTEND;TZID=America/Los_Angeles:20280902T140000
DTSTAMP:20260422T043630
CREATED:20210512T044813Z
LAST-MODIFIED:20210512T044813Z
UID:10003688-1851498000-1851516000@poulsbosportsmanclub.org
SUMMARY:Shotgun / 5 Stand
DESCRIPTION:Saturdays from 9am to 2pm
URL:https://poulsbosportsmanclub.org/event/shotgun-5-stand/2028-09-02/
LOCATION:Poulsbo Sportsman Club\, 16990 Clear Creek Road\, Poulsbo\, WA\, 98370\, United States
CATEGORIES:Range Activities
END:VEVENT
END:VCALENDAR