BEGIN:VCALENDAR
VERSION:2.0
PRODID:-//Poulsbo Sportsman Club - ECPv6.15.20//NONSGML v1.0//EN
CALSCALE:GREGORIAN
METHOD:PUBLISH
X-ORIGINAL-URL:https://poulsbosportsmanclub.org
X-WR-CALDESC:Events for Poulsbo Sportsman Club
REFRESH-INTERVAL;VALUE=DURATION:PT1H
X-Robots-Tag:noindex
X-PUBLISHED-TTL:PT1H
BEGIN:VTIMEZONE
TZID:America/Los_Angeles
BEGIN:DAYLIGHT
TZOFFSETFROM:-0800
TZOFFSETTO:-0700
TZNAME:PDT
DTSTART:20270314T100000
END:DAYLIGHT
BEGIN:STANDARD
TZOFFSETFROM:-0700
TZOFFSETTO:-0800
TZNAME:PST
DTSTART:20271107T090000
END:STANDARD
BEGIN:DAYLIGHT
TZOFFSETFROM:-0800
TZOFFSETTO:-0700
TZNAME:PDT
DTSTART:20280312T100000
END:DAYLIGHT
BEGIN:STANDARD
TZOFFSETFROM:-0700
TZOFFSETTO:-0800
TZNAME:PST
DTSTART:20281105T090000
END:STANDARD
BEGIN:DAYLIGHT
TZOFFSETFROM:-0800
TZOFFSETTO:-0700
TZNAME:PDT
DTSTART:20290311T100000
END:DAYLIGHT
BEGIN:STANDARD
TZOFFSETFROM:-0700
TZOFFSETTO:-0800
TZNAME:PST
DTSTART:20291104T090000
END:STANDARD
END:VTIMEZONE
BEGIN:VEVENT
DTSTART;TZID=America/Los_Angeles:20280518T090000
DTEND;TZID=America/Los_Angeles:20280518T130000
DTSTAMP:20260421T202932
CREATED:20210512T044534Z
LAST-MODIFIED:20220109T180655Z
UID:10001544-1842253200-1842267600@poulsbosportsmanclub.org
SUMMARY:Shotgun/Trap
DESCRIPTION:9 am to 1 pm Wednesdays and Thursdays
URL:https://poulsbosportsmanclub.org/event/shotgun-trap/2028-05-18/
LOCATION:Poulsbo Sportsman Club\, 16990 Clear Creek Road\, Poulsbo\, WA\, 98370\, United States
CATEGORIES:Range Activities
END:VEVENT
BEGIN:VEVENT
DTSTART;TZID=America/Los_Angeles:20280519T090000
DTEND;TZID=America/Los_Angeles:20280519T130000
DTSTAMP:20260421T202932
CREATED:20240925T031616Z
LAST-MODIFIED:20240925T031616Z
UID:10005652-1842339600-1842354000@poulsbosportsmanclub.org
SUMMARY:Shotgun/Trap Range
DESCRIPTION:
URL:https://poulsbosportsmanclub.org/event/shotgun-trap-range/2028-05-19/
CATEGORIES:Shotgun Range
END:VEVENT
BEGIN:VEVENT
DTSTART;TZID=America/Los_Angeles:20280520T090000
DTEND;TZID=America/Los_Angeles:20280520T090000
DTSTAMP:20260421T202932
CREATED:20200116T223650Z
LAST-MODIFIED:20240402T020024Z
UID:10002110-1842426000-1842426000@poulsbosportsmanclub.org
SUMMARY:22 LR Silhouette - 100 and 200 yard range
DESCRIPTION:Silhouette | Poulsbo Sportsman Club
URL:https://poulsbosportsmanclub.org/event/22-lr-silhouette-100-and-200-yard-range-2-2022-06-18/2028-05-20/
CATEGORIES:Range Activities
END:VEVENT
BEGIN:VEVENT
DTSTART;TZID=America/Los_Angeles:20280520T090000
DTEND;TZID=America/Los_Angeles:20280520T140000
DTSTAMP:20260421T202932
CREATED:20210512T044813Z
LAST-MODIFIED:20210512T044813Z
UID:10003673-1842426000-1842444000@poulsbosportsmanclub.org
SUMMARY:Shotgun / 5 Stand
DESCRIPTION:Saturdays from 9am to 2pm
URL:https://poulsbosportsmanclub.org/event/shotgun-5-stand/2028-05-20/
LOCATION:Poulsbo Sportsman Club\, 16990 Clear Creek Road\, Poulsbo\, WA\, 98370\, United States
CATEGORIES:Range Activities
END:VEVENT
BEGIN:VEVENT
DTSTART;TZID=America/Los_Angeles:20280524T090000
DTEND;TZID=America/Los_Angeles:20280524T130000
DTSTAMP:20260421T202932
CREATED:20210512T044534Z
LAST-MODIFIED:20220109T180655Z
UID:10001545-1842771600-1842786000@poulsbosportsmanclub.org
SUMMARY:Shotgun/Trap
DESCRIPTION:9 am to 1 pm Wednesdays and Thursdays
URL:https://poulsbosportsmanclub.org/event/shotgun-trap/2028-05-24/
LOCATION:Poulsbo Sportsman Club\, 16990 Clear Creek Road\, Poulsbo\, WA\, 98370\, United States
CATEGORIES:Range Activities
END:VEVENT
BEGIN:VEVENT
DTSTART;TZID=America/Los_Angeles:20280525T090000
DTEND;TZID=America/Los_Angeles:20280525T130000
DTSTAMP:20260421T202932
CREATED:20210512T044534Z
LAST-MODIFIED:20220109T180655Z
UID:10001546-1842858000-1842872400@poulsbosportsmanclub.org
SUMMARY:Shotgun/Trap
DESCRIPTION:9 am to 1 pm Wednesdays and Thursdays
URL:https://poulsbosportsmanclub.org/event/shotgun-trap/2028-05-25/
LOCATION:Poulsbo Sportsman Club\, 16990 Clear Creek Road\, Poulsbo\, WA\, 98370\, United States
CATEGORIES:Range Activities
END:VEVENT
BEGIN:VEVENT
DTSTART;TZID=America/Los_Angeles:20280526T090000
DTEND;TZID=America/Los_Angeles:20280526T130000
DTSTAMP:20260421T202932
CREATED:20240925T031616Z
LAST-MODIFIED:20240925T031616Z
UID:10005653-1842944400-1842958800@poulsbosportsmanclub.org
SUMMARY:Shotgun/Trap Range
DESCRIPTION:
URL:https://poulsbosportsmanclub.org/event/shotgun-trap-range/2028-05-26/
CATEGORIES:Shotgun Range
END:VEVENT
BEGIN:VEVENT
DTSTART;TZID=America/Los_Angeles:20280527T090000
DTEND;TZID=America/Los_Angeles:20280527T140000
DTSTAMP:20260421T202932
CREATED:20210512T044813Z
LAST-MODIFIED:20210512T044813Z
UID:10003674-1843030800-1843048800@poulsbosportsmanclub.org
SUMMARY:Shotgun / 5 Stand
DESCRIPTION:Saturdays from 9am to 2pm
URL:https://poulsbosportsmanclub.org/event/shotgun-5-stand/2028-05-27/
LOCATION:Poulsbo Sportsman Club\, 16990 Clear Creek Road\, Poulsbo\, WA\, 98370\, United States
CATEGORIES:Range Activities
END:VEVENT
BEGIN:VEVENT
DTSTART;TZID=America/Los_Angeles:20280528T090000
DTEND;TZID=America/Los_Angeles:20280528T120000
DTSTAMP:20260421T202932
CREATED:20260323T030837Z
LAST-MODIFIED:20260323T030837Z
UID:10005902-1843117200-1843128000@poulsbosportsmanclub.org
SUMMARY:Poulsbo Pistoleros Cowboy Action Shooters
DESCRIPTION:Sign-in starts at 9:00 \nEvent starts at 10:00
URL:https://poulsbosportsmanclub.org/event/poulsbo-pistoleros-cowboy-action-shooters/2028-05-28/
LOCATION:Poulsbo Sportsman Club\, 16990 Clear Creek Road\, Poulsbo\, WA\, 98370\, United States
CATEGORIES:Range Activities
END:VEVENT
BEGIN:VEVENT
DTSTART;TZID=America/Los_Angeles:20280531T090000
DTEND;TZID=America/Los_Angeles:20280531T130000
DTSTAMP:20260421T202932
CREATED:20210512T044534Z
LAST-MODIFIED:20220109T180655Z
UID:10001547-1843376400-1843390800@poulsbosportsmanclub.org
SUMMARY:Shotgun/Trap
DESCRIPTION:9 am to 1 pm Wednesdays and Thursdays
URL:https://poulsbosportsmanclub.org/event/shotgun-trap/2028-05-31/
LOCATION:Poulsbo Sportsman Club\, 16990 Clear Creek Road\, Poulsbo\, WA\, 98370\, United States
CATEGORIES:Range Activities
END:VEVENT
BEGIN:VEVENT
DTSTART;TZID=America/Los_Angeles:20280601T090000
DTEND;TZID=America/Los_Angeles:20280601T130000
DTSTAMP:20260421T202932
CREATED:20210512T044534Z
LAST-MODIFIED:20220109T180655Z
UID:10001548-1843462800-1843477200@poulsbosportsmanclub.org
SUMMARY:Shotgun/Trap
DESCRIPTION:9 am to 1 pm Wednesdays and Thursdays
URL:https://poulsbosportsmanclub.org/event/shotgun-trap/2028-06-01/
LOCATION:Poulsbo Sportsman Club\, 16990 Clear Creek Road\, Poulsbo\, WA\, 98370\, United States
CATEGORIES:Range Activities
END:VEVENT
BEGIN:VEVENT
DTSTART;TZID=America/Los_Angeles:20280602T090000
DTEND;TZID=America/Los_Angeles:20280602T130000
DTSTAMP:20260421T202932
CREATED:20240925T031616Z
LAST-MODIFIED:20240925T031616Z
UID:10005654-1843549200-1843563600@poulsbosportsmanclub.org
SUMMARY:Shotgun/Trap Range
DESCRIPTION:
URL:https://poulsbosportsmanclub.org/event/shotgun-trap-range/2028-06-02/
CATEGORIES:Shotgun Range
END:VEVENT
BEGIN:VEVENT
DTSTART;TZID=America/Los_Angeles:20280603T090000
DTEND;TZID=America/Los_Angeles:20280603T140000
DTSTAMP:20260421T202932
CREATED:20210512T044813Z
LAST-MODIFIED:20210512T044813Z
UID:10003675-1843635600-1843653600@poulsbosportsmanclub.org
SUMMARY:Shotgun / 5 Stand
DESCRIPTION:Saturdays from 9am to 2pm
URL:https://poulsbosportsmanclub.org/event/shotgun-5-stand/2028-06-03/
LOCATION:Poulsbo Sportsman Club\, 16990 Clear Creek Road\, Poulsbo\, WA\, 98370\, United States
CATEGORIES:Range Activities
END:VEVENT
BEGIN:VEVENT
DTSTART;TZID=America/Los_Angeles:20280603T100000
DTEND;TZID=America/Los_Angeles:20280603T140000
DTSTAMP:20260421T202933
CREATED:20250625T022916Z
LAST-MODIFIED:20250625T022916Z
UID:10005873-1843639200-1843653600@poulsbosportsmanclub.org
SUMMARY:Family Day
DESCRIPTION:A fun event where people of all ages can get together on the range to learn about shooting sports\, gun and gun safety while enjoying the great outdoors.
URL:https://poulsbosportsmanclub.org/event/family-day-2/2028-06-03/
CATEGORIES:Range Activities
END:VEVENT
BEGIN:VEVENT
DTSTART;TZID=America/Los_Angeles:20280604T090000
DTEND;TZID=America/Los_Angeles:20280604T120000
DTSTAMP:20260421T202933
CREATED:20231016T154129Z
LAST-MODIFIED:20241125T172545Z
UID:10003825-1843722000-1843732800@poulsbosportsmanclub.org
SUMMARY:Bremerton Brigade Monthly Shoot
DESCRIPTION:Shooters meet at Black Powder range gazebo at 0900 for safety brief followed by the event. Winners determined after event which usually ends by noon unless a working party is called.
URL:https://poulsbosportsmanclub.org/event/black-powder-shoot-2-2021-10-03/2028-06-04/
LOCATION:Primitive Range\, 16990 Clear Creek Road\, Poulsbo\, 98370\, United States
CATEGORIES:Range Activities
END:VEVENT
BEGIN:VEVENT
DTSTART;TZID=America/Los_Angeles:20280606T183000
DTEND;TZID=America/Los_Angeles:20280606T193000
DTSTAMP:20260421T202933
CREATED:20240729T135302Z
LAST-MODIFIED:20240729T135302Z
UID:10005446-1843929000-1843932600@poulsbosportsmanclub.org
SUMMARY:General Membership Meeting
DESCRIPTION:Members only. Discuss club business. Identity needs and resources. Encourage participation and support from club members.
URL:https://poulsbosportsmanclub.org/event/general-membership-meeting/2028-06-06/
END:VEVENT
BEGIN:VEVENT
DTSTART;TZID=America/Los_Angeles:20280607T080000
DTEND;TZID=America/Los_Angeles:20280607T170000
DTSTAMP:20260421T202933
CREATED:20250617T014208Z
LAST-MODIFIED:20250617T014208Z
UID:10005845-1843977600-1844010000@poulsbosportsmanclub.org
SUMMARY:Women’s After Hours
DESCRIPTION:
URL:https://poulsbosportsmanclub.org/event/womens-after-hours-2/2028-06-07/
CATEGORIES:Range Activities
END:VEVENT
BEGIN:VEVENT
DTSTART;TZID=America/Los_Angeles:20280607T090000
DTEND;TZID=America/Los_Angeles:20280607T130000
DTSTAMP:20260421T202933
CREATED:20210512T044534Z
LAST-MODIFIED:20220109T180655Z
UID:10001549-1843981200-1843995600@poulsbosportsmanclub.org
SUMMARY:Shotgun/Trap
DESCRIPTION:9 am to 1 pm Wednesdays and Thursdays
URL:https://poulsbosportsmanclub.org/event/shotgun-trap/2028-06-07/
LOCATION:Poulsbo Sportsman Club\, 16990 Clear Creek Road\, Poulsbo\, WA\, 98370\, United States
CATEGORIES:Range Activities
END:VEVENT
BEGIN:VEVENT
DTSTART;TZID=America/Los_Angeles:20280608T090000
DTEND;TZID=America/Los_Angeles:20280608T130000
DTSTAMP:20260421T202933
CREATED:20210512T044534Z
LAST-MODIFIED:20220109T180655Z
UID:10001550-1844067600-1844082000@poulsbosportsmanclub.org
SUMMARY:Shotgun/Trap
DESCRIPTION:9 am to 1 pm Wednesdays and Thursdays
URL:https://poulsbosportsmanclub.org/event/shotgun-trap/2028-06-08/
LOCATION:Poulsbo Sportsman Club\, 16990 Clear Creek Road\, Poulsbo\, WA\, 98370\, United States
CATEGORIES:Range Activities
END:VEVENT
BEGIN:VEVENT
DTSTART;TZID=America/Los_Angeles:20280609T090000
DTEND;TZID=America/Los_Angeles:20280609T130000
DTSTAMP:20260421T202933
CREATED:20240925T031616Z
LAST-MODIFIED:20240925T031616Z
UID:10005655-1844154000-1844168400@poulsbosportsmanclub.org
SUMMARY:Shotgun/Trap Range
DESCRIPTION:
URL:https://poulsbosportsmanclub.org/event/shotgun-trap-range/2028-06-09/
CATEGORIES:Shotgun Range
END:VEVENT
BEGIN:VEVENT
DTSTART;TZID=America/Los_Angeles:20280610T090000
DTEND;TZID=America/Los_Angeles:20280610T123000
DTSTAMP:20260421T202933
CREATED:20231004T190924Z
LAST-MODIFIED:20240328T011118Z
UID:10003894-1844240400-1844253000@poulsbosportsmanclub.org
SUMMARY:Action Pistol Match
DESCRIPTION:Gate opens at 0800\nSign-in & Safety Briefing at 0830\nRange hot at 0900\nFees:  $5 \nPARTICIPANTS NEED TO BRING:\n– A safe\, functioning handgun (ALL CALIBERS WELCOME)\n– 50-100 rounds of ammunition\n– A holster that covers the gun’s trigger area\n– The entry fee (cash only)
URL:https://poulsbosportsmanclub.org/event/action-pistol-match-2/2028-06-10/
CATEGORIES:Range Activities
END:VEVENT
BEGIN:VEVENT
DTSTART;TZID=America/Los_Angeles:20280610T090000
DTEND;TZID=America/Los_Angeles:20280610T140000
DTSTAMP:20260421T202933
CREATED:20210512T044813Z
LAST-MODIFIED:20210512T044813Z
UID:10003676-1844240400-1844258400@poulsbosportsmanclub.org
SUMMARY:Shotgun / 5 Stand
DESCRIPTION:Saturdays from 9am to 2pm
URL:https://poulsbosportsmanclub.org/event/shotgun-5-stand/2028-06-10/
LOCATION:Poulsbo Sportsman Club\, 16990 Clear Creek Road\, Poulsbo\, WA\, 98370\, United States
CATEGORIES:Range Activities
END:VEVENT
BEGIN:VEVENT
DTSTART;TZID=America/Los_Angeles:20280614T090000
DTEND;TZID=America/Los_Angeles:20280614T130000
DTSTAMP:20260421T202933
CREATED:20210512T044534Z
LAST-MODIFIED:20220109T180655Z
UID:10001551-1844586000-1844600400@poulsbosportsmanclub.org
SUMMARY:Shotgun/Trap
DESCRIPTION:9 am to 1 pm Wednesdays and Thursdays
URL:https://poulsbosportsmanclub.org/event/shotgun-trap/2028-06-14/
LOCATION:Poulsbo Sportsman Club\, 16990 Clear Creek Road\, Poulsbo\, WA\, 98370\, United States
CATEGORIES:Range Activities
END:VEVENT
BEGIN:VEVENT
DTSTART;TZID=America/Los_Angeles:20280615T090000
DTEND;TZID=America/Los_Angeles:20280615T130000
DTSTAMP:20260421T202933
CREATED:20210512T044534Z
LAST-MODIFIED:20220109T180655Z
UID:10001552-1844672400-1844686800@poulsbosportsmanclub.org
SUMMARY:Shotgun/Trap
DESCRIPTION:9 am to 1 pm Wednesdays and Thursdays
URL:https://poulsbosportsmanclub.org/event/shotgun-trap/2028-06-15/
LOCATION:Poulsbo Sportsman Club\, 16990 Clear Creek Road\, Poulsbo\, WA\, 98370\, United States
CATEGORIES:Range Activities
END:VEVENT
BEGIN:VEVENT
DTSTART;TZID=America/Los_Angeles:20280616T090000
DTEND;TZID=America/Los_Angeles:20280616T130000
DTSTAMP:20260421T202933
CREATED:20240925T031616Z
LAST-MODIFIED:20240925T031616Z
UID:10005656-1844758800-1844773200@poulsbosportsmanclub.org
SUMMARY:Shotgun/Trap Range
DESCRIPTION:
URL:https://poulsbosportsmanclub.org/event/shotgun-trap-range/2028-06-16/
CATEGORIES:Shotgun Range
END:VEVENT
BEGIN:VEVENT
DTSTART;TZID=America/Los_Angeles:20280617T090000
DTEND;TZID=America/Los_Angeles:20280617T090000
DTSTAMP:20260421T202933
CREATED:20200116T223650Z
LAST-MODIFIED:20240402T020024Z
UID:10002111-1844845200-1844845200@poulsbosportsmanclub.org
SUMMARY:22 LR Silhouette - 100 and 200 yard range
DESCRIPTION:Silhouette | Poulsbo Sportsman Club
URL:https://poulsbosportsmanclub.org/event/22-lr-silhouette-100-and-200-yard-range-2-2022-06-18/2028-06-17/
CATEGORIES:Range Activities
END:VEVENT
BEGIN:VEVENT
DTSTART;TZID=America/Los_Angeles:20280617T090000
DTEND;TZID=America/Los_Angeles:20280617T140000
DTSTAMP:20260421T202933
CREATED:20210512T044813Z
LAST-MODIFIED:20210512T044813Z
UID:10003677-1844845200-1844863200@poulsbosportsmanclub.org
SUMMARY:Shotgun / 5 Stand
DESCRIPTION:Saturdays from 9am to 2pm
URL:https://poulsbosportsmanclub.org/event/shotgun-5-stand/2028-06-17/
LOCATION:Poulsbo Sportsman Club\, 16990 Clear Creek Road\, Poulsbo\, WA\, 98370\, United States
CATEGORIES:Range Activities
END:VEVENT
BEGIN:VEVENT
DTSTART;TZID=America/Los_Angeles:20280621T090000
DTEND;TZID=America/Los_Angeles:20280621T130000
DTSTAMP:20260421T202933
CREATED:20210512T044534Z
LAST-MODIFIED:20220109T180655Z
UID:10001553-1845190800-1845205200@poulsbosportsmanclub.org
SUMMARY:Shotgun/Trap
DESCRIPTION:9 am to 1 pm Wednesdays and Thursdays
URL:https://poulsbosportsmanclub.org/event/shotgun-trap/2028-06-21/
LOCATION:Poulsbo Sportsman Club\, 16990 Clear Creek Road\, Poulsbo\, WA\, 98370\, United States
CATEGORIES:Range Activities
END:VEVENT
BEGIN:VEVENT
DTSTART;TZID=America/Los_Angeles:20280621T170000
DTEND;TZID=America/Los_Angeles:20280621T190000
DTSTAMP:20260421T202933
CREATED:20250617T014026Z
LAST-MODIFIED:20250617T014026Z
UID:10005785-1845219600-1845226800@poulsbosportsmanclub.org
SUMMARY:Women’s After Hours
DESCRIPTION:
URL:https://poulsbosportsmanclub.org/event/womens-after-hours/2028-06-21/
CATEGORIES:Range Activities
END:VEVENT
BEGIN:VEVENT
DTSTART;TZID=America/Los_Angeles:20280621T180000
DTEND;TZID=America/Los_Angeles:20280621T200000
DTSTAMP:20260421T202933
CREATED:20201230T221706Z
LAST-MODIFIED:20220118T030956Z
UID:10003293-1845223200-1845230400@poulsbosportsmanclub.org
SUMMARY:Bremerton Brigade Meeting in Clubhouse
DESCRIPTION:
URL:https://poulsbosportsmanclub.org/event/bremerton-brigade-meeting-in-clubhouse/2028-06-21/
CATEGORIES:Range Activities
END:VEVENT
END:VCALENDAR