BEGIN:VCALENDAR
VERSION:2.0
PRODID:-//Poulsbo Sportsman Club - ECPv6.15.20//NONSGML v1.0//EN
CALSCALE:GREGORIAN
METHOD:PUBLISH
X-WR-CALNAME:Poulsbo Sportsman Club
X-ORIGINAL-URL:https://poulsbosportsmanclub.org
X-WR-CALDESC:Events for Poulsbo Sportsman Club
REFRESH-INTERVAL;VALUE=DURATION:PT1H
X-Robots-Tag:noindex
X-PUBLISHED-TTL:PT1H
BEGIN:VTIMEZONE
TZID:America/Los_Angeles
BEGIN:DAYLIGHT
TZOFFSETFROM:-0800
TZOFFSETTO:-0700
TZNAME:PDT
DTSTART:20270314T100000
END:DAYLIGHT
BEGIN:STANDARD
TZOFFSETFROM:-0700
TZOFFSETTO:-0800
TZNAME:PST
DTSTART:20271107T090000
END:STANDARD
BEGIN:DAYLIGHT
TZOFFSETFROM:-0800
TZOFFSETTO:-0700
TZNAME:PDT
DTSTART:20280312T100000
END:DAYLIGHT
BEGIN:STANDARD
TZOFFSETFROM:-0700
TZOFFSETTO:-0800
TZNAME:PST
DTSTART:20281105T090000
END:STANDARD
BEGIN:DAYLIGHT
TZOFFSETFROM:-0800
TZOFFSETTO:-0700
TZNAME:PDT
DTSTART:20290311T100000
END:DAYLIGHT
BEGIN:STANDARD
TZOFFSETFROM:-0700
TZOFFSETTO:-0800
TZNAME:PST
DTSTART:20291104T090000
END:STANDARD
END:VTIMEZONE
BEGIN:VEVENT
DTSTART;TZID=America/Los_Angeles:20280405T090000
DTEND;TZID=America/Los_Angeles:20280405T130000
DTSTAMP:20260421T152953
CREATED:20210512T044534Z
LAST-MODIFIED:20220109T180655Z
UID:10001531-1838538000-1838552400@poulsbosportsmanclub.org
SUMMARY:Shotgun/Trap
DESCRIPTION:9 am to 1 pm Wednesdays and Thursdays
URL:https://poulsbosportsmanclub.org/event/shotgun-trap/2028-04-05/
LOCATION:Poulsbo Sportsman Club\, 16990 Clear Creek Road\, Poulsbo\, WA\, 98370\, United States
CATEGORIES:Range Activities
END:VEVENT
BEGIN:VEVENT
DTSTART;TZID=America/Los_Angeles:20280406T090000
DTEND;TZID=America/Los_Angeles:20280406T130000
DTSTAMP:20260421T152953
CREATED:20210512T044534Z
LAST-MODIFIED:20220109T180655Z
UID:10001532-1838624400-1838638800@poulsbosportsmanclub.org
SUMMARY:Shotgun/Trap
DESCRIPTION:9 am to 1 pm Wednesdays and Thursdays
URL:https://poulsbosportsmanclub.org/event/shotgun-trap/2028-04-06/
LOCATION:Poulsbo Sportsman Club\, 16990 Clear Creek Road\, Poulsbo\, WA\, 98370\, United States
CATEGORIES:Range Activities
END:VEVENT
BEGIN:VEVENT
DTSTART;TZID=America/Los_Angeles:20280407T090000
DTEND;TZID=America/Los_Angeles:20280407T130000
DTSTAMP:20260421T152953
CREATED:20240925T031616Z
LAST-MODIFIED:20240925T031616Z
UID:10005646-1838710800-1838725200@poulsbosportsmanclub.org
SUMMARY:Shotgun/Trap Range
DESCRIPTION:
URL:https://poulsbosportsmanclub.org/event/shotgun-trap-range/2028-04-07/
CATEGORIES:Shotgun Range
END:VEVENT
BEGIN:VEVENT
DTSTART;TZID=America/Los_Angeles:20280408T090000
DTEND;TZID=America/Los_Angeles:20280408T123000
DTSTAMP:20260421T152953
CREATED:20231004T190924Z
LAST-MODIFIED:20240328T011118Z
UID:10003892-1838797200-1838809800@poulsbosportsmanclub.org
SUMMARY:Action Pistol Match
DESCRIPTION:Gate opens at 0800\nSign-in & Safety Briefing at 0830\nRange hot at 0900\nFees:  $5 \nPARTICIPANTS NEED TO BRING:\n– A safe\, functioning handgun (ALL CALIBERS WELCOME)\n– 50-100 rounds of ammunition\n– A holster that covers the gun’s trigger area\n– The entry fee (cash only)
URL:https://poulsbosportsmanclub.org/event/action-pistol-match-2/2028-04-08/
CATEGORIES:Range Activities
END:VEVENT
BEGIN:VEVENT
DTSTART;TZID=America/Los_Angeles:20280408T090000
DTEND;TZID=America/Los_Angeles:20280408T140000
DTSTAMP:20260421T152953
CREATED:20210512T044813Z
LAST-MODIFIED:20210512T044813Z
UID:10003667-1838797200-1838815200@poulsbosportsmanclub.org
SUMMARY:Shotgun / 5 Stand
DESCRIPTION:Saturdays from 9am to 2pm
URL:https://poulsbosportsmanclub.org/event/shotgun-5-stand/2028-04-08/
LOCATION:Poulsbo Sportsman Club\, 16990 Clear Creek Road\, Poulsbo\, WA\, 98370\, United States
CATEGORIES:Range Activities
END:VEVENT
BEGIN:VEVENT
DTSTART;TZID=America/Los_Angeles:20280412T090000
DTEND;TZID=America/Los_Angeles:20280412T130000
DTSTAMP:20260421T152953
CREATED:20210512T044534Z
LAST-MODIFIED:20220109T180655Z
UID:10001533-1839142800-1839157200@poulsbosportsmanclub.org
SUMMARY:Shotgun/Trap
DESCRIPTION:9 am to 1 pm Wednesdays and Thursdays
URL:https://poulsbosportsmanclub.org/event/shotgun-trap/2028-04-12/
LOCATION:Poulsbo Sportsman Club\, 16990 Clear Creek Road\, Poulsbo\, WA\, 98370\, United States
CATEGORIES:Range Activities
END:VEVENT
BEGIN:VEVENT
DTSTART;TZID=America/Los_Angeles:20280413T090000
DTEND;TZID=America/Los_Angeles:20280413T130000
DTSTAMP:20260421T152953
CREATED:20210512T044534Z
LAST-MODIFIED:20220109T180655Z
UID:10001534-1839229200-1839243600@poulsbosportsmanclub.org
SUMMARY:Shotgun/Trap
DESCRIPTION:9 am to 1 pm Wednesdays and Thursdays
URL:https://poulsbosportsmanclub.org/event/shotgun-trap/2028-04-13/
LOCATION:Poulsbo Sportsman Club\, 16990 Clear Creek Road\, Poulsbo\, WA\, 98370\, United States
CATEGORIES:Range Activities
END:VEVENT
BEGIN:VEVENT
DTSTART;TZID=America/Los_Angeles:20280414T090000
DTEND;TZID=America/Los_Angeles:20280414T130000
DTSTAMP:20260421T152953
CREATED:20240925T031616Z
LAST-MODIFIED:20240925T031616Z
UID:10005647-1839315600-1839330000@poulsbosportsmanclub.org
SUMMARY:Shotgun/Trap Range
DESCRIPTION:
URL:https://poulsbosportsmanclub.org/event/shotgun-trap-range/2028-04-14/
CATEGORIES:Shotgun Range
END:VEVENT
BEGIN:VEVENT
DTSTART;TZID=America/Los_Angeles:20280415T090000
DTEND;TZID=America/Los_Angeles:20280415T090000
DTSTAMP:20260421T152953
CREATED:20200116T223650Z
LAST-MODIFIED:20240402T020024Z
UID:10002109-1839402000-1839402000@poulsbosportsmanclub.org
SUMMARY:22 LR Silhouette - 100 and 200 yard range
DESCRIPTION:Silhouette | Poulsbo Sportsman Club
URL:https://poulsbosportsmanclub.org/event/22-lr-silhouette-100-and-200-yard-range-2-2022-06-18/2028-04-15/
CATEGORIES:Range Activities
END:VEVENT
BEGIN:VEVENT
DTSTART;TZID=America/Los_Angeles:20280415T090000
DTEND;TZID=America/Los_Angeles:20280415T140000
DTSTAMP:20260421T152953
CREATED:20210512T044813Z
LAST-MODIFIED:20210512T044813Z
UID:10003668-1839402000-1839420000@poulsbosportsmanclub.org
SUMMARY:Shotgun / 5 Stand
DESCRIPTION:Saturdays from 9am to 2pm
URL:https://poulsbosportsmanclub.org/event/shotgun-5-stand/2028-04-15/
LOCATION:Poulsbo Sportsman Club\, 16990 Clear Creek Road\, Poulsbo\, WA\, 98370\, United States
CATEGORIES:Range Activities
END:VEVENT
BEGIN:VEVENT
DTSTART;TZID=America/Los_Angeles:20280419T090000
DTEND;TZID=America/Los_Angeles:20280419T130000
DTSTAMP:20260421T152953
CREATED:20210512T044534Z
LAST-MODIFIED:20220109T180655Z
UID:10001535-1839747600-1839762000@poulsbosportsmanclub.org
SUMMARY:Shotgun/Trap
DESCRIPTION:9 am to 1 pm Wednesdays and Thursdays
URL:https://poulsbosportsmanclub.org/event/shotgun-trap/2028-04-19/
LOCATION:Poulsbo Sportsman Club\, 16990 Clear Creek Road\, Poulsbo\, WA\, 98370\, United States
CATEGORIES:Range Activities
END:VEVENT
BEGIN:VEVENT
DTSTART;TZID=America/Los_Angeles:20280419T170000
DTEND;TZID=America/Los_Angeles:20280419T190000
DTSTAMP:20260421T152953
CREATED:20250617T014026Z
LAST-MODIFIED:20250617T014026Z
UID:10005783-1839776400-1839783600@poulsbosportsmanclub.org
SUMMARY:Women’s After Hours
DESCRIPTION:
URL:https://poulsbosportsmanclub.org/event/womens-after-hours/2028-04-19/
CATEGORIES:Range Activities
END:VEVENT
BEGIN:VEVENT
DTSTART;TZID=America/Los_Angeles:20280419T180000
DTEND;TZID=America/Los_Angeles:20280419T200000
DTSTAMP:20260421T152953
CREATED:20201230T221706Z
LAST-MODIFIED:20220118T030956Z
UID:10003291-1839780000-1839787200@poulsbosportsmanclub.org
SUMMARY:Bremerton Brigade Meeting in Clubhouse
DESCRIPTION:
URL:https://poulsbosportsmanclub.org/event/bremerton-brigade-meeting-in-clubhouse/2028-04-19/
CATEGORIES:Range Activities
END:VEVENT
BEGIN:VEVENT
DTSTART;TZID=America/Los_Angeles:20280420T090000
DTEND;TZID=America/Los_Angeles:20280420T130000
DTSTAMP:20260421T152953
CREATED:20210512T044534Z
LAST-MODIFIED:20220109T180655Z
UID:10001536-1839834000-1839848400@poulsbosportsmanclub.org
SUMMARY:Shotgun/Trap
DESCRIPTION:9 am to 1 pm Wednesdays and Thursdays
URL:https://poulsbosportsmanclub.org/event/shotgun-trap/2028-04-20/
LOCATION:Poulsbo Sportsman Club\, 16990 Clear Creek Road\, Poulsbo\, WA\, 98370\, United States
CATEGORIES:Range Activities
END:VEVENT
BEGIN:VEVENT
DTSTART;TZID=America/Los_Angeles:20280421T090000
DTEND;TZID=America/Los_Angeles:20280421T130000
DTSTAMP:20260421T152953
CREATED:20240925T031616Z
LAST-MODIFIED:20240925T031616Z
UID:10005648-1839920400-1839934800@poulsbosportsmanclub.org
SUMMARY:Shotgun/Trap Range
DESCRIPTION:
URL:https://poulsbosportsmanclub.org/event/shotgun-trap-range/2028-04-21/
CATEGORIES:Shotgun Range
END:VEVENT
BEGIN:VEVENT
DTSTART;TZID=America/Los_Angeles:20280422T090000
DTEND;TZID=America/Los_Angeles:20280422T140000
DTSTAMP:20260421T152953
CREATED:20210512T044813Z
LAST-MODIFIED:20210512T044813Z
UID:10003669-1840006800-1840024800@poulsbosportsmanclub.org
SUMMARY:Shotgun / 5 Stand
DESCRIPTION:Saturdays from 9am to 2pm
URL:https://poulsbosportsmanclub.org/event/shotgun-5-stand/2028-04-22/
LOCATION:Poulsbo Sportsman Club\, 16990 Clear Creek Road\, Poulsbo\, WA\, 98370\, United States
CATEGORIES:Range Activities
END:VEVENT
BEGIN:VEVENT
DTSTART;TZID=America/Los_Angeles:20280423T090000
DTEND;TZID=America/Los_Angeles:20280423T120000
DTSTAMP:20260421T152953
CREATED:20260323T030837Z
LAST-MODIFIED:20260323T030837Z
UID:10005901-1840093200-1840104000@poulsbosportsmanclub.org
SUMMARY:Poulsbo Pistoleros Cowboy Action Shooters
DESCRIPTION:Sign-in starts at 9:00 \nEvent starts at 10:00
URL:https://poulsbosportsmanclub.org/event/poulsbo-pistoleros-cowboy-action-shooters/2028-04-23/
LOCATION:Poulsbo Sportsman Club\, 16990 Clear Creek Road\, Poulsbo\, WA\, 98370\, United States
CATEGORIES:Range Activities
END:VEVENT
BEGIN:VEVENT
DTSTART;TZID=America/Los_Angeles:20280426T090000
DTEND;TZID=America/Los_Angeles:20280426T130000
DTSTAMP:20260421T152953
CREATED:20210512T044534Z
LAST-MODIFIED:20220109T180655Z
UID:10001537-1840352400-1840366800@poulsbosportsmanclub.org
SUMMARY:Shotgun/Trap
DESCRIPTION:9 am to 1 pm Wednesdays and Thursdays
URL:https://poulsbosportsmanclub.org/event/shotgun-trap/2028-04-26/
LOCATION:Poulsbo Sportsman Club\, 16990 Clear Creek Road\, Poulsbo\, WA\, 98370\, United States
CATEGORIES:Range Activities
END:VEVENT
BEGIN:VEVENT
DTSTART;TZID=America/Los_Angeles:20280427T090000
DTEND;TZID=America/Los_Angeles:20280427T130000
DTSTAMP:20260421T152953
CREATED:20210512T044534Z
LAST-MODIFIED:20220109T180655Z
UID:10001538-1840438800-1840453200@poulsbosportsmanclub.org
SUMMARY:Shotgun/Trap
DESCRIPTION:9 am to 1 pm Wednesdays and Thursdays
URL:https://poulsbosportsmanclub.org/event/shotgun-trap/2028-04-27/
LOCATION:Poulsbo Sportsman Club\, 16990 Clear Creek Road\, Poulsbo\, WA\, 98370\, United States
CATEGORIES:Range Activities
END:VEVENT
BEGIN:VEVENT
DTSTART;TZID=America/Los_Angeles:20280428T090000
DTEND;TZID=America/Los_Angeles:20280428T130000
DTSTAMP:20260421T152953
CREATED:20240925T031616Z
LAST-MODIFIED:20240925T031616Z
UID:10005649-1840525200-1840539600@poulsbosportsmanclub.org
SUMMARY:Shotgun/Trap Range
DESCRIPTION:
URL:https://poulsbosportsmanclub.org/event/shotgun-trap-range/2028-04-28/
CATEGORIES:Shotgun Range
END:VEVENT
BEGIN:VEVENT
DTSTART;TZID=America/Los_Angeles:20280429T090000
DTEND;TZID=America/Los_Angeles:20280429T140000
DTSTAMP:20260421T152953
CREATED:20210512T044813Z
LAST-MODIFIED:20210512T044813Z
UID:10003670-1840611600-1840629600@poulsbosportsmanclub.org
SUMMARY:Shotgun / 5 Stand
DESCRIPTION:Saturdays from 9am to 2pm
URL:https://poulsbosportsmanclub.org/event/shotgun-5-stand/2028-04-29/
LOCATION:Poulsbo Sportsman Club\, 16990 Clear Creek Road\, Poulsbo\, WA\, 98370\, United States
CATEGORIES:Range Activities
END:VEVENT
BEGIN:VEVENT
DTSTART;TZID=America/Los_Angeles:20280502T183000
DTEND;TZID=America/Los_Angeles:20280502T193000
DTSTAMP:20260421T152953
CREATED:20240729T135302Z
LAST-MODIFIED:20240729T135302Z
UID:10005445-1840905000-1840908600@poulsbosportsmanclub.org
SUMMARY:General Membership Meeting
DESCRIPTION:Members only. Discuss club business. Identity needs and resources. Encourage participation and support from club members.
URL:https://poulsbosportsmanclub.org/event/general-membership-meeting/2028-05-02/
END:VEVENT
BEGIN:VEVENT
DTSTART;TZID=America/Los_Angeles:20280503T080000
DTEND;TZID=America/Los_Angeles:20280503T170000
DTSTAMP:20260421T152953
CREATED:20250617T014208Z
LAST-MODIFIED:20250617T014208Z
UID:10005844-1840953600-1840986000@poulsbosportsmanclub.org
SUMMARY:Women’s After Hours
DESCRIPTION:
URL:https://poulsbosportsmanclub.org/event/womens-after-hours-2/2028-05-03/
CATEGORIES:Range Activities
END:VEVENT
BEGIN:VEVENT
DTSTART;TZID=America/Los_Angeles:20280503T090000
DTEND;TZID=America/Los_Angeles:20280503T130000
DTSTAMP:20260421T152953
CREATED:20210512T044534Z
LAST-MODIFIED:20220109T180655Z
UID:10001539-1840957200-1840971600@poulsbosportsmanclub.org
SUMMARY:Shotgun/Trap
DESCRIPTION:9 am to 1 pm Wednesdays and Thursdays
URL:https://poulsbosportsmanclub.org/event/shotgun-trap/2028-05-03/
LOCATION:Poulsbo Sportsman Club\, 16990 Clear Creek Road\, Poulsbo\, WA\, 98370\, United States
CATEGORIES:Range Activities
END:VEVENT
BEGIN:VEVENT
DTSTART;TZID=America/Los_Angeles:20280504T090000
DTEND;TZID=America/Los_Angeles:20280504T130000
DTSTAMP:20260421T152953
CREATED:20210512T044534Z
LAST-MODIFIED:20220109T180655Z
UID:10001540-1841043600-1841058000@poulsbosportsmanclub.org
SUMMARY:Shotgun/Trap
DESCRIPTION:9 am to 1 pm Wednesdays and Thursdays
URL:https://poulsbosportsmanclub.org/event/shotgun-trap/2028-05-04/
LOCATION:Poulsbo Sportsman Club\, 16990 Clear Creek Road\, Poulsbo\, WA\, 98370\, United States
CATEGORIES:Range Activities
END:VEVENT
BEGIN:VEVENT
DTSTART;TZID=America/Los_Angeles:20280505T090000
DTEND;TZID=America/Los_Angeles:20280505T130000
DTSTAMP:20260421T152953
CREATED:20240925T031616Z
LAST-MODIFIED:20240925T031616Z
UID:10005650-1841130000-1841144400@poulsbosportsmanclub.org
SUMMARY:Shotgun/Trap Range
DESCRIPTION:
URL:https://poulsbosportsmanclub.org/event/shotgun-trap-range/2028-05-05/
CATEGORIES:Shotgun Range
END:VEVENT
BEGIN:VEVENT
DTSTART;TZID=America/Los_Angeles:20280506T090000
DTEND;TZID=America/Los_Angeles:20280506T140000
DTSTAMP:20260421T152953
CREATED:20210512T044813Z
LAST-MODIFIED:20210512T044813Z
UID:10003671-1841216400-1841234400@poulsbosportsmanclub.org
SUMMARY:Shotgun / 5 Stand
DESCRIPTION:Saturdays from 9am to 2pm
URL:https://poulsbosportsmanclub.org/event/shotgun-5-stand/2028-05-06/
LOCATION:Poulsbo Sportsman Club\, 16990 Clear Creek Road\, Poulsbo\, WA\, 98370\, United States
CATEGORIES:Range Activities
END:VEVENT
BEGIN:VEVENT
DTSTART;TZID=America/Los_Angeles:20280507T090000
DTEND;TZID=America/Los_Angeles:20280507T120000
DTSTAMP:20260421T152953
CREATED:20231016T154129Z
LAST-MODIFIED:20241125T172545Z
UID:10003824-1841302800-1841313600@poulsbosportsmanclub.org
SUMMARY:Bremerton Brigade Monthly Shoot
DESCRIPTION:Shooters meet at Black Powder range gazebo at 0900 for safety brief followed by the event. Winners determined after event which usually ends by noon unless a working party is called.
URL:https://poulsbosportsmanclub.org/event/black-powder-shoot-2-2021-10-03/2028-05-07/
LOCATION:Primitive Range\, 16990 Clear Creek Road\, Poulsbo\, 98370\, United States
CATEGORIES:Range Activities
END:VEVENT
BEGIN:VEVENT
DTSTART;TZID=America/Los_Angeles:20280510T090000
DTEND;TZID=America/Los_Angeles:20280510T130000
DTSTAMP:20260421T152953
CREATED:20210512T044534Z
LAST-MODIFIED:20220109T180655Z
UID:10001541-1841562000-1841576400@poulsbosportsmanclub.org
SUMMARY:Shotgun/Trap
DESCRIPTION:9 am to 1 pm Wednesdays and Thursdays
URL:https://poulsbosportsmanclub.org/event/shotgun-trap/2028-05-10/
LOCATION:Poulsbo Sportsman Club\, 16990 Clear Creek Road\, Poulsbo\, WA\, 98370\, United States
CATEGORIES:Range Activities
END:VEVENT
BEGIN:VEVENT
DTSTART;TZID=America/Los_Angeles:20280511T090000
DTEND;TZID=America/Los_Angeles:20280511T130000
DTSTAMP:20260421T152953
CREATED:20210512T044534Z
LAST-MODIFIED:20220109T180655Z
UID:10001542-1841648400-1841662800@poulsbosportsmanclub.org
SUMMARY:Shotgun/Trap
DESCRIPTION:9 am to 1 pm Wednesdays and Thursdays
URL:https://poulsbosportsmanclub.org/event/shotgun-trap/2028-05-11/
LOCATION:Poulsbo Sportsman Club\, 16990 Clear Creek Road\, Poulsbo\, WA\, 98370\, United States
CATEGORIES:Range Activities
END:VEVENT
END:VCALENDAR