BEGIN:VCALENDAR
VERSION:2.0
PRODID:-//Poulsbo Sportsman Club - ECPv6.15.20//NONSGML v1.0//EN
CALSCALE:GREGORIAN
METHOD:PUBLISH
X-WR-CALNAME:Poulsbo Sportsman Club
X-ORIGINAL-URL:https://poulsbosportsmanclub.org
X-WR-CALDESC:Events for Poulsbo Sportsman Club
REFRESH-INTERVAL;VALUE=DURATION:PT1H
X-Robots-Tag:noindex
X-PUBLISHED-TTL:PT1H
BEGIN:VTIMEZONE
TZID:America/Los_Angeles
BEGIN:DAYLIGHT
TZOFFSETFROM:-0800
TZOFFSETTO:-0700
TZNAME:PDT
DTSTART:20270314T100000
END:DAYLIGHT
BEGIN:STANDARD
TZOFFSETFROM:-0700
TZOFFSETTO:-0800
TZNAME:PST
DTSTART:20271107T090000
END:STANDARD
BEGIN:DAYLIGHT
TZOFFSETFROM:-0800
TZOFFSETTO:-0700
TZNAME:PDT
DTSTART:20280312T100000
END:DAYLIGHT
BEGIN:STANDARD
TZOFFSETFROM:-0700
TZOFFSETTO:-0800
TZNAME:PST
DTSTART:20281105T090000
END:STANDARD
BEGIN:DAYLIGHT
TZOFFSETFROM:-0800
TZOFFSETTO:-0700
TZNAME:PDT
DTSTART:20290311T100000
END:DAYLIGHT
BEGIN:STANDARD
TZOFFSETFROM:-0700
TZOFFSETTO:-0800
TZNAME:PST
DTSTART:20291104T090000
END:STANDARD
END:VTIMEZONE
BEGIN:VEVENT
DTSTART;TZID=America/Los_Angeles:20280209T090000
DTEND;TZID=America/Los_Angeles:20280209T130000
DTSTAMP:20260421T104016
CREATED:20210512T044534Z
LAST-MODIFIED:20220109T180655Z
UID:10001515-1833699600-1833714000@poulsbosportsmanclub.org
SUMMARY:Shotgun/Trap
DESCRIPTION:9 am to 1 pm Wednesdays and Thursdays
URL:https://poulsbosportsmanclub.org/event/shotgun-trap/2028-02-09/
LOCATION:Poulsbo Sportsman Club\, 16990 Clear Creek Road\, Poulsbo\, WA\, 98370\, United States
CATEGORIES:Range Activities
END:VEVENT
BEGIN:VEVENT
DTSTART;TZID=America/Los_Angeles:20280210T090000
DTEND;TZID=America/Los_Angeles:20280210T130000
DTSTAMP:20260421T104016
CREATED:20210512T044534Z
LAST-MODIFIED:20220109T180655Z
UID:10001516-1833786000-1833800400@poulsbosportsmanclub.org
SUMMARY:Shotgun/Trap
DESCRIPTION:9 am to 1 pm Wednesdays and Thursdays
URL:https://poulsbosportsmanclub.org/event/shotgun-trap/2028-02-10/
LOCATION:Poulsbo Sportsman Club\, 16990 Clear Creek Road\, Poulsbo\, WA\, 98370\, United States
CATEGORIES:Range Activities
END:VEVENT
BEGIN:VEVENT
DTSTART;TZID=America/Los_Angeles:20280211T090000
DTEND;TZID=America/Los_Angeles:20280211T130000
DTSTAMP:20260421T104016
CREATED:20240925T031616Z
LAST-MODIFIED:20240925T031616Z
UID:10005638-1833872400-1833886800@poulsbosportsmanclub.org
SUMMARY:Shotgun/Trap Range
DESCRIPTION:
URL:https://poulsbosportsmanclub.org/event/shotgun-trap-range/2028-02-11/
CATEGORIES:Shotgun Range
END:VEVENT
BEGIN:VEVENT
DTSTART;TZID=America/Los_Angeles:20280212T090000
DTEND;TZID=America/Los_Angeles:20280212T123000
DTSTAMP:20260421T104016
CREATED:20231004T190924Z
LAST-MODIFIED:20240328T011118Z
UID:10003890-1833958800-1833971400@poulsbosportsmanclub.org
SUMMARY:Action Pistol Match
DESCRIPTION:Gate opens at 0800\nSign-in & Safety Briefing at 0830\nRange hot at 0900\nFees:  $5 \nPARTICIPANTS NEED TO BRING:\n– A safe\, functioning handgun (ALL CALIBERS WELCOME)\n– 50-100 rounds of ammunition\n– A holster that covers the gun’s trigger area\n– The entry fee (cash only)
URL:https://poulsbosportsmanclub.org/event/action-pistol-match-2/2028-02-12/
CATEGORIES:Range Activities
END:VEVENT
BEGIN:VEVENT
DTSTART;TZID=America/Los_Angeles:20280212T090000
DTEND;TZID=America/Los_Angeles:20280212T140000
DTSTAMP:20260421T104016
CREATED:20210512T044813Z
LAST-MODIFIED:20210512T044813Z
UID:10003659-1833958800-1833976800@poulsbosportsmanclub.org
SUMMARY:Shotgun / 5 Stand
DESCRIPTION:Saturdays from 9am to 2pm
URL:https://poulsbosportsmanclub.org/event/shotgun-5-stand/2028-02-12/
LOCATION:Poulsbo Sportsman Club\, 16990 Clear Creek Road\, Poulsbo\, WA\, 98370\, United States
CATEGORIES:Range Activities
END:VEVENT
BEGIN:VEVENT
DTSTART;TZID=America/Los_Angeles:20280216T090000
DTEND;TZID=America/Los_Angeles:20280216T130000
DTSTAMP:20260421T104016
CREATED:20210512T044534Z
LAST-MODIFIED:20220109T180655Z
UID:10001517-1834304400-1834318800@poulsbosportsmanclub.org
SUMMARY:Shotgun/Trap
DESCRIPTION:9 am to 1 pm Wednesdays and Thursdays
URL:https://poulsbosportsmanclub.org/event/shotgun-trap/2028-02-16/
LOCATION:Poulsbo Sportsman Club\, 16990 Clear Creek Road\, Poulsbo\, WA\, 98370\, United States
CATEGORIES:Range Activities
END:VEVENT
BEGIN:VEVENT
DTSTART;TZID=America/Los_Angeles:20280216T170000
DTEND;TZID=America/Los_Angeles:20280216T190000
DTSTAMP:20260421T104016
CREATED:20250617T014026Z
LAST-MODIFIED:20250617T014026Z
UID:10005781-1834333200-1834340400@poulsbosportsmanclub.org
SUMMARY:Women’s After Hours
DESCRIPTION:
URL:https://poulsbosportsmanclub.org/event/womens-after-hours/2028-02-16/
CATEGORIES:Range Activities
END:VEVENT
BEGIN:VEVENT
DTSTART;TZID=America/Los_Angeles:20280216T180000
DTEND;TZID=America/Los_Angeles:20280216T200000
DTSTAMP:20260421T104016
CREATED:20201230T221706Z
LAST-MODIFIED:20220118T030956Z
UID:10003289-1834336800-1834344000@poulsbosportsmanclub.org
SUMMARY:Bremerton Brigade Meeting in Clubhouse
DESCRIPTION:
URL:https://poulsbosportsmanclub.org/event/bremerton-brigade-meeting-in-clubhouse/2028-02-16/
CATEGORIES:Range Activities
END:VEVENT
BEGIN:VEVENT
DTSTART;TZID=America/Los_Angeles:20280217T090000
DTEND;TZID=America/Los_Angeles:20280217T130000
DTSTAMP:20260421T104016
CREATED:20210512T044534Z
LAST-MODIFIED:20220109T180655Z
UID:10001518-1834390800-1834405200@poulsbosportsmanclub.org
SUMMARY:Shotgun/Trap
DESCRIPTION:9 am to 1 pm Wednesdays and Thursdays
URL:https://poulsbosportsmanclub.org/event/shotgun-trap/2028-02-17/
LOCATION:Poulsbo Sportsman Club\, 16990 Clear Creek Road\, Poulsbo\, WA\, 98370\, United States
CATEGORIES:Range Activities
END:VEVENT
BEGIN:VEVENT
DTSTART;TZID=America/Los_Angeles:20280218T090000
DTEND;TZID=America/Los_Angeles:20280218T130000
DTSTAMP:20260421T104016
CREATED:20240925T031616Z
LAST-MODIFIED:20240925T031616Z
UID:10005639-1834477200-1834491600@poulsbosportsmanclub.org
SUMMARY:Shotgun/Trap Range
DESCRIPTION:
URL:https://poulsbosportsmanclub.org/event/shotgun-trap-range/2028-02-18/
CATEGORIES:Shotgun Range
END:VEVENT
BEGIN:VEVENT
DTSTART;TZID=America/Los_Angeles:20280219T090000
DTEND;TZID=America/Los_Angeles:20280219T090000
DTSTAMP:20260421T104016
CREATED:20200116T223650Z
LAST-MODIFIED:20240402T020024Z
UID:10002107-1834563600-1834563600@poulsbosportsmanclub.org
SUMMARY:22 LR Silhouette - 100 and 200 yard range
DESCRIPTION:Silhouette | Poulsbo Sportsman Club
URL:https://poulsbosportsmanclub.org/event/22-lr-silhouette-100-and-200-yard-range-2-2022-06-18/2028-02-19/
CATEGORIES:Range Activities
END:VEVENT
BEGIN:VEVENT
DTSTART;TZID=America/Los_Angeles:20280219T090000
DTEND;TZID=America/Los_Angeles:20280219T140000
DTSTAMP:20260421T104016
CREATED:20210512T044813Z
LAST-MODIFIED:20210512T044813Z
UID:10003660-1834563600-1834581600@poulsbosportsmanclub.org
SUMMARY:Shotgun / 5 Stand
DESCRIPTION:Saturdays from 9am to 2pm
URL:https://poulsbosportsmanclub.org/event/shotgun-5-stand/2028-02-19/
LOCATION:Poulsbo Sportsman Club\, 16990 Clear Creek Road\, Poulsbo\, WA\, 98370\, United States
CATEGORIES:Range Activities
END:VEVENT
BEGIN:VEVENT
DTSTART;TZID=America/Los_Angeles:20280223T090000
DTEND;TZID=America/Los_Angeles:20280223T130000
DTSTAMP:20260421T104016
CREATED:20210512T044534Z
LAST-MODIFIED:20220109T180655Z
UID:10001519-1834909200-1834923600@poulsbosportsmanclub.org
SUMMARY:Shotgun/Trap
DESCRIPTION:9 am to 1 pm Wednesdays and Thursdays
URL:https://poulsbosportsmanclub.org/event/shotgun-trap/2028-02-23/
LOCATION:Poulsbo Sportsman Club\, 16990 Clear Creek Road\, Poulsbo\, WA\, 98370\, United States
CATEGORIES:Range Activities
END:VEVENT
BEGIN:VEVENT
DTSTART;TZID=America/Los_Angeles:20280224T090000
DTEND;TZID=America/Los_Angeles:20280224T130000
DTSTAMP:20260421T104016
CREATED:20210512T044534Z
LAST-MODIFIED:20220109T180655Z
UID:10001520-1834995600-1835010000@poulsbosportsmanclub.org
SUMMARY:Shotgun/Trap
DESCRIPTION:9 am to 1 pm Wednesdays and Thursdays
URL:https://poulsbosportsmanclub.org/event/shotgun-trap/2028-02-24/
LOCATION:Poulsbo Sportsman Club\, 16990 Clear Creek Road\, Poulsbo\, WA\, 98370\, United States
CATEGORIES:Range Activities
END:VEVENT
BEGIN:VEVENT
DTSTART;TZID=America/Los_Angeles:20280225T090000
DTEND;TZID=America/Los_Angeles:20280225T130000
DTSTAMP:20260421T104016
CREATED:20240925T031616Z
LAST-MODIFIED:20240925T031616Z
UID:10005640-1835082000-1835096400@poulsbosportsmanclub.org
SUMMARY:Shotgun/Trap Range
DESCRIPTION:
URL:https://poulsbosportsmanclub.org/event/shotgun-trap-range/2028-02-25/
CATEGORIES:Shotgun Range
END:VEVENT
BEGIN:VEVENT
DTSTART;TZID=America/Los_Angeles:20280226T090000
DTEND;TZID=America/Los_Angeles:20280226T140000
DTSTAMP:20260421T104016
CREATED:20210512T044813Z
LAST-MODIFIED:20210512T044813Z
UID:10003661-1835168400-1835186400@poulsbosportsmanclub.org
SUMMARY:Shotgun / 5 Stand
DESCRIPTION:Saturdays from 9am to 2pm
URL:https://poulsbosportsmanclub.org/event/shotgun-5-stand/2028-02-26/
LOCATION:Poulsbo Sportsman Club\, 16990 Clear Creek Road\, Poulsbo\, WA\, 98370\, United States
CATEGORIES:Range Activities
END:VEVENT
BEGIN:VEVENT
DTSTART;TZID=America/Los_Angeles:20280227T090000
DTEND;TZID=America/Los_Angeles:20280227T120000
DTSTAMP:20260421T104016
CREATED:20260323T030837Z
LAST-MODIFIED:20260323T030837Z
UID:10005899-1835254800-1835265600@poulsbosportsmanclub.org
SUMMARY:Poulsbo Pistoleros Cowboy Action Shooters
DESCRIPTION:Sign-in starts at 9:00 \nEvent starts at 10:00
URL:https://poulsbosportsmanclub.org/event/poulsbo-pistoleros-cowboy-action-shooters/2028-02-27/
LOCATION:Poulsbo Sportsman Club\, 16990 Clear Creek Road\, Poulsbo\, WA\, 98370\, United States
CATEGORIES:Range Activities
END:VEVENT
BEGIN:VEVENT
DTSTART;TZID=America/Los_Angeles:20280301T080000
DTEND;TZID=America/Los_Angeles:20280301T170000
DTSTAMP:20260421T104016
CREATED:20250617T014208Z
LAST-MODIFIED:20250617T014208Z
UID:10005842-1835510400-1835542800@poulsbosportsmanclub.org
SUMMARY:Women’s After Hours
DESCRIPTION:
URL:https://poulsbosportsmanclub.org/event/womens-after-hours-2/2028-03-01/
CATEGORIES:Range Activities
END:VEVENT
BEGIN:VEVENT
DTSTART;TZID=America/Los_Angeles:20280301T090000
DTEND;TZID=America/Los_Angeles:20280301T130000
DTSTAMP:20260421T104016
CREATED:20210512T044534Z
LAST-MODIFIED:20220109T180655Z
UID:10001521-1835514000-1835528400@poulsbosportsmanclub.org
SUMMARY:Shotgun/Trap
DESCRIPTION:9 am to 1 pm Wednesdays and Thursdays
URL:https://poulsbosportsmanclub.org/event/shotgun-trap/2028-03-01/
LOCATION:Poulsbo Sportsman Club\, 16990 Clear Creek Road\, Poulsbo\, WA\, 98370\, United States
CATEGORIES:Range Activities
END:VEVENT
BEGIN:VEVENT
DTSTART;TZID=America/Los_Angeles:20280302T090000
DTEND;TZID=America/Los_Angeles:20280302T130000
DTSTAMP:20260421T104016
CREATED:20210512T044534Z
LAST-MODIFIED:20220109T180655Z
UID:10001522-1835600400-1835614800@poulsbosportsmanclub.org
SUMMARY:Shotgun/Trap
DESCRIPTION:9 am to 1 pm Wednesdays and Thursdays
URL:https://poulsbosportsmanclub.org/event/shotgun-trap/2028-03-02/
LOCATION:Poulsbo Sportsman Club\, 16990 Clear Creek Road\, Poulsbo\, WA\, 98370\, United States
CATEGORIES:Range Activities
END:VEVENT
BEGIN:VEVENT
DTSTART;TZID=America/Los_Angeles:20280303T090000
DTEND;TZID=America/Los_Angeles:20280303T130000
DTSTAMP:20260421T104016
CREATED:20240925T031616Z
LAST-MODIFIED:20240925T031616Z
UID:10005641-1835686800-1835701200@poulsbosportsmanclub.org
SUMMARY:Shotgun/Trap Range
DESCRIPTION:
URL:https://poulsbosportsmanclub.org/event/shotgun-trap-range/2028-03-03/
CATEGORIES:Shotgun Range
END:VEVENT
BEGIN:VEVENT
DTSTART;TZID=America/Los_Angeles:20280304T090000
DTEND;TZID=America/Los_Angeles:20280304T140000
DTSTAMP:20260421T104016
CREATED:20210512T044813Z
LAST-MODIFIED:20210512T044813Z
UID:10003662-1835773200-1835791200@poulsbosportsmanclub.org
SUMMARY:Shotgun / 5 Stand
DESCRIPTION:Saturdays from 9am to 2pm
URL:https://poulsbosportsmanclub.org/event/shotgun-5-stand/2028-03-04/
LOCATION:Poulsbo Sportsman Club\, 16990 Clear Creek Road\, Poulsbo\, WA\, 98370\, United States
CATEGORIES:Range Activities
END:VEVENT
BEGIN:VEVENT
DTSTART;TZID=America/Los_Angeles:20280305T090000
DTEND;TZID=America/Los_Angeles:20280305T120000
DTSTAMP:20260421T104016
CREATED:20231016T154129Z
LAST-MODIFIED:20241125T172545Z
UID:10003822-1835859600-1835870400@poulsbosportsmanclub.org
SUMMARY:Bremerton Brigade Monthly Shoot
DESCRIPTION:Shooters meet at Black Powder range gazebo at 0900 for safety brief followed by the event. Winners determined after event which usually ends by noon unless a working party is called.
URL:https://poulsbosportsmanclub.org/event/black-powder-shoot-2-2021-10-03/2028-03-05/
LOCATION:Primitive Range\, 16990 Clear Creek Road\, Poulsbo\, 98370\, United States
CATEGORIES:Range Activities
END:VEVENT
BEGIN:VEVENT
DTSTART;TZID=America/Los_Angeles:20280307T183000
DTEND;TZID=America/Los_Angeles:20280307T193000
DTSTAMP:20260421T104016
CREATED:20240729T135302Z
LAST-MODIFIED:20240729T135302Z
UID:10005443-1836066600-1836070200@poulsbosportsmanclub.org
SUMMARY:General Membership Meeting
DESCRIPTION:Members only. Discuss club business. Identity needs and resources. Encourage participation and support from club members.
URL:https://poulsbosportsmanclub.org/event/general-membership-meeting/2028-03-07/
END:VEVENT
BEGIN:VEVENT
DTSTART;TZID=America/Los_Angeles:20280308T090000
DTEND;TZID=America/Los_Angeles:20280308T130000
DTSTAMP:20260421T104016
CREATED:20210512T044534Z
LAST-MODIFIED:20220109T180655Z
UID:10001523-1836118800-1836133200@poulsbosportsmanclub.org
SUMMARY:Shotgun/Trap
DESCRIPTION:9 am to 1 pm Wednesdays and Thursdays
URL:https://poulsbosportsmanclub.org/event/shotgun-trap/2028-03-08/
LOCATION:Poulsbo Sportsman Club\, 16990 Clear Creek Road\, Poulsbo\, WA\, 98370\, United States
CATEGORIES:Range Activities
END:VEVENT
BEGIN:VEVENT
DTSTART;TZID=America/Los_Angeles:20280309T090000
DTEND;TZID=America/Los_Angeles:20280309T130000
DTSTAMP:20260421T104016
CREATED:20210512T044534Z
LAST-MODIFIED:20220109T180655Z
UID:10001524-1836205200-1836219600@poulsbosportsmanclub.org
SUMMARY:Shotgun/Trap
DESCRIPTION:9 am to 1 pm Wednesdays and Thursdays
URL:https://poulsbosportsmanclub.org/event/shotgun-trap/2028-03-09/
LOCATION:Poulsbo Sportsman Club\, 16990 Clear Creek Road\, Poulsbo\, WA\, 98370\, United States
CATEGORIES:Range Activities
END:VEVENT
BEGIN:VEVENT
DTSTART;TZID=America/Los_Angeles:20280310T090000
DTEND;TZID=America/Los_Angeles:20280310T130000
DTSTAMP:20260421T104016
CREATED:20240925T031616Z
LAST-MODIFIED:20240925T031616Z
UID:10005642-1836291600-1836306000@poulsbosportsmanclub.org
SUMMARY:Shotgun/Trap Range
DESCRIPTION:
URL:https://poulsbosportsmanclub.org/event/shotgun-trap-range/2028-03-10/
CATEGORIES:Shotgun Range
END:VEVENT
BEGIN:VEVENT
DTSTART;TZID=America/Los_Angeles:20280311T090000
DTEND;TZID=America/Los_Angeles:20280311T123000
DTSTAMP:20260421T104016
CREATED:20231004T190924Z
LAST-MODIFIED:20240328T011118Z
UID:10003891-1836378000-1836390600@poulsbosportsmanclub.org
SUMMARY:Action Pistol Match
DESCRIPTION:Gate opens at 0800\nSign-in & Safety Briefing at 0830\nRange hot at 0900\nFees:  $5 \nPARTICIPANTS NEED TO BRING:\n– A safe\, functioning handgun (ALL CALIBERS WELCOME)\n– 50-100 rounds of ammunition\n– A holster that covers the gun’s trigger area\n– The entry fee (cash only)
URL:https://poulsbosportsmanclub.org/event/action-pistol-match-2/2028-03-11/
CATEGORIES:Range Activities
END:VEVENT
BEGIN:VEVENT
DTSTART;TZID=America/Los_Angeles:20280311T090000
DTEND;TZID=America/Los_Angeles:20280311T140000
DTSTAMP:20260421T104016
CREATED:20210512T044813Z
LAST-MODIFIED:20210512T044813Z
UID:10003663-1836378000-1836396000@poulsbosportsmanclub.org
SUMMARY:Shotgun / 5 Stand
DESCRIPTION:Saturdays from 9am to 2pm
URL:https://poulsbosportsmanclub.org/event/shotgun-5-stand/2028-03-11/
LOCATION:Poulsbo Sportsman Club\, 16990 Clear Creek Road\, Poulsbo\, WA\, 98370\, United States
CATEGORIES:Range Activities
END:VEVENT
BEGIN:VEVENT
DTSTART;TZID=America/Los_Angeles:20280315T090000
DTEND;TZID=America/Los_Angeles:20280315T130000
DTSTAMP:20260421T104016
CREATED:20210512T044534Z
LAST-MODIFIED:20220109T180655Z
UID:10001525-1836723600-1836738000@poulsbosportsmanclub.org
SUMMARY:Shotgun/Trap
DESCRIPTION:9 am to 1 pm Wednesdays and Thursdays
URL:https://poulsbosportsmanclub.org/event/shotgun-trap/2028-03-15/
LOCATION:Poulsbo Sportsman Club\, 16990 Clear Creek Road\, Poulsbo\, WA\, 98370\, United States
CATEGORIES:Range Activities
END:VEVENT
END:VCALENDAR