BEGIN:VCALENDAR
VERSION:2.0
PRODID:-//Poulsbo Sportsman Club - ECPv6.15.20//NONSGML v1.0//EN
CALSCALE:GREGORIAN
METHOD:PUBLISH
X-ORIGINAL-URL:https://poulsbosportsmanclub.org
X-WR-CALDESC:Events for Poulsbo Sportsman Club
REFRESH-INTERVAL;VALUE=DURATION:PT1H
X-Robots-Tag:noindex
X-PUBLISHED-TTL:PT1H
BEGIN:VTIMEZONE
TZID:America/Los_Angeles
BEGIN:DAYLIGHT
TZOFFSETFROM:-0800
TZOFFSETTO:-0700
TZNAME:PDT
DTSTART:20260308T100000
END:DAYLIGHT
BEGIN:STANDARD
TZOFFSETFROM:-0700
TZOFFSETTO:-0800
TZNAME:PST
DTSTART:20261101T090000
END:STANDARD
BEGIN:DAYLIGHT
TZOFFSETFROM:-0800
TZOFFSETTO:-0700
TZNAME:PDT
DTSTART:20270314T100000
END:DAYLIGHT
BEGIN:STANDARD
TZOFFSETFROM:-0700
TZOFFSETTO:-0800
TZNAME:PST
DTSTART:20271107T090000
END:STANDARD
BEGIN:DAYLIGHT
TZOFFSETFROM:-0800
TZOFFSETTO:-0700
TZNAME:PDT
DTSTART:20280312T100000
END:DAYLIGHT
BEGIN:STANDARD
TZOFFSETFROM:-0700
TZOFFSETTO:-0800
TZNAME:PST
DTSTART:20281105T090000
END:STANDARD
END:VTIMEZONE
BEGIN:VEVENT
DTSTART;TZID=America/Los_Angeles:20271030T090000
DTEND;TZID=America/Los_Angeles:20271030T140000
DTSTAMP:20260420T210929
CREATED:20210512T044813Z
LAST-MODIFIED:20210512T044813Z
UID:10003644-1824886800-1824904800@poulsbosportsmanclub.org
SUMMARY:Shotgun / 5 Stand
DESCRIPTION:Saturdays from 9am to 2pm
URL:https://poulsbosportsmanclub.org/event/shotgun-5-stand/2027-10-30/
LOCATION:Poulsbo Sportsman Club\, 16990 Clear Creek Road\, Poulsbo\, WA\, 98370\, United States
CATEGORIES:Range Activities
END:VEVENT
BEGIN:VEVENT
DTSTART;TZID=America/Los_Angeles:20271102T183000
DTEND;TZID=America/Los_Angeles:20271102T193000
DTSTAMP:20260420T210929
CREATED:20240729T135302Z
LAST-MODIFIED:20240729T135302Z
UID:10005439-1825180200-1825183800@poulsbosportsmanclub.org
SUMMARY:General Membership Meeting
DESCRIPTION:Members only. Discuss club business. Identity needs and resources. Encourage participation and support from club members.
URL:https://poulsbosportsmanclub.org/event/general-membership-meeting/2027-11-02/
END:VEVENT
BEGIN:VEVENT
DTSTART;TZID=America/Los_Angeles:20271103T080000
DTEND;TZID=America/Los_Angeles:20271103T170000
DTSTAMP:20260420T210929
CREATED:20250617T014208Z
LAST-MODIFIED:20250617T014208Z
UID:10005838-1825228800-1825261200@poulsbosportsmanclub.org
SUMMARY:Women’s After Hours
DESCRIPTION:
URL:https://poulsbosportsmanclub.org/event/womens-after-hours-2/2027-11-03/
CATEGORIES:Range Activities
END:VEVENT
BEGIN:VEVENT
DTSTART;TZID=America/Los_Angeles:20271103T090000
DTEND;TZID=America/Los_Angeles:20271103T130000
DTSTAMP:20260420T210929
CREATED:20210512T044534Z
LAST-MODIFIED:20220109T180655Z
UID:10001487-1825232400-1825246800@poulsbosportsmanclub.org
SUMMARY:Shotgun/Trap
DESCRIPTION:9 am to 1 pm Wednesdays and Thursdays
URL:https://poulsbosportsmanclub.org/event/shotgun-trap/2027-11-03/
LOCATION:Poulsbo Sportsman Club\, 16990 Clear Creek Road\, Poulsbo\, WA\, 98370\, United States
CATEGORIES:Range Activities
END:VEVENT
BEGIN:VEVENT
DTSTART;TZID=America/Los_Angeles:20271104T090000
DTEND;TZID=America/Los_Angeles:20271104T130000
DTSTAMP:20260420T210929
CREATED:20210512T044534Z
LAST-MODIFIED:20220109T180655Z
UID:10001488-1825318800-1825333200@poulsbosportsmanclub.org
SUMMARY:Shotgun/Trap
DESCRIPTION:9 am to 1 pm Wednesdays and Thursdays
URL:https://poulsbosportsmanclub.org/event/shotgun-trap/2027-11-04/
LOCATION:Poulsbo Sportsman Club\, 16990 Clear Creek Road\, Poulsbo\, WA\, 98370\, United States
CATEGORIES:Range Activities
END:VEVENT
BEGIN:VEVENT
DTSTART;TZID=America/Los_Angeles:20271105T090000
DTEND;TZID=America/Los_Angeles:20271105T130000
DTSTAMP:20260420T210929
CREATED:20240925T031616Z
LAST-MODIFIED:20240925T031616Z
UID:10005624-1825405200-1825419600@poulsbosportsmanclub.org
SUMMARY:Shotgun/Trap Range
DESCRIPTION:
URL:https://poulsbosportsmanclub.org/event/shotgun-trap-range/2027-11-05/
CATEGORIES:Shotgun Range
END:VEVENT
BEGIN:VEVENT
DTSTART;TZID=America/Los_Angeles:20271106T090000
DTEND;TZID=America/Los_Angeles:20271106T140000
DTSTAMP:20260420T210929
CREATED:20210512T044813Z
LAST-MODIFIED:20210512T044813Z
UID:10003645-1825491600-1825509600@poulsbosportsmanclub.org
SUMMARY:Shotgun / 5 Stand
DESCRIPTION:Saturdays from 9am to 2pm
URL:https://poulsbosportsmanclub.org/event/shotgun-5-stand/2027-11-06/
LOCATION:Poulsbo Sportsman Club\, 16990 Clear Creek Road\, Poulsbo\, WA\, 98370\, United States
CATEGORIES:Range Activities
END:VEVENT
BEGIN:VEVENT
DTSTART;TZID=America/Los_Angeles:20271107T090000
DTEND;TZID=America/Los_Angeles:20271107T120000
DTSTAMP:20260420T210929
CREATED:20231016T154129Z
LAST-MODIFIED:20241125T172545Z
UID:10003818-1825578000-1825588800@poulsbosportsmanclub.org
SUMMARY:Bremerton Brigade Monthly Shoot
DESCRIPTION:Shooters meet at Black Powder range gazebo at 0900 for safety brief followed by the event. Winners determined after event which usually ends by noon unless a working party is called.
URL:https://poulsbosportsmanclub.org/event/black-powder-shoot-2-2021-10-03/2027-11-07/
LOCATION:Primitive Range\, 16990 Clear Creek Road\, Poulsbo\, 98370\, United States
CATEGORIES:Range Activities
END:VEVENT
BEGIN:VEVENT
DTSTART;TZID=America/Los_Angeles:20271110T090000
DTEND;TZID=America/Los_Angeles:20271110T130000
DTSTAMP:20260420T210929
CREATED:20210512T044534Z
LAST-MODIFIED:20220109T180655Z
UID:10001489-1825837200-1825851600@poulsbosportsmanclub.org
SUMMARY:Shotgun/Trap
DESCRIPTION:9 am to 1 pm Wednesdays and Thursdays
URL:https://poulsbosportsmanclub.org/event/shotgun-trap/2027-11-10/
LOCATION:Poulsbo Sportsman Club\, 16990 Clear Creek Road\, Poulsbo\, WA\, 98370\, United States
CATEGORIES:Range Activities
END:VEVENT
BEGIN:VEVENT
DTSTART;TZID=America/Los_Angeles:20271111T090000
DTEND;TZID=America/Los_Angeles:20271111T130000
DTSTAMP:20260420T210929
CREATED:20210512T044534Z
LAST-MODIFIED:20220109T180655Z
UID:10001490-1825923600-1825938000@poulsbosportsmanclub.org
SUMMARY:Shotgun/Trap
DESCRIPTION:9 am to 1 pm Wednesdays and Thursdays
URL:https://poulsbosportsmanclub.org/event/shotgun-trap/2027-11-11/
LOCATION:Poulsbo Sportsman Club\, 16990 Clear Creek Road\, Poulsbo\, WA\, 98370\, United States
CATEGORIES:Range Activities
END:VEVENT
BEGIN:VEVENT
DTSTART;TZID=America/Los_Angeles:20271112T090000
DTEND;TZID=America/Los_Angeles:20271112T130000
DTSTAMP:20260420T210929
CREATED:20240925T031616Z
LAST-MODIFIED:20240925T031616Z
UID:10005625-1826010000-1826024400@poulsbosportsmanclub.org
SUMMARY:Shotgun/Trap Range
DESCRIPTION:
URL:https://poulsbosportsmanclub.org/event/shotgun-trap-range/2027-11-12/
CATEGORIES:Shotgun Range
END:VEVENT
BEGIN:VEVENT
DTSTART;TZID=America/Los_Angeles:20271113T090000
DTEND;TZID=America/Los_Angeles:20271113T123000
DTSTAMP:20260420T210929
CREATED:20231004T190924Z
LAST-MODIFIED:20240328T011118Z
UID:10003887-1826096400-1826109000@poulsbosportsmanclub.org
SUMMARY:Action Pistol Match
DESCRIPTION:Gate opens at 0800\nSign-in & Safety Briefing at 0830\nRange hot at 0900\nFees:  $5 \nPARTICIPANTS NEED TO BRING:\n– A safe\, functioning handgun (ALL CALIBERS WELCOME)\n– 50-100 rounds of ammunition\n– A holster that covers the gun’s trigger area\n– The entry fee (cash only)
URL:https://poulsbosportsmanclub.org/event/action-pistol-match-2/2027-11-13/
CATEGORIES:Range Activities
END:VEVENT
BEGIN:VEVENT
DTSTART;TZID=America/Los_Angeles:20271113T090000
DTEND;TZID=America/Los_Angeles:20271113T140000
DTSTAMP:20260420T210929
CREATED:20210512T044813Z
LAST-MODIFIED:20210512T044813Z
UID:10003646-1826096400-1826114400@poulsbosportsmanclub.org
SUMMARY:Shotgun / 5 Stand
DESCRIPTION:Saturdays from 9am to 2pm
URL:https://poulsbosportsmanclub.org/event/shotgun-5-stand/2027-11-13/
LOCATION:Poulsbo Sportsman Club\, 16990 Clear Creek Road\, Poulsbo\, WA\, 98370\, United States
CATEGORIES:Range Activities
END:VEVENT
BEGIN:VEVENT
DTSTART;TZID=America/Los_Angeles:20271117T090000
DTEND;TZID=America/Los_Angeles:20271117T130000
DTSTAMP:20260420T210929
CREATED:20210512T044534Z
LAST-MODIFIED:20220109T180655Z
UID:10001491-1826442000-1826456400@poulsbosportsmanclub.org
SUMMARY:Shotgun/Trap
DESCRIPTION:9 am to 1 pm Wednesdays and Thursdays
URL:https://poulsbosportsmanclub.org/event/shotgun-trap/2027-11-17/
LOCATION:Poulsbo Sportsman Club\, 16990 Clear Creek Road\, Poulsbo\, WA\, 98370\, United States
CATEGORIES:Range Activities
END:VEVENT
BEGIN:VEVENT
DTSTART;TZID=America/Los_Angeles:20271117T170000
DTEND;TZID=America/Los_Angeles:20271117T190000
DTSTAMP:20260420T210929
CREATED:20250617T014026Z
LAST-MODIFIED:20250617T014026Z
UID:10005778-1826470800-1826478000@poulsbosportsmanclub.org
SUMMARY:Women’s After Hours
DESCRIPTION:
URL:https://poulsbosportsmanclub.org/event/womens-after-hours/2027-11-17/
CATEGORIES:Range Activities
END:VEVENT
BEGIN:VEVENT
DTSTART;TZID=America/Los_Angeles:20271117T180000
DTEND;TZID=America/Los_Angeles:20271117T200000
DTSTAMP:20260420T210929
CREATED:20201230T221706Z
LAST-MODIFIED:20220118T030956Z
UID:10003286-1826474400-1826481600@poulsbosportsmanclub.org
SUMMARY:Bremerton Brigade Meeting in Clubhouse
DESCRIPTION:
URL:https://poulsbosportsmanclub.org/event/bremerton-brigade-meeting-in-clubhouse/2027-11-17/
CATEGORIES:Range Activities
END:VEVENT
BEGIN:VEVENT
DTSTART;TZID=America/Los_Angeles:20271118T090000
DTEND;TZID=America/Los_Angeles:20271118T130000
DTSTAMP:20260420T210929
CREATED:20210512T044534Z
LAST-MODIFIED:20220109T180655Z
UID:10001492-1826528400-1826542800@poulsbosportsmanclub.org
SUMMARY:Shotgun/Trap
DESCRIPTION:9 am to 1 pm Wednesdays and Thursdays
URL:https://poulsbosportsmanclub.org/event/shotgun-trap/2027-11-18/
LOCATION:Poulsbo Sportsman Club\, 16990 Clear Creek Road\, Poulsbo\, WA\, 98370\, United States
CATEGORIES:Range Activities
END:VEVENT
BEGIN:VEVENT
DTSTART;TZID=America/Los_Angeles:20271119T090000
DTEND;TZID=America/Los_Angeles:20271119T130000
DTSTAMP:20260420T210929
CREATED:20240925T031616Z
LAST-MODIFIED:20240925T031616Z
UID:10005626-1826614800-1826629200@poulsbosportsmanclub.org
SUMMARY:Shotgun/Trap Range
DESCRIPTION:
URL:https://poulsbosportsmanclub.org/event/shotgun-trap-range/2027-11-19/
CATEGORIES:Shotgun Range
END:VEVENT
BEGIN:VEVENT
DTSTART;TZID=America/Los_Angeles:20271120T090000
DTEND;TZID=America/Los_Angeles:20271120T090000
DTSTAMP:20260420T210929
CREATED:20200116T223650Z
LAST-MODIFIED:20240402T020024Z
UID:10002104-1826701200-1826701200@poulsbosportsmanclub.org
SUMMARY:22 LR Silhouette - 100 and 200 yard range
DESCRIPTION:Silhouette | Poulsbo Sportsman Club
URL:https://poulsbosportsmanclub.org/event/22-lr-silhouette-100-and-200-yard-range-2-2022-06-18/2027-11-20/
CATEGORIES:Range Activities
END:VEVENT
BEGIN:VEVENT
DTSTART;TZID=America/Los_Angeles:20271120T090000
DTEND;TZID=America/Los_Angeles:20271120T140000
DTSTAMP:20260420T210929
CREATED:20210512T044813Z
LAST-MODIFIED:20210512T044813Z
UID:10003647-1826701200-1826719200@poulsbosportsmanclub.org
SUMMARY:Shotgun / 5 Stand
DESCRIPTION:Saturdays from 9am to 2pm
URL:https://poulsbosportsmanclub.org/event/shotgun-5-stand/2027-11-20/
LOCATION:Poulsbo Sportsman Club\, 16990 Clear Creek Road\, Poulsbo\, WA\, 98370\, United States
CATEGORIES:Range Activities
END:VEVENT
BEGIN:VEVENT
DTSTART;TZID=America/Los_Angeles:20271124T090000
DTEND;TZID=America/Los_Angeles:20271124T130000
DTSTAMP:20260420T210929
CREATED:20210512T044534Z
LAST-MODIFIED:20220109T180655Z
UID:10001493-1827046800-1827061200@poulsbosportsmanclub.org
SUMMARY:Shotgun/Trap
DESCRIPTION:9 am to 1 pm Wednesdays and Thursdays
URL:https://poulsbosportsmanclub.org/event/shotgun-trap/2027-11-24/
LOCATION:Poulsbo Sportsman Club\, 16990 Clear Creek Road\, Poulsbo\, WA\, 98370\, United States
CATEGORIES:Range Activities
END:VEVENT
BEGIN:VEVENT
DTSTART;TZID=America/Los_Angeles:20271125T090000
DTEND;TZID=America/Los_Angeles:20271125T130000
DTSTAMP:20260420T210929
CREATED:20210512T044534Z
LAST-MODIFIED:20220109T180655Z
UID:10001494-1827133200-1827147600@poulsbosportsmanclub.org
SUMMARY:Shotgun/Trap
DESCRIPTION:9 am to 1 pm Wednesdays and Thursdays
URL:https://poulsbosportsmanclub.org/event/shotgun-trap/2027-11-25/
LOCATION:Poulsbo Sportsman Club\, 16990 Clear Creek Road\, Poulsbo\, WA\, 98370\, United States
CATEGORIES:Range Activities
END:VEVENT
BEGIN:VEVENT
DTSTART;TZID=America/Los_Angeles:20271126T090000
DTEND;TZID=America/Los_Angeles:20271126T130000
DTSTAMP:20260420T210929
CREATED:20240925T031616Z
LAST-MODIFIED:20240925T031616Z
UID:10005627-1827219600-1827234000@poulsbosportsmanclub.org
SUMMARY:Shotgun/Trap Range
DESCRIPTION:
URL:https://poulsbosportsmanclub.org/event/shotgun-trap-range/2027-11-26/
CATEGORIES:Shotgun Range
END:VEVENT
BEGIN:VEVENT
DTSTART;TZID=America/Los_Angeles:20271127T090000
DTEND;TZID=America/Los_Angeles:20271127T140000
DTSTAMP:20260420T210929
CREATED:20210512T044813Z
LAST-MODIFIED:20210512T044813Z
UID:10003648-1827306000-1827324000@poulsbosportsmanclub.org
SUMMARY:Shotgun / 5 Stand
DESCRIPTION:Saturdays from 9am to 2pm
URL:https://poulsbosportsmanclub.org/event/shotgun-5-stand/2027-11-27/
LOCATION:Poulsbo Sportsman Club\, 16990 Clear Creek Road\, Poulsbo\, WA\, 98370\, United States
CATEGORIES:Range Activities
END:VEVENT
BEGIN:VEVENT
DTSTART;TZID=America/Los_Angeles:20271128T090000
DTEND;TZID=America/Los_Angeles:20271128T120000
DTSTAMP:20260420T210929
CREATED:20260323T030837Z
LAST-MODIFIED:20260323T030837Z
UID:10005896-1827392400-1827403200@poulsbosportsmanclub.org
SUMMARY:Poulsbo Pistoleros Cowboy Action Shooters
DESCRIPTION:Sign-in starts at 9:00 \nEvent starts at 10:00
URL:https://poulsbosportsmanclub.org/event/poulsbo-pistoleros-cowboy-action-shooters/2027-11-28/
LOCATION:Poulsbo Sportsman Club\, 16990 Clear Creek Road\, Poulsbo\, WA\, 98370\, United States
CATEGORIES:Range Activities
END:VEVENT
BEGIN:VEVENT
DTSTART;TZID=America/Los_Angeles:20271201T080000
DTEND;TZID=America/Los_Angeles:20271201T170000
DTSTAMP:20260420T210929
CREATED:20250617T014208Z
LAST-MODIFIED:20250617T014208Z
UID:10005839-1827648000-1827680400@poulsbosportsmanclub.org
SUMMARY:Women’s After Hours
DESCRIPTION:
URL:https://poulsbosportsmanclub.org/event/womens-after-hours-2/2027-12-01/
CATEGORIES:Range Activities
END:VEVENT
BEGIN:VEVENT
DTSTART;TZID=America/Los_Angeles:20271201T090000
DTEND;TZID=America/Los_Angeles:20271201T130000
DTSTAMP:20260420T210929
CREATED:20210512T044534Z
LAST-MODIFIED:20220109T180655Z
UID:10001495-1827651600-1827666000@poulsbosportsmanclub.org
SUMMARY:Shotgun/Trap
DESCRIPTION:9 am to 1 pm Wednesdays and Thursdays
URL:https://poulsbosportsmanclub.org/event/shotgun-trap/2027-12-01/
LOCATION:Poulsbo Sportsman Club\, 16990 Clear Creek Road\, Poulsbo\, WA\, 98370\, United States
CATEGORIES:Range Activities
END:VEVENT
BEGIN:VEVENT
DTSTART;TZID=America/Los_Angeles:20271202T090000
DTEND;TZID=America/Los_Angeles:20271202T130000
DTSTAMP:20260420T210929
CREATED:20210512T044534Z
LAST-MODIFIED:20220109T180655Z
UID:10001496-1827738000-1827752400@poulsbosportsmanclub.org
SUMMARY:Shotgun/Trap
DESCRIPTION:9 am to 1 pm Wednesdays and Thursdays
URL:https://poulsbosportsmanclub.org/event/shotgun-trap/2027-12-02/
LOCATION:Poulsbo Sportsman Club\, 16990 Clear Creek Road\, Poulsbo\, WA\, 98370\, United States
CATEGORIES:Range Activities
END:VEVENT
BEGIN:VEVENT
DTSTART;TZID=America/Los_Angeles:20271203T090000
DTEND;TZID=America/Los_Angeles:20271203T130000
DTSTAMP:20260420T210930
CREATED:20240925T031616Z
LAST-MODIFIED:20240925T031616Z
UID:10005628-1827824400-1827838800@poulsbosportsmanclub.org
SUMMARY:Shotgun/Trap Range
DESCRIPTION:
URL:https://poulsbosportsmanclub.org/event/shotgun-trap-range/2027-12-03/
CATEGORIES:Shotgun Range
END:VEVENT
BEGIN:VEVENT
DTSTART;TZID=America/Los_Angeles:20271204T090000
DTEND;TZID=America/Los_Angeles:20271204T140000
DTSTAMP:20260420T210930
CREATED:20210512T044813Z
LAST-MODIFIED:20210512T044813Z
UID:10003649-1827910800-1827928800@poulsbosportsmanclub.org
SUMMARY:Shotgun / 5 Stand
DESCRIPTION:Saturdays from 9am to 2pm
URL:https://poulsbosportsmanclub.org/event/shotgun-5-stand/2027-12-04/
LOCATION:Poulsbo Sportsman Club\, 16990 Clear Creek Road\, Poulsbo\, WA\, 98370\, United States
CATEGORIES:Range Activities
END:VEVENT
END:VCALENDAR