BEGIN:VCALENDAR
VERSION:2.0
PRODID:-//Poulsbo Sportsman Club - ECPv6.15.20//NONSGML v1.0//EN
CALSCALE:GREGORIAN
METHOD:PUBLISH
X-ORIGINAL-URL:https://poulsbosportsmanclub.org
X-WR-CALDESC:Events for Poulsbo Sportsman Club
REFRESH-INTERVAL;VALUE=DURATION:PT1H
X-Robots-Tag:noindex
X-PUBLISHED-TTL:PT1H
BEGIN:VTIMEZONE
TZID:America/Los_Angeles
BEGIN:DAYLIGHT
TZOFFSETFROM:-0800
TZOFFSETTO:-0700
TZNAME:PDT
DTSTART:20260308T100000
END:DAYLIGHT
BEGIN:STANDARD
TZOFFSETFROM:-0700
TZOFFSETTO:-0800
TZNAME:PST
DTSTART:20261101T090000
END:STANDARD
BEGIN:DAYLIGHT
TZOFFSETFROM:-0800
TZOFFSETTO:-0700
TZNAME:PDT
DTSTART:20270314T100000
END:DAYLIGHT
BEGIN:STANDARD
TZOFFSETFROM:-0700
TZOFFSETTO:-0800
TZNAME:PST
DTSTART:20271107T090000
END:STANDARD
BEGIN:DAYLIGHT
TZOFFSETFROM:-0800
TZOFFSETTO:-0700
TZNAME:PDT
DTSTART:20280312T100000
END:DAYLIGHT
BEGIN:STANDARD
TZOFFSETFROM:-0700
TZOFFSETTO:-0800
TZNAME:PST
DTSTART:20281105T090000
END:STANDARD
END:VTIMEZONE
BEGIN:VEVENT
DTSTART;TZID=America/Los_Angeles:20270806T090000
DTEND;TZID=America/Los_Angeles:20270806T130000
DTSTAMP:20260420T112056
CREATED:20240925T031616Z
LAST-MODIFIED:20240925T031616Z
UID:10005611-1817542800-1817557200@poulsbosportsmanclub.org
SUMMARY:Shotgun/Trap Range
DESCRIPTION:
URL:https://poulsbosportsmanclub.org/event/shotgun-trap-range/2027-08-06/
CATEGORIES:Shotgun Range
END:VEVENT
BEGIN:VEVENT
DTSTART;TZID=America/Los_Angeles:20270807T090000
DTEND;TZID=America/Los_Angeles:20270807T140000
DTSTAMP:20260420T112056
CREATED:20210512T044813Z
LAST-MODIFIED:20210512T044813Z
UID:10003632-1817629200-1817647200@poulsbosportsmanclub.org
SUMMARY:Shotgun / 5 Stand
DESCRIPTION:Saturdays from 9am to 2pm
URL:https://poulsbosportsmanclub.org/event/shotgun-5-stand/2027-08-07/
LOCATION:Poulsbo Sportsman Club\, 16990 Clear Creek Road\, Poulsbo\, WA\, 98370\, United States
CATEGORIES:Range Activities
END:VEVENT
BEGIN:VEVENT
DTSTART;TZID=America/Los_Angeles:20270811T090000
DTEND;TZID=America/Los_Angeles:20270811T130000
DTSTAMP:20260420T112056
CREATED:20210512T044534Z
LAST-MODIFIED:20220109T180655Z
UID:10001463-1817974800-1817989200@poulsbosportsmanclub.org
SUMMARY:Shotgun/Trap
DESCRIPTION:9 am to 1 pm Wednesdays and Thursdays
URL:https://poulsbosportsmanclub.org/event/shotgun-trap/2027-08-11/
LOCATION:Poulsbo Sportsman Club\, 16990 Clear Creek Road\, Poulsbo\, WA\, 98370\, United States
CATEGORIES:Range Activities
END:VEVENT
BEGIN:VEVENT
DTSTART;TZID=America/Los_Angeles:20270812T090000
DTEND;TZID=America/Los_Angeles:20270812T130000
DTSTAMP:20260420T112056
CREATED:20210512T044534Z
LAST-MODIFIED:20220109T180655Z
UID:10001464-1818061200-1818075600@poulsbosportsmanclub.org
SUMMARY:Shotgun/Trap
DESCRIPTION:9 am to 1 pm Wednesdays and Thursdays
URL:https://poulsbosportsmanclub.org/event/shotgun-trap/2027-08-12/
LOCATION:Poulsbo Sportsman Club\, 16990 Clear Creek Road\, Poulsbo\, WA\, 98370\, United States
CATEGORIES:Range Activities
END:VEVENT
BEGIN:VEVENT
DTSTART;TZID=America/Los_Angeles:20270813T090000
DTEND;TZID=America/Los_Angeles:20270813T130000
DTSTAMP:20260420T112056
CREATED:20240925T031616Z
LAST-MODIFIED:20240925T031616Z
UID:10005612-1818147600-1818162000@poulsbosportsmanclub.org
SUMMARY:Shotgun/Trap Range
DESCRIPTION:
URL:https://poulsbosportsmanclub.org/event/shotgun-trap-range/2027-08-13/
CATEGORIES:Shotgun Range
END:VEVENT
BEGIN:VEVENT
DTSTART;TZID=America/Los_Angeles:20270814T090000
DTEND;TZID=America/Los_Angeles:20270814T123000
DTSTAMP:20260420T112056
CREATED:20231004T190924Z
LAST-MODIFIED:20240328T011118Z
UID:10003884-1818234000-1818246600@poulsbosportsmanclub.org
SUMMARY:Action Pistol Match
DESCRIPTION:Gate opens at 0800\nSign-in & Safety Briefing at 0830\nRange hot at 0900\nFees:  $5 \nPARTICIPANTS NEED TO BRING:\n– A safe\, functioning handgun (ALL CALIBERS WELCOME)\n– 50-100 rounds of ammunition\n– A holster that covers the gun’s trigger area\n– The entry fee (cash only)
URL:https://poulsbosportsmanclub.org/event/action-pistol-match-2/2027-08-14/
CATEGORIES:Range Activities
END:VEVENT
BEGIN:VEVENT
DTSTART;TZID=America/Los_Angeles:20270814T090000
DTEND;TZID=America/Los_Angeles:20270814T140000
DTSTAMP:20260420T112056
CREATED:20210512T044813Z
LAST-MODIFIED:20210512T044813Z
UID:10003633-1818234000-1818252000@poulsbosportsmanclub.org
SUMMARY:Shotgun / 5 Stand
DESCRIPTION:Saturdays from 9am to 2pm
URL:https://poulsbosportsmanclub.org/event/shotgun-5-stand/2027-08-14/
LOCATION:Poulsbo Sportsman Club\, 16990 Clear Creek Road\, Poulsbo\, WA\, 98370\, United States
CATEGORIES:Range Activities
END:VEVENT
BEGIN:VEVENT
DTSTART;TZID=America/Los_Angeles:20270818T090000
DTEND;TZID=America/Los_Angeles:20270818T130000
DTSTAMP:20260420T112056
CREATED:20210512T044534Z
LAST-MODIFIED:20220109T180655Z
UID:10001465-1818579600-1818594000@poulsbosportsmanclub.org
SUMMARY:Shotgun/Trap
DESCRIPTION:9 am to 1 pm Wednesdays and Thursdays
URL:https://poulsbosportsmanclub.org/event/shotgun-trap/2027-08-18/
LOCATION:Poulsbo Sportsman Club\, 16990 Clear Creek Road\, Poulsbo\, WA\, 98370\, United States
CATEGORIES:Range Activities
END:VEVENT
BEGIN:VEVENT
DTSTART;TZID=America/Los_Angeles:20270818T170000
DTEND;TZID=America/Los_Angeles:20270818T190000
DTSTAMP:20260420T112056
CREATED:20250617T014026Z
LAST-MODIFIED:20250617T014026Z
UID:10005775-1818608400-1818615600@poulsbosportsmanclub.org
SUMMARY:Women’s After Hours
DESCRIPTION:
URL:https://poulsbosportsmanclub.org/event/womens-after-hours/2027-08-18/
CATEGORIES:Range Activities
END:VEVENT
BEGIN:VEVENT
DTSTART;TZID=America/Los_Angeles:20270818T180000
DTEND;TZID=America/Los_Angeles:20270818T200000
DTSTAMP:20260420T112056
CREATED:20201230T221706Z
LAST-MODIFIED:20220118T030956Z
UID:10003283-1818612000-1818619200@poulsbosportsmanclub.org
SUMMARY:Bremerton Brigade Meeting in Clubhouse
DESCRIPTION:
URL:https://poulsbosportsmanclub.org/event/bremerton-brigade-meeting-in-clubhouse/2027-08-18/
CATEGORIES:Range Activities
END:VEVENT
BEGIN:VEVENT
DTSTART;TZID=America/Los_Angeles:20270819T090000
DTEND;TZID=America/Los_Angeles:20270819T130000
DTSTAMP:20260420T112056
CREATED:20210512T044534Z
LAST-MODIFIED:20220109T180655Z
UID:10001466-1818666000-1818680400@poulsbosportsmanclub.org
SUMMARY:Shotgun/Trap
DESCRIPTION:9 am to 1 pm Wednesdays and Thursdays
URL:https://poulsbosportsmanclub.org/event/shotgun-trap/2027-08-19/
LOCATION:Poulsbo Sportsman Club\, 16990 Clear Creek Road\, Poulsbo\, WA\, 98370\, United States
CATEGORIES:Range Activities
END:VEVENT
BEGIN:VEVENT
DTSTART;TZID=America/Los_Angeles:20270820T090000
DTEND;TZID=America/Los_Angeles:20270820T130000
DTSTAMP:20260420T112056
CREATED:20240925T031616Z
LAST-MODIFIED:20240925T031616Z
UID:10005613-1818752400-1818766800@poulsbosportsmanclub.org
SUMMARY:Shotgun/Trap Range
DESCRIPTION:
URL:https://poulsbosportsmanclub.org/event/shotgun-trap-range/2027-08-20/
CATEGORIES:Shotgun Range
END:VEVENT
BEGIN:VEVENT
DTSTART;TZID=America/Los_Angeles:20270821T090000
DTEND;TZID=America/Los_Angeles:20270821T090000
DTSTAMP:20260420T112056
CREATED:20200116T223650Z
LAST-MODIFIED:20240402T020024Z
UID:10002101-1818838800-1818838800@poulsbosportsmanclub.org
SUMMARY:22 LR Silhouette - 100 and 200 yard range
DESCRIPTION:Silhouette | Poulsbo Sportsman Club
URL:https://poulsbosportsmanclub.org/event/22-lr-silhouette-100-and-200-yard-range-2-2022-06-18/2027-08-21/
CATEGORIES:Range Activities
END:VEVENT
BEGIN:VEVENT
DTSTART;TZID=America/Los_Angeles:20270821T090000
DTEND;TZID=America/Los_Angeles:20270821T140000
DTSTAMP:20260420T112056
CREATED:20210512T044813Z
LAST-MODIFIED:20210512T044813Z
UID:10003634-1818838800-1818856800@poulsbosportsmanclub.org
SUMMARY:Shotgun / 5 Stand
DESCRIPTION:Saturdays from 9am to 2pm
URL:https://poulsbosportsmanclub.org/event/shotgun-5-stand/2027-08-21/
LOCATION:Poulsbo Sportsman Club\, 16990 Clear Creek Road\, Poulsbo\, WA\, 98370\, United States
CATEGORIES:Range Activities
END:VEVENT
BEGIN:VEVENT
DTSTART;TZID=America/Los_Angeles:20270822T090000
DTEND;TZID=America/Los_Angeles:20270822T120000
DTSTAMP:20260420T112056
CREATED:20260323T030837Z
LAST-MODIFIED:20260323T030837Z
UID:10005893-1818925200-1818936000@poulsbosportsmanclub.org
SUMMARY:Poulsbo Pistoleros Cowboy Action Shooters
DESCRIPTION:Sign-in starts at 9:00 \nEvent starts at 10:00
URL:https://poulsbosportsmanclub.org/event/poulsbo-pistoleros-cowboy-action-shooters/2027-08-22/
LOCATION:Poulsbo Sportsman Club\, 16990 Clear Creek Road\, Poulsbo\, WA\, 98370\, United States
CATEGORIES:Range Activities
END:VEVENT
BEGIN:VEVENT
DTSTART;TZID=America/Los_Angeles:20270825T090000
DTEND;TZID=America/Los_Angeles:20270825T130000
DTSTAMP:20260420T112056
CREATED:20210512T044534Z
LAST-MODIFIED:20220109T180655Z
UID:10001467-1819184400-1819198800@poulsbosportsmanclub.org
SUMMARY:Shotgun/Trap
DESCRIPTION:9 am to 1 pm Wednesdays and Thursdays
URL:https://poulsbosportsmanclub.org/event/shotgun-trap/2027-08-25/
LOCATION:Poulsbo Sportsman Club\, 16990 Clear Creek Road\, Poulsbo\, WA\, 98370\, United States
CATEGORIES:Range Activities
END:VEVENT
BEGIN:VEVENT
DTSTART;TZID=America/Los_Angeles:20270826T090000
DTEND;TZID=America/Los_Angeles:20270826T130000
DTSTAMP:20260420T112056
CREATED:20210512T044534Z
LAST-MODIFIED:20220109T180655Z
UID:10001468-1819270800-1819285200@poulsbosportsmanclub.org
SUMMARY:Shotgun/Trap
DESCRIPTION:9 am to 1 pm Wednesdays and Thursdays
URL:https://poulsbosportsmanclub.org/event/shotgun-trap/2027-08-26/
LOCATION:Poulsbo Sportsman Club\, 16990 Clear Creek Road\, Poulsbo\, WA\, 98370\, United States
CATEGORIES:Range Activities
END:VEVENT
BEGIN:VEVENT
DTSTART;TZID=America/Los_Angeles:20270827T090000
DTEND;TZID=America/Los_Angeles:20270827T130000
DTSTAMP:20260420T112056
CREATED:20240925T031616Z
LAST-MODIFIED:20240925T031616Z
UID:10005614-1819357200-1819371600@poulsbosportsmanclub.org
SUMMARY:Shotgun/Trap Range
DESCRIPTION:
URL:https://poulsbosportsmanclub.org/event/shotgun-trap-range/2027-08-27/
CATEGORIES:Shotgun Range
END:VEVENT
BEGIN:VEVENT
DTSTART;TZID=America/Los_Angeles:20270828T090000
DTEND;TZID=America/Los_Angeles:20270828T140000
DTSTAMP:20260420T112056
CREATED:20210512T044813Z
LAST-MODIFIED:20210512T044813Z
UID:10003635-1819443600-1819461600@poulsbosportsmanclub.org
SUMMARY:Shotgun / 5 Stand
DESCRIPTION:Saturdays from 9am to 2pm
URL:https://poulsbosportsmanclub.org/event/shotgun-5-stand/2027-08-28/
LOCATION:Poulsbo Sportsman Club\, 16990 Clear Creek Road\, Poulsbo\, WA\, 98370\, United States
CATEGORIES:Range Activities
END:VEVENT
BEGIN:VEVENT
DTSTART;TZID=America/Los_Angeles:20270901T080000
DTEND;TZID=America/Los_Angeles:20270901T170000
DTSTAMP:20260420T112056
CREATED:20250617T014208Z
LAST-MODIFIED:20250617T014208Z
UID:10005836-1819785600-1819818000@poulsbosportsmanclub.org
SUMMARY:Women’s After Hours
DESCRIPTION:
URL:https://poulsbosportsmanclub.org/event/womens-after-hours-2/2027-09-01/
CATEGORIES:Range Activities
END:VEVENT
BEGIN:VEVENT
DTSTART;TZID=America/Los_Angeles:20270901T090000
DTEND;TZID=America/Los_Angeles:20270901T130000
DTSTAMP:20260420T112056
CREATED:20210512T044534Z
LAST-MODIFIED:20220109T180655Z
UID:10001469-1819789200-1819803600@poulsbosportsmanclub.org
SUMMARY:Shotgun/Trap
DESCRIPTION:9 am to 1 pm Wednesdays and Thursdays
URL:https://poulsbosportsmanclub.org/event/shotgun-trap/2027-09-01/
LOCATION:Poulsbo Sportsman Club\, 16990 Clear Creek Road\, Poulsbo\, WA\, 98370\, United States
CATEGORIES:Range Activities
END:VEVENT
BEGIN:VEVENT
DTSTART;TZID=America/Los_Angeles:20270902T090000
DTEND;TZID=America/Los_Angeles:20270902T130000
DTSTAMP:20260420T112056
CREATED:20210512T044534Z
LAST-MODIFIED:20220109T180655Z
UID:10001470-1819875600-1819890000@poulsbosportsmanclub.org
SUMMARY:Shotgun/Trap
DESCRIPTION:9 am to 1 pm Wednesdays and Thursdays
URL:https://poulsbosportsmanclub.org/event/shotgun-trap/2027-09-02/
LOCATION:Poulsbo Sportsman Club\, 16990 Clear Creek Road\, Poulsbo\, WA\, 98370\, United States
CATEGORIES:Range Activities
END:VEVENT
BEGIN:VEVENT
DTSTART;TZID=America/Los_Angeles:20270903T090000
DTEND;TZID=America/Los_Angeles:20270903T130000
DTSTAMP:20260420T112056
CREATED:20240925T031616Z
LAST-MODIFIED:20240925T031616Z
UID:10005615-1819962000-1819976400@poulsbosportsmanclub.org
SUMMARY:Shotgun/Trap Range
DESCRIPTION:
URL:https://poulsbosportsmanclub.org/event/shotgun-trap-range/2027-09-03/
CATEGORIES:Shotgun Range
END:VEVENT
BEGIN:VEVENT
DTSTART;TZID=America/Los_Angeles:20270904T090000
DTEND;TZID=America/Los_Angeles:20270904T140000
DTSTAMP:20260420T112056
CREATED:20210512T044813Z
LAST-MODIFIED:20210512T044813Z
UID:10003636-1820048400-1820066400@poulsbosportsmanclub.org
SUMMARY:Shotgun / 5 Stand
DESCRIPTION:Saturdays from 9am to 2pm
URL:https://poulsbosportsmanclub.org/event/shotgun-5-stand/2027-09-04/
LOCATION:Poulsbo Sportsman Club\, 16990 Clear Creek Road\, Poulsbo\, WA\, 98370\, United States
CATEGORIES:Range Activities
END:VEVENT
BEGIN:VEVENT
DTSTART;TZID=America/Los_Angeles:20270905T090000
DTEND;TZID=America/Los_Angeles:20270905T120000
DTSTAMP:20260420T112056
CREATED:20231016T154129Z
LAST-MODIFIED:20241125T172545Z
UID:10003816-1820134800-1820145600@poulsbosportsmanclub.org
SUMMARY:Bremerton Brigade Monthly Shoot
DESCRIPTION:Shooters meet at Black Powder range gazebo at 0900 for safety brief followed by the event. Winners determined after event which usually ends by noon unless a working party is called.
URL:https://poulsbosportsmanclub.org/event/black-powder-shoot-2-2021-10-03/2027-09-05/
LOCATION:Primitive Range\, 16990 Clear Creek Road\, Poulsbo\, 98370\, United States
CATEGORIES:Range Activities
END:VEVENT
BEGIN:VEVENT
DTSTART;TZID=America/Los_Angeles:20270907T183000
DTEND;TZID=America/Los_Angeles:20270907T193000
DTSTAMP:20260420T112056
CREATED:20240729T135302Z
LAST-MODIFIED:20240729T135302Z
UID:10005437-1820341800-1820345400@poulsbosportsmanclub.org
SUMMARY:General Membership Meeting
DESCRIPTION:Members only. Discuss club business. Identity needs and resources. Encourage participation and support from club members.
URL:https://poulsbosportsmanclub.org/event/general-membership-meeting/2027-09-07/
END:VEVENT
BEGIN:VEVENT
DTSTART;TZID=America/Los_Angeles:20270908T090000
DTEND;TZID=America/Los_Angeles:20270908T130000
DTSTAMP:20260420T112056
CREATED:20210512T044534Z
LAST-MODIFIED:20220109T180655Z
UID:10001471-1820394000-1820408400@poulsbosportsmanclub.org
SUMMARY:Shotgun/Trap
DESCRIPTION:9 am to 1 pm Wednesdays and Thursdays
URL:https://poulsbosportsmanclub.org/event/shotgun-trap/2027-09-08/
LOCATION:Poulsbo Sportsman Club\, 16990 Clear Creek Road\, Poulsbo\, WA\, 98370\, United States
CATEGORIES:Range Activities
END:VEVENT
BEGIN:VEVENT
DTSTART;TZID=America/Los_Angeles:20270909T090000
DTEND;TZID=America/Los_Angeles:20270909T130000
DTSTAMP:20260420T112056
CREATED:20210512T044534Z
LAST-MODIFIED:20220109T180655Z
UID:10001472-1820480400-1820494800@poulsbosportsmanclub.org
SUMMARY:Shotgun/Trap
DESCRIPTION:9 am to 1 pm Wednesdays and Thursdays
URL:https://poulsbosportsmanclub.org/event/shotgun-trap/2027-09-09/
LOCATION:Poulsbo Sportsman Club\, 16990 Clear Creek Road\, Poulsbo\, WA\, 98370\, United States
CATEGORIES:Range Activities
END:VEVENT
BEGIN:VEVENT
DTSTART;TZID=America/Los_Angeles:20270910T090000
DTEND;TZID=America/Los_Angeles:20270910T130000
DTSTAMP:20260420T112056
CREATED:20240925T031616Z
LAST-MODIFIED:20240925T031616Z
UID:10005616-1820566800-1820581200@poulsbosportsmanclub.org
SUMMARY:Shotgun/Trap Range
DESCRIPTION:
URL:https://poulsbosportsmanclub.org/event/shotgun-trap-range/2027-09-10/
CATEGORIES:Shotgun Range
END:VEVENT
BEGIN:VEVENT
DTSTART;TZID=America/Los_Angeles:20270911T090000
DTEND;TZID=America/Los_Angeles:20270911T123000
DTSTAMP:20260420T112056
CREATED:20231004T190924Z
LAST-MODIFIED:20240328T011118Z
UID:10003885-1820653200-1820665800@poulsbosportsmanclub.org
SUMMARY:Action Pistol Match
DESCRIPTION:Gate opens at 0800\nSign-in & Safety Briefing at 0830\nRange hot at 0900\nFees:  $5 \nPARTICIPANTS NEED TO BRING:\n– A safe\, functioning handgun (ALL CALIBERS WELCOME)\n– 50-100 rounds of ammunition\n– A holster that covers the gun’s trigger area\n– The entry fee (cash only)
URL:https://poulsbosportsmanclub.org/event/action-pistol-match-2/2027-09-11/
CATEGORIES:Range Activities
END:VEVENT
END:VCALENDAR