BEGIN:VCALENDAR
VERSION:2.0
PRODID:-//Poulsbo Sportsman Club - ECPv6.15.20//NONSGML v1.0//EN
CALSCALE:GREGORIAN
METHOD:PUBLISH
X-ORIGINAL-URL:https://poulsbosportsmanclub.org
X-WR-CALDESC:Events for Poulsbo Sportsman Club
REFRESH-INTERVAL;VALUE=DURATION:PT1H
X-Robots-Tag:noindex
X-PUBLISHED-TTL:PT1H
BEGIN:VTIMEZONE
TZID:America/Los_Angeles
BEGIN:DAYLIGHT
TZOFFSETFROM:-0800
TZOFFSETTO:-0700
TZNAME:PDT
DTSTART:20260308T100000
END:DAYLIGHT
BEGIN:STANDARD
TZOFFSETFROM:-0700
TZOFFSETTO:-0800
TZNAME:PST
DTSTART:20261101T090000
END:STANDARD
BEGIN:DAYLIGHT
TZOFFSETFROM:-0800
TZOFFSETTO:-0700
TZNAME:PDT
DTSTART:20270314T100000
END:DAYLIGHT
BEGIN:STANDARD
TZOFFSETFROM:-0700
TZOFFSETTO:-0800
TZNAME:PST
DTSTART:20271107T090000
END:STANDARD
BEGIN:DAYLIGHT
TZOFFSETFROM:-0800
TZOFFSETTO:-0700
TZNAME:PDT
DTSTART:20280312T100000
END:DAYLIGHT
BEGIN:STANDARD
TZOFFSETFROM:-0700
TZOFFSETTO:-0800
TZNAME:PST
DTSTART:20281105T090000
END:STANDARD
END:VTIMEZONE
BEGIN:VEVENT
DTSTART;TZID=America/Los_Angeles:20270430T090000
DTEND;TZID=America/Los_Angeles:20270430T130000
DTSTAMP:20260420T001003
CREATED:20240925T031616Z
LAST-MODIFIED:20240925T031616Z
UID:10005597-1809075600-1809090000@poulsbosportsmanclub.org
SUMMARY:Shotgun/Trap Range
DESCRIPTION:
URL:https://poulsbosportsmanclub.org/event/shotgun-trap-range/2027-04-30/
CATEGORIES:Shotgun Range
END:VEVENT
BEGIN:VEVENT
DTSTART;TZID=America/Los_Angeles:20270501T090000
DTEND;TZID=America/Los_Angeles:20270501T140000
DTSTAMP:20260420T001003
CREATED:20210512T044813Z
LAST-MODIFIED:20210512T044813Z
UID:10003618-1809162000-1809180000@poulsbosportsmanclub.org
SUMMARY:Shotgun / 5 Stand
DESCRIPTION:Saturdays from 9am to 2pm
URL:https://poulsbosportsmanclub.org/event/shotgun-5-stand/2027-05-01/
LOCATION:Poulsbo Sportsman Club\, 16990 Clear Creek Road\, Poulsbo\, WA\, 98370\, United States
CATEGORIES:Range Activities
END:VEVENT
BEGIN:VEVENT
DTSTART;TZID=America/Los_Angeles:20270502T090000
DTEND;TZID=America/Los_Angeles:20270502T120000
DTSTAMP:20260420T001003
CREATED:20231016T154129Z
LAST-MODIFIED:20241125T172545Z
UID:10003812-1809248400-1809259200@poulsbosportsmanclub.org
SUMMARY:Bremerton Brigade Monthly Shoot
DESCRIPTION:Shooters meet at Black Powder range gazebo at 0900 for safety brief followed by the event. Winners determined after event which usually ends by noon unless a working party is called.
URL:https://poulsbosportsmanclub.org/event/black-powder-shoot-2-2021-10-03/2027-05-02/
LOCATION:Primitive Range\, 16990 Clear Creek Road\, Poulsbo\, 98370\, United States
CATEGORIES:Range Activities
END:VEVENT
BEGIN:VEVENT
DTSTART;TZID=America/Los_Angeles:20270504T183000
DTEND;TZID=America/Los_Angeles:20270504T193000
DTSTAMP:20260420T001003
CREATED:20240729T135302Z
LAST-MODIFIED:20240729T135302Z
UID:10005433-1809455400-1809459000@poulsbosportsmanclub.org
SUMMARY:General Membership Meeting
DESCRIPTION:Members only. Discuss club business. Identity needs and resources. Encourage participation and support from club members.
URL:https://poulsbosportsmanclub.org/event/general-membership-meeting/2027-05-04/
END:VEVENT
BEGIN:VEVENT
DTSTART;TZID=America/Los_Angeles:20270505T080000
DTEND;TZID=America/Los_Angeles:20270505T170000
DTSTAMP:20260420T001003
CREATED:20250617T014208Z
LAST-MODIFIED:20250617T014208Z
UID:10005832-1809504000-1809536400@poulsbosportsmanclub.org
SUMMARY:Women’s After Hours
DESCRIPTION:
URL:https://poulsbosportsmanclub.org/event/womens-after-hours-2/2027-05-05/
CATEGORIES:Range Activities
END:VEVENT
BEGIN:VEVENT
DTSTART;TZID=America/Los_Angeles:20270505T090000
DTEND;TZID=America/Los_Angeles:20270505T130000
DTSTAMP:20260420T001003
CREATED:20210512T044534Z
LAST-MODIFIED:20220109T180655Z
UID:10001435-1809507600-1809522000@poulsbosportsmanclub.org
SUMMARY:Shotgun/Trap
DESCRIPTION:9 am to 1 pm Wednesdays and Thursdays
URL:https://poulsbosportsmanclub.org/event/shotgun-trap/2027-05-05/
LOCATION:Poulsbo Sportsman Club\, 16990 Clear Creek Road\, Poulsbo\, WA\, 98370\, United States
CATEGORIES:Range Activities
END:VEVENT
BEGIN:VEVENT
DTSTART;TZID=America/Los_Angeles:20270506T090000
DTEND;TZID=America/Los_Angeles:20270506T130000
DTSTAMP:20260420T001003
CREATED:20210512T044534Z
LAST-MODIFIED:20220109T180655Z
UID:10001436-1809594000-1809608400@poulsbosportsmanclub.org
SUMMARY:Shotgun/Trap
DESCRIPTION:9 am to 1 pm Wednesdays and Thursdays
URL:https://poulsbosportsmanclub.org/event/shotgun-trap/2027-05-06/
LOCATION:Poulsbo Sportsman Club\, 16990 Clear Creek Road\, Poulsbo\, WA\, 98370\, United States
CATEGORIES:Range Activities
END:VEVENT
BEGIN:VEVENT
DTSTART;TZID=America/Los_Angeles:20270507T090000
DTEND;TZID=America/Los_Angeles:20270507T130000
DTSTAMP:20260420T001003
CREATED:20240925T031616Z
LAST-MODIFIED:20240925T031616Z
UID:10005598-1809680400-1809694800@poulsbosportsmanclub.org
SUMMARY:Shotgun/Trap Range
DESCRIPTION:
URL:https://poulsbosportsmanclub.org/event/shotgun-trap-range/2027-05-07/
CATEGORIES:Shotgun Range
END:VEVENT
BEGIN:VEVENT
DTSTART;TZID=America/Los_Angeles:20270508T090000
DTEND;TZID=America/Los_Angeles:20270508T123000
DTSTAMP:20260420T001003
CREATED:20231004T190924Z
LAST-MODIFIED:20240328T011118Z
UID:10003881-1809766800-1809779400@poulsbosportsmanclub.org
SUMMARY:Action Pistol Match
DESCRIPTION:Gate opens at 0800\nSign-in & Safety Briefing at 0830\nRange hot at 0900\nFees:  $5 \nPARTICIPANTS NEED TO BRING:\n– A safe\, functioning handgun (ALL CALIBERS WELCOME)\n– 50-100 rounds of ammunition\n– A holster that covers the gun’s trigger area\n– The entry fee (cash only)
URL:https://poulsbosportsmanclub.org/event/action-pistol-match-2/2027-05-08/
CATEGORIES:Range Activities
END:VEVENT
BEGIN:VEVENT
DTSTART;TZID=America/Los_Angeles:20270508T090000
DTEND;TZID=America/Los_Angeles:20270508T140000
DTSTAMP:20260420T001003
CREATED:20210512T044813Z
LAST-MODIFIED:20210512T044813Z
UID:10003619-1809766800-1809784800@poulsbosportsmanclub.org
SUMMARY:Shotgun / 5 Stand
DESCRIPTION:Saturdays from 9am to 2pm
URL:https://poulsbosportsmanclub.org/event/shotgun-5-stand/2027-05-08/
LOCATION:Poulsbo Sportsman Club\, 16990 Clear Creek Road\, Poulsbo\, WA\, 98370\, United States
CATEGORIES:Range Activities
END:VEVENT
BEGIN:VEVENT
DTSTART;TZID=America/Los_Angeles:20270512T090000
DTEND;TZID=America/Los_Angeles:20270512T130000
DTSTAMP:20260420T001003
CREATED:20210512T044534Z
LAST-MODIFIED:20220109T180655Z
UID:10001437-1810112400-1810126800@poulsbosportsmanclub.org
SUMMARY:Shotgun/Trap
DESCRIPTION:9 am to 1 pm Wednesdays and Thursdays
URL:https://poulsbosportsmanclub.org/event/shotgun-trap/2027-05-12/
LOCATION:Poulsbo Sportsman Club\, 16990 Clear Creek Road\, Poulsbo\, WA\, 98370\, United States
CATEGORIES:Range Activities
END:VEVENT
BEGIN:VEVENT
DTSTART;TZID=America/Los_Angeles:20270513T090000
DTEND;TZID=America/Los_Angeles:20270513T130000
DTSTAMP:20260420T001003
CREATED:20210512T044534Z
LAST-MODIFIED:20220109T180655Z
UID:10001438-1810198800-1810213200@poulsbosportsmanclub.org
SUMMARY:Shotgun/Trap
DESCRIPTION:9 am to 1 pm Wednesdays and Thursdays
URL:https://poulsbosportsmanclub.org/event/shotgun-trap/2027-05-13/
LOCATION:Poulsbo Sportsman Club\, 16990 Clear Creek Road\, Poulsbo\, WA\, 98370\, United States
CATEGORIES:Range Activities
END:VEVENT
BEGIN:VEVENT
DTSTART;TZID=America/Los_Angeles:20270514T090000
DTEND;TZID=America/Los_Angeles:20270514T130000
DTSTAMP:20260420T001003
CREATED:20240925T031616Z
LAST-MODIFIED:20240925T031616Z
UID:10005599-1810285200-1810299600@poulsbosportsmanclub.org
SUMMARY:Shotgun/Trap Range
DESCRIPTION:
URL:https://poulsbosportsmanclub.org/event/shotgun-trap-range/2027-05-14/
CATEGORIES:Shotgun Range
END:VEVENT
BEGIN:VEVENT
DTSTART;TZID=America/Los_Angeles:20270515T090000
DTEND;TZID=America/Los_Angeles:20270515T090000
DTSTAMP:20260420T001003
CREATED:20200116T223650Z
LAST-MODIFIED:20240402T020024Z
UID:10002098-1810371600-1810371600@poulsbosportsmanclub.org
SUMMARY:22 LR Silhouette - 100 and 200 yard range
DESCRIPTION:Silhouette | Poulsbo Sportsman Club
URL:https://poulsbosportsmanclub.org/event/22-lr-silhouette-100-and-200-yard-range-2-2022-06-18/2027-05-15/
CATEGORIES:Range Activities
END:VEVENT
BEGIN:VEVENT
DTSTART;TZID=America/Los_Angeles:20270515T090000
DTEND;TZID=America/Los_Angeles:20270515T140000
DTSTAMP:20260420T001003
CREATED:20210512T044813Z
LAST-MODIFIED:20210512T044813Z
UID:10003620-1810371600-1810389600@poulsbosportsmanclub.org
SUMMARY:Shotgun / 5 Stand
DESCRIPTION:Saturdays from 9am to 2pm
URL:https://poulsbosportsmanclub.org/event/shotgun-5-stand/2027-05-15/
LOCATION:Poulsbo Sportsman Club\, 16990 Clear Creek Road\, Poulsbo\, WA\, 98370\, United States
CATEGORIES:Range Activities
END:VEVENT
BEGIN:VEVENT
DTSTART;TZID=America/Los_Angeles:20270519T090000
DTEND;TZID=America/Los_Angeles:20270519T130000
DTSTAMP:20260420T001003
CREATED:20210512T044534Z
LAST-MODIFIED:20220109T180655Z
UID:10001439-1810717200-1810731600@poulsbosportsmanclub.org
SUMMARY:Shotgun/Trap
DESCRIPTION:9 am to 1 pm Wednesdays and Thursdays
URL:https://poulsbosportsmanclub.org/event/shotgun-trap/2027-05-19/
LOCATION:Poulsbo Sportsman Club\, 16990 Clear Creek Road\, Poulsbo\, WA\, 98370\, United States
CATEGORIES:Range Activities
END:VEVENT
BEGIN:VEVENT
DTSTART;TZID=America/Los_Angeles:20270519T170000
DTEND;TZID=America/Los_Angeles:20270519T190000
DTSTAMP:20260420T001003
CREATED:20250617T014026Z
LAST-MODIFIED:20250617T014026Z
UID:10005772-1810746000-1810753200@poulsbosportsmanclub.org
SUMMARY:Women’s After Hours
DESCRIPTION:
URL:https://poulsbosportsmanclub.org/event/womens-after-hours/2027-05-19/
CATEGORIES:Range Activities
END:VEVENT
BEGIN:VEVENT
DTSTART;TZID=America/Los_Angeles:20270519T180000
DTEND;TZID=America/Los_Angeles:20270519T200000
DTSTAMP:20260420T001003
CREATED:20201230T221706Z
LAST-MODIFIED:20220118T030956Z
UID:10003280-1810749600-1810756800@poulsbosportsmanclub.org
SUMMARY:Bremerton Brigade Meeting in Clubhouse
DESCRIPTION:
URL:https://poulsbosportsmanclub.org/event/bremerton-brigade-meeting-in-clubhouse/2027-05-19/
CATEGORIES:Range Activities
END:VEVENT
BEGIN:VEVENT
DTSTART;TZID=America/Los_Angeles:20270520T090000
DTEND;TZID=America/Los_Angeles:20270520T130000
DTSTAMP:20260420T001003
CREATED:20210512T044534Z
LAST-MODIFIED:20220109T180655Z
UID:10001440-1810803600-1810818000@poulsbosportsmanclub.org
SUMMARY:Shotgun/Trap
DESCRIPTION:9 am to 1 pm Wednesdays and Thursdays
URL:https://poulsbosportsmanclub.org/event/shotgun-trap/2027-05-20/
LOCATION:Poulsbo Sportsman Club\, 16990 Clear Creek Road\, Poulsbo\, WA\, 98370\, United States
CATEGORIES:Range Activities
END:VEVENT
BEGIN:VEVENT
DTSTART;TZID=America/Los_Angeles:20270521T090000
DTEND;TZID=America/Los_Angeles:20270521T130000
DTSTAMP:20260420T001003
CREATED:20240925T031616Z
LAST-MODIFIED:20240925T031616Z
UID:10005600-1810890000-1810904400@poulsbosportsmanclub.org
SUMMARY:Shotgun/Trap Range
DESCRIPTION:
URL:https://poulsbosportsmanclub.org/event/shotgun-trap-range/2027-05-21/
CATEGORIES:Shotgun Range
END:VEVENT
BEGIN:VEVENT
DTSTART;TZID=America/Los_Angeles:20270522T090000
DTEND;TZID=America/Los_Angeles:20270522T140000
DTSTAMP:20260420T001003
CREATED:20210512T044813Z
LAST-MODIFIED:20210512T044813Z
UID:10003621-1810976400-1810994400@poulsbosportsmanclub.org
SUMMARY:Shotgun / 5 Stand
DESCRIPTION:Saturdays from 9am to 2pm
URL:https://poulsbosportsmanclub.org/event/shotgun-5-stand/2027-05-22/
LOCATION:Poulsbo Sportsman Club\, 16990 Clear Creek Road\, Poulsbo\, WA\, 98370\, United States
CATEGORIES:Range Activities
END:VEVENT
BEGIN:VEVENT
DTSTART;TZID=America/Los_Angeles:20270523T090000
DTEND;TZID=America/Los_Angeles:20270523T120000
DTSTAMP:20260420T001003
CREATED:20260323T030837Z
LAST-MODIFIED:20260323T030837Z
UID:10005890-1811062800-1811073600@poulsbosportsmanclub.org
SUMMARY:Poulsbo Pistoleros Cowboy Action Shooters
DESCRIPTION:Sign-in starts at 9:00 \nEvent starts at 10:00
URL:https://poulsbosportsmanclub.org/event/poulsbo-pistoleros-cowboy-action-shooters/2027-05-23/
LOCATION:Poulsbo Sportsman Club\, 16990 Clear Creek Road\, Poulsbo\, WA\, 98370\, United States
CATEGORIES:Range Activities
END:VEVENT
BEGIN:VEVENT
DTSTART;TZID=America/Los_Angeles:20270526T090000
DTEND;TZID=America/Los_Angeles:20270526T130000
DTSTAMP:20260420T001003
CREATED:20210512T044534Z
LAST-MODIFIED:20220109T180655Z
UID:10001441-1811322000-1811336400@poulsbosportsmanclub.org
SUMMARY:Shotgun/Trap
DESCRIPTION:9 am to 1 pm Wednesdays and Thursdays
URL:https://poulsbosportsmanclub.org/event/shotgun-trap/2027-05-26/
LOCATION:Poulsbo Sportsman Club\, 16990 Clear Creek Road\, Poulsbo\, WA\, 98370\, United States
CATEGORIES:Range Activities
END:VEVENT
BEGIN:VEVENT
DTSTART;TZID=America/Los_Angeles:20270527T090000
DTEND;TZID=America/Los_Angeles:20270527T130000
DTSTAMP:20260420T001003
CREATED:20210512T044534Z
LAST-MODIFIED:20220109T180655Z
UID:10001442-1811408400-1811422800@poulsbosportsmanclub.org
SUMMARY:Shotgun/Trap
DESCRIPTION:9 am to 1 pm Wednesdays and Thursdays
URL:https://poulsbosportsmanclub.org/event/shotgun-trap/2027-05-27/
LOCATION:Poulsbo Sportsman Club\, 16990 Clear Creek Road\, Poulsbo\, WA\, 98370\, United States
CATEGORIES:Range Activities
END:VEVENT
BEGIN:VEVENT
DTSTART;TZID=America/Los_Angeles:20270528T090000
DTEND;TZID=America/Los_Angeles:20270528T130000
DTSTAMP:20260420T001003
CREATED:20240925T031616Z
LAST-MODIFIED:20240925T031616Z
UID:10005601-1811494800-1811509200@poulsbosportsmanclub.org
SUMMARY:Shotgun/Trap Range
DESCRIPTION:
URL:https://poulsbosportsmanclub.org/event/shotgun-trap-range/2027-05-28/
CATEGORIES:Shotgun Range
END:VEVENT
BEGIN:VEVENT
DTSTART;TZID=America/Los_Angeles:20270529T090000
DTEND;TZID=America/Los_Angeles:20270529T140000
DTSTAMP:20260420T001003
CREATED:20210512T044813Z
LAST-MODIFIED:20210512T044813Z
UID:10003622-1811581200-1811599200@poulsbosportsmanclub.org
SUMMARY:Shotgun / 5 Stand
DESCRIPTION:Saturdays from 9am to 2pm
URL:https://poulsbosportsmanclub.org/event/shotgun-5-stand/2027-05-29/
LOCATION:Poulsbo Sportsman Club\, 16990 Clear Creek Road\, Poulsbo\, WA\, 98370\, United States
CATEGORIES:Range Activities
END:VEVENT
BEGIN:VEVENT
DTSTART;TZID=America/Los_Angeles:20270601T183000
DTEND;TZID=America/Los_Angeles:20270601T193000
DTSTAMP:20260420T001003
CREATED:20240729T135302Z
LAST-MODIFIED:20240729T135302Z
UID:10005434-1811874600-1811878200@poulsbosportsmanclub.org
SUMMARY:General Membership Meeting
DESCRIPTION:Members only. Discuss club business. Identity needs and resources. Encourage participation and support from club members.
URL:https://poulsbosportsmanclub.org/event/general-membership-meeting/2027-06-01/
END:VEVENT
BEGIN:VEVENT
DTSTART;TZID=America/Los_Angeles:20270602T080000
DTEND;TZID=America/Los_Angeles:20270602T170000
DTSTAMP:20260420T001003
CREATED:20250617T014208Z
LAST-MODIFIED:20250617T014208Z
UID:10005833-1811923200-1811955600@poulsbosportsmanclub.org
SUMMARY:Women’s After Hours
DESCRIPTION:
URL:https://poulsbosportsmanclub.org/event/womens-after-hours-2/2027-06-02/
CATEGORIES:Range Activities
END:VEVENT
BEGIN:VEVENT
DTSTART;TZID=America/Los_Angeles:20270602T090000
DTEND;TZID=America/Los_Angeles:20270602T130000
DTSTAMP:20260420T001003
CREATED:20210512T044534Z
LAST-MODIFIED:20220109T180655Z
UID:10001443-1811926800-1811941200@poulsbosportsmanclub.org
SUMMARY:Shotgun/Trap
DESCRIPTION:9 am to 1 pm Wednesdays and Thursdays
URL:https://poulsbosportsmanclub.org/event/shotgun-trap/2027-06-02/
LOCATION:Poulsbo Sportsman Club\, 16990 Clear Creek Road\, Poulsbo\, WA\, 98370\, United States
CATEGORIES:Range Activities
END:VEVENT
BEGIN:VEVENT
DTSTART;TZID=America/Los_Angeles:20270603T090000
DTEND;TZID=America/Los_Angeles:20270603T130000
DTSTAMP:20260420T001003
CREATED:20210512T044534Z
LAST-MODIFIED:20220109T180655Z
UID:10001444-1812013200-1812027600@poulsbosportsmanclub.org
SUMMARY:Shotgun/Trap
DESCRIPTION:9 am to 1 pm Wednesdays and Thursdays
URL:https://poulsbosportsmanclub.org/event/shotgun-trap/2027-06-03/
LOCATION:Poulsbo Sportsman Club\, 16990 Clear Creek Road\, Poulsbo\, WA\, 98370\, United States
CATEGORIES:Range Activities
END:VEVENT
END:VCALENDAR