BEGIN:VCALENDAR
VERSION:2.0
PRODID:-//Poulsbo Sportsman Club - ECPv6.15.20//NONSGML v1.0//EN
CALSCALE:GREGORIAN
METHOD:PUBLISH
X-WR-CALNAME:Poulsbo Sportsman Club
X-ORIGINAL-URL:https://poulsbosportsmanclub.org
X-WR-CALDESC:Events for Poulsbo Sportsman Club
REFRESH-INTERVAL;VALUE=DURATION:PT1H
X-Robots-Tag:noindex
X-PUBLISHED-TTL:PT1H
BEGIN:VTIMEZONE
TZID:America/Los_Angeles
BEGIN:DAYLIGHT
TZOFFSETFROM:-0800
TZOFFSETTO:-0700
TZNAME:PDT
DTSTART:20240310T100000
END:DAYLIGHT
BEGIN:STANDARD
TZOFFSETFROM:-0700
TZOFFSETTO:-0800
TZNAME:PST
DTSTART:20241103T090000
END:STANDARD
BEGIN:DAYLIGHT
TZOFFSETFROM:-0800
TZOFFSETTO:-0700
TZNAME:PDT
DTSTART:20250309T100000
END:DAYLIGHT
BEGIN:STANDARD
TZOFFSETFROM:-0700
TZOFFSETTO:-0800
TZNAME:PST
DTSTART:20251102T090000
END:STANDARD
BEGIN:DAYLIGHT
TZOFFSETFROM:-0800
TZOFFSETTO:-0700
TZNAME:PDT
DTSTART:20260308T100000
END:DAYLIGHT
BEGIN:STANDARD
TZOFFSETFROM:-0700
TZOFFSETTO:-0800
TZNAME:PST
DTSTART:20261101T090000
END:STANDARD
END:VTIMEZONE
BEGIN:VEVENT
DTSTART;TZID=America/Los_Angeles:20250921T090000
DTEND;TZID=America/Los_Angeles:20250921T170000
DTSTAMP:20260419T070602
CREATED:20240626T143425Z
LAST-MODIFIED:20250325T163845Z
UID:10005745-1758445200-1758474000@poulsbosportsmanclub.org
SUMMARY:Women on Target Class
DESCRIPTION:To register go to NRA Explore or https://firearmtraining.nra.org/
URL:https://poulsbosportsmanclub.org/event/women-on-target-class/2025-09-21/
LOCATION:WA
CATEGORIES:Range Activities,Training
END:VEVENT
BEGIN:VEVENT
DTSTART;TZID=America/Los_Angeles:20250921T090000
DTEND;TZID=America/Los_Angeles:20250921T170000
DTSTAMP:20260419T070602
CREATED:20250214T011554Z
LAST-MODIFIED:20250325T163542Z
UID:10005740-1758445200-1758474000@poulsbosportsmanclub.org
SUMMARY:Basic Pistol Shooting Class
DESCRIPTION:Register on https://nrainstructors.org. Bring 100-150 rounds of ammunition for the pistol you will shoot with. Fee is $100
URL:https://poulsbosportsmanclub.org/event/basic-pistol-shooting-class/2025-09-21/
LOCATION:Poulsbo Sportsman Club\, 16990 Clear Creek Road\, Poulsbo\, WA\, 98370\, United States
CATEGORIES:Training
ORGANIZER;CN="Mike Snyder":MAILTO:training@poulsbosportsmanclug.org
END:VEVENT
END:VCALENDAR